BEGIN:VCALENDAR
VERSION:2.0
PRODID:-//jEvents 2.0 for Joomla//EN
CALSCALE:GREGORIAN
METHOD:PUBLISH
BEGIN:VEVENT
UID:523067715d42ab61a4b51efd49d17d04
CATEGORIES:APECS Events
CREATED:20221026T145802
SUMMARY:Arctic PASSION webinar on a "Lake ice information service for your pocket"
LOCATION:Online
DESCRIPTION:Get to know the Lake Ice Service tool for your pocket, listen to the curren
 t status of its development as well as our future steps towards the expande
 d service. The Lake Ice Service collects lake ice information from multiple
  sources and visualizes the information in an easily accessible and underst
 andable format website map tool. These information are generated by satelli
 te data, governmental in situ networks as well as Community-Based Monitorin
 g. Among other things, lake ice information is important for our understand
 ing of ice-related changes and climate change. Lake ice is sensitive to int
 ra-annual temperature fluctuations and long-term temperature trends.  Besid
 e the climate change aspect, lake ice data are important for transport, arc
 tic livelihood, and safety issues. The information will be useful for citiz
 ens and local communities as well as for scientific purposes.  The developm
 ent of the Lake Ice Service is part of the Arctic PASSION project and will 
 be further extended and co-designed in cooperation with users. \nSee this p
 age for more information: https://apecs.is/news/apecs-news/5093-upcoming-ar
 ctic-passion-webinar-on-a-lake-ice-information-service-for-your-pocket.html
 \n
X-ALT-DESC;FMTTYPE=text/html:<p>Get to know the Lake Ice Service tool for your pocket, listen to the cur
 rent status of its development as well as our future steps towards the expa
 nded service.&nbsp;The Lake Ice Service collects lake ice information from 
 multiple sources and visualizes the information in an easily accessible and
  understandable format website map tool. These information are generated by
  satellite data, governmental in situ networks as well as Community-Based M
 onitoring. Among other things, lake ice information is important for our un
 derstanding of ice-related changes and climate change. Lake ice is sensitiv
 e to intra-annual temperature fluctuations and long-term temperature trends
 .&nbsp; Beside the climate change aspect, lake ice data are important for t
 ransport, arctic livelihood, and safety issues. The information will be use
 ful for citizens and local communities as well as for scientific purposes.&
 nbsp; The development of the Lake Ice Service is part of the Arctic PASSION
  project and will be further extended and co-designed in cooperation with u
 sers.&nbsp;</p><p>See this page for more information:&nbsp;<a href="https:/
 /apecs.is/news/apecs-news/5093-upcoming-arctic-passion-webinar-on-a-lake-ic
 e-information-service-for-your-pocket.html">https://apecs.is/news/apecs-new
 s/5093-upcoming-arctic-passion-webinar-on-a-lake-ice-information-service-fo
 r-your-pocket.html</a></p>
DTSTAMP:20260420T013001Z
DTSTART;TZID=UTC;VALUE=DATE:20221110
DTEND;TZID=UTC;VALUE=DATE:20221111
SEQUENCE:0
TRANSP:OPAQUE
END:VEVENT
END:VCALENDAR