BEGIN:VCALENDAR
VERSION:2.0
PRODID:-//jEvents 2.0 for Joomla//EN
CALSCALE:GREGORIAN
METHOD:PUBLISH
BEGIN:VEVENT
UID:33f63d67a7fb213c4d31f206338216e2
CATEGORIES:APECS Events
CREATED:20221026T145902
SUMMARY:Upcoming Arctic PASSION webinar on "Arctic Observing Systems"
LOCATION:Online
DESCRIPTION:<p>Have you ever wondered what Arctic observing systems actually are? What 
 do they observe and why do we need them? What does the data tell us for our
  daily lives and how might this be important for your own research? And whi
 ch role does climate monitoring play in the use of Arctic observing systems
 ? This online seminar which is part of our ongoing&nbsp; “Arctic PASSION On
 line Seminar and Dialogue Series” answers these questions - and many more -
  and gives you an introduction to Arctic observing systems.&nbsp;</p><p>In 
 its first part, you will receive an overview of the general structure of Ar
 ctic observing systems and the relevant projects and networks currently wor
 king with them. A special focus will be laid on their current status and po
 ssible future improvements. To this end, you will also get an insight into 
 the Arctic PASSION project whose mission is the implementation of a coheren
 t and integrated Arctic observing system.</p><p>The second part will introd
 uce you to some of the problems researchers encounter when working with Arc
 tic observing systems: The data they produce are scarce, intermittent and r
 arely cover all necessary variables. It then goes on to present you some of
  the possible solutions that projects like Arctic PASSION offer. It not onl
 y enhances planning and coordination across institutions and national progr
 ams but also facilitates applications if you need to work on a research ves
 sel or need to use a drifting sea ice sensor platform for your own research
 . Hereby, examples of progress made in the first phase of the Arctic PASSIO
 N project will be given, along with plans for the coming years.&nbsp;</p><p
 >Last but not least, the third part will focus on the importance and the ro
 le of Indigenous and Local Knowledge. Since Arctic observing systems impact
  policy- and decision-making, they also have a direct impact on Arctic Indi
 genous Peoples. They therefore have an invested interest in ensuring the ob
 serving systems are sufficient and effective. Through Indigenous Knowledge 
 Systems and living in the Arctic, Indigenous Peoples are first to be aware 
 of changes and have a holistic understanding of how changes will have ecosy
 stem-wide impacts. This part will thereby demonstrate why equity is fundame
 ntal to the process of&nbsp;<a href="https://journalhosting.ucalgary.ca/ind
 ex.php/arctic/article/view/74330/55607">SAON ROADS</a>&nbsp;in supporting I
 ndigenous self-determination with decision-making power, as well as to supp
 orting Indigenous Knowledges to be ethically part of the Arctic observing s
 ystems.</p><p>See this page for more information:&nbsp;<a href="https://ape
 cs.is/news/apecs-news/5092-upcoming-arctic-passion-webinar-arctic-observing
 -systems.html">https://apecs.is/news/apecs-news/5092-upcoming-arctic-passio
 n-webinar-arctic-observing-systems.html</a></p>
DTSTAMP:20260420T001054Z
DTSTART;TZID=UTC;VALUE=DATE:20221109
DTEND;TZID=UTC;VALUE=DATE:20221110
SEQUENCE:0
TRANSP:OPAQUE
END:VEVENT
END:VCALENDAR