BEGIN:VCALENDAR
VERSION:2.0
PRODID:-//jEvents 2.0 for Joomla//EN
CALSCALE:GREGORIAN
METHOD:PUBLISH
BEGIN:VEVENT
UID:56a03f9b32cf1cff73e5d11db35f19f2
CATEGORIES:Polar Conferences, Meetings and Events
CREATED:20230316T132638
SUMMARY:OGGM - Global Glacier Modeling Workshop 2023
LOCATION:Edinburgh\, Scotland
DESCRIPTION:The workshop is the 7th in a series that has brought together the community
  of users and developers of the Open Global Glacier Model (OGGM (https://og
 gm.org/2023/02/20/7th-workshop-announcement/oggm.org)). This year’s worksho
 p is organized by colleagues based at <a href="https://www.ed.ac.uk/geoscie
 nces">The University of Edinburgh</a>. It is open to anybody interested in 
 global glacier modeling with focus on active developers and users of OGGM. 
 The primary goal is to discuss the challenges and solutions in modeling gla
 ciers at large scales with OGGM, to learn from each other, and to develop i
 deas and visions for the advancement of the model. The workshop will includ
 e scientific presentations, hands-on coding sessions, discussion/brainstorm
 ing sessions, and generally be held in an informal manner (with a possible 
 hike to a Scottish National park).\n
X-ALT-DESC;FMTTYPE=text/html:<p>The workshop is the 7<sup>th</sup>&nbsp;in a series that has brought tog
 ether the community of users and developers of the Open Global Glacier Mode
 l (<a href="https://oggm.org/2023/02/20/7th-workshop-announcement/oggm.org"
 >OGGM</a>). This year’s workshop is organized by colleagues based at&nbsp;<
 a href="https://www.ed.ac.uk/geosciences">The University of Edinburgh</a>. 
 It is open to anybody interested in global glacier modeling with focus on a
 ctive developers and users of OGGM. The primary goal is to discuss the chal
 lenges and solutions in modeling glaciers at large scales with OGGM, to lea
 rn from each other, and to develop ideas and visions for the advancement of
  the model. The workshop will include scientific presentations, hands-on co
 ding sessions, discussion/brainstorming sessions, and generally be held in 
 an informal manner (with a possible hike to a Scottish National park).</p>
X-EXTRAINFO:https://oggm.org/2023/02/20/7th-workshop-announcement/
DTSTAMP:20260420T180847Z
DTSTART;TZID=UTC;VALUE=DATE:20230828
DTEND;TZID=UTC;VALUE=DATE:20230902
SEQUENCE:0
TRANSP:OPAQUE
END:VEVENT
END:VCALENDAR