BEGIN:VCALENDAR
VERSION:2.0
PRODID:-//jEvents 2.0 for Joomla//EN
CALSCALE:GREGORIAN
METHOD:PUBLISH
BEGIN:VEVENT
UID:0ec5da0e4517a808095ba560dc3bfb69
CATEGORIES:Polar Conferences, Meetings and Events
CREATED:20230316T133005
SUMMARY:GlaMBIE Workshop
LOCATION:Edinburgh\, Scotland
DESCRIPTION:<p>We are pleased to announce that the main workshop of the Glacier Mass Ba
 lance Intercomparison Exercise (GlaMBIE;&nbsp;<a href="https://glambie.org/
 " target="_blank" rel="noopener noreferrer" data-saferedirecturl="https://w
 ww.google.com/url?q=https://glambie.org&amp;source=gmail&amp;ust=1679059022
 660000&amp;usg=AOvVaw33ejaVwDGCsgO64yOw0y4s"></a><a href="https://glambie.o
 rg">https://glambie.org</a>) will take place in Edinburgh, UK, from the 28t
 h to the 30th of August 2023. The workshop is open to the participants of t
 he GlaMBIE exercise and to relevant stakeholders, the workshop will be dedi
 cated to discussing preliminary results after the closing of the data submi
 ssion, and to defining the next steps towards finalising the assessment.<br
  /><br />Within GlaMBIE, we aim for a reconciled assessment of regional and
  global glacier mass changes towards the next IPCC report. A formal announc
 ement for the opening of the main data submission will follow shortly.</p>
X-EXTRAINFO:https://glambie.org/
DTSTAMP:20260420T181037Z
DTSTART;TZID=UTC;VALUE=DATE:20230828
DTEND;TZID=UTC;VALUE=DATE:20230831
SEQUENCE:0
TRANSP:OPAQUE
END:VEVENT
END:VCALENDAR