BEGIN:VCALENDAR
VERSION:2.0
PRODID:-//jEvents 2.0 for Joomla//EN
CALSCALE:GREGORIAN
METHOD:PUBLISH
BEGIN:VEVENT
UID:5ed0db193936b458a5718f8629c0a967
CATEGORIES:Polar Online Events
CREATED:20230316T133510
SUMMARY:Webinar: The Arctic Ocean and Climate Change in a Time of Tension
DESCRIPTION:The uncertainty in Arctic governance that resulted from Russia's invasion o
 f Ukraine has extended beyond geopolitical effects in the region. Sustained
  cooperation amongst the Arctic states, except for Russia, has been key to 
 sustain scientific research after the loss of a large geographic partner. C
 ooperation on the ocean and climate issues in the Arctic will continue to b
 e essential moving forward. What does the future hold for efforts to unders
 tand and steward the Arctic Ocean?\nJoin the Wilson Center's Polar Institut
 e and the Centre for the Ocean and the Arctic (Norway) for a discussion abo
 ut research and ocean-related cooperation in the context of current geopoli
 tical tension.\nSpeakers will include:\n\n - Congresswoman Chellie Pengree 
 (Keynote): Representative (Maine)\n - Ambassador Anniken Ramberg Krutnes (O
 pening Remarks): Ambassador of the Kingdom of Norway to the United States\n
  - Dr. Michael Sfraga: Chair &amp; Distinguished Fellow, Polar Institute/Ch
 air, U.S. Arctic Research Commission\n - Dr. Jane Lubchenco: Deputy Directo
 r for Climate and the Environment, Office of Science and Technology Policy,
  White House\n - Dr. Larry Hinzman: Assistant Director of Polar Sciences, W
 hite House Office of Science and Technology Policy; Executive Director, Int
 eragency Arctic Research Policy Committee (IARPC)\n - Jan-Gunnar Winther: D
 irector, Centre for the Ocean and the Arctic (Norway)\n - Dr. Antje Boetius
 : Director, Alfred Wegener Institute; Professor, University of Bremen; Grou
 p leader; Joint Research Group for Deep-Sea Ecology and Technology, Max Pla
 nck Institute for Marine MicrobiologyThe webinar will be moderated by Evan 
 T. Bloom (Senior Fellow, Polar Institute;\nFormer Acting Deputy Assistant S
 ecretary for Oceans and Fisheries and Director for Ocean and Polar Affairs,
  U.S. Department of State) and Ambassador David Balton (Executive Director,
  Arctic Executive Steering Committee, Office of Science &amp; Technology Po
 licy, White House; former Senior Fellow, Polar Institute, Wilson Center).\n
X-ALT-DESC;FMTTYPE=text/html:<p>The uncertainty in Arctic governance that resulted from Russia's invasio
 n of Ukraine has extended beyond geopolitical effects in the region. Sustai
 ned cooperation amongst the Arctic states, except for Russia, has been key 
 to sustain scientific research after the loss of a large geographic partner
 . Cooperation on the ocean and climate issues in the Arctic will continue t
 o be essential moving forward. What does the future hold for efforts to und
 erstand and steward the Arctic Ocean?</p><p>Join the Wilson Center's Polar 
 Institute and the Centre for the Ocean and the Arctic (Norway) for a discus
 sion about research and ocean-related cooperation in the context of current
  geopolitical tension.</p><p><strong>Speakers will include:</strong></p><ul
 ><li><strong>Congresswoman Chellie Pengree</strong>&nbsp;(Keynote): Represe
 ntative (Maine)</li><li><strong>Ambassador Anniken Ramberg Krutnes</strong>
 &nbsp;(Opening Remarks): Ambassador of the Kingdom of Norway to the United 
 States</li><li><strong>Dr. Michael Sfraga</strong>: Chair &amp; Distinguish
 ed Fellow, Polar Institute/Chair, U.S. Arctic Research Commission</li><li><
 strong>Dr. Jane Lubchenco</strong>: Deputy Director for Climate and the Env
 ironment, Office of Science and Technology Policy, White House</li><li><str
 ong>Dr. Larry Hinzman</strong>: Assistant Director of Polar Sciences, White
  House Office of Science and Technology Policy; Executive Director, Interag
 ency Arctic Research Policy Committee (IARPC)</li><li><strong>Jan-Gunnar Wi
 nther</strong>: Director, Centre for the Ocean and the Arctic (Norway)</li>
 <li><strong>Dr. Antje Boetius</strong>: Director, Alfred Wegener Institute;
  Professor, University of Bremen; Group leader; Joint Research Group for De
 ep-Sea Ecology and Technology, Max Planck Institute for Marine Microbiology
 </li></ul><p>The webinar will be moderated by Evan T. Bloom (Senior Fellow,
  Polar Institute;<br />Former Acting Deputy Assistant Secretary for Oceans 
 and Fisheries and Director for Ocean and Polar Affairs, U.S. Department of 
 State) and Ambassador David Balton (Executive Director, Arctic Executive St
 eering Committee, Office of Science &amp; Technology Policy, White House; f
 ormer Senior Fellow, Polar Institute, Wilson Center).</p>
X-EXTRAINFO:https://www.arcus.org/civicrm/mailing/url?u=41727&amp;qid=7588096
DTSTAMP:20260423T165042Z
DTSTART;TZID=UTC;VALUE=DATE:20230321
DTEND;TZID=UTC;VALUE=DATE:20230322
SEQUENCE:0
TRANSP:OPAQUE
END:VEVENT
END:VCALENDAR