BEGIN:VCALENDAR
VERSION:2.0
PRODID:-//jEvents 2.0 for Joomla//EN
CALSCALE:GREGORIAN
METHOD:PUBLISH
BEGIN:VEVENT
UID:144822e1d364ca2b4999c0bdeae158bc
CATEGORIES:Polar Conferences, Meetings and Events
CREATED:20170224T073556
SUMMARY:The 5th China-Nordic Arctic Cooperation Symposium 2017
LOCATION:Dalian\, China
DESCRIPTION:<p><span style="font-size: 12px; font-family: arial;"><strong>On 24-26 May 
 2017, the 5th China-Nordic Arctic Cooperation Symposium, hosted by Dalian M
 aritime University in collaboration with Polar Research Institute of China,
  will take place in Dalian, a port city in Northern China, with the confere
 nce theme of “<em>Towards the Future: Trans-regional Cooperation in the Arc
 tic: Development and Protection”</em>.</strong></span></p><p>CNARC and Dali
 an Maritime University cordially invite proposals for oral presentations at
  the 5th China-Nordic Arctic Cooperation Symposium. Proposals are welcome f
 rom researchers affiliated with Nordic and Chinese universities, research i
 nstitutes, think tanks and organizations. All presentations will focus on A
 rctic-related issues, within one of the session topics: </p><ul><li><span s
 tyle="font-size: 12px; font-family: arial;"><strong>Session I</strong> Euro
 pe-Asia Connectivity: <em>Promoting the Potential Utilization of Arctic Sea
  Route</em></span></li><li><span style="font-size: 12px; font-family: arial
 ;"><strong>Session II</strong> Interaction between Arctic and Non-arctic re
 gions: <em>Compatibility of Arctic Strategies and Policies</em></span></li>
 <li><span style="font-size: 12px; font-family: arial;"><strong>Session III 
 </strong>Exploring the Way forward in Cooperation: <em>Global Governance of
  the Arctic Ocean </em></span></li></ul><p><span style="font-size: 12px; fo
 nt-family: arial;"><strong>The deadline for abstract submission is on March
  17 2017 </strong>and the abstract (250-400 words) is to be submitted elect
 ronically to: </span></p><ul><li><span style="font-size: 12px; font-family:
  arial;">Mr. Li Zhaokun / Ms. Zhang Shuang, Dalian Maritime University: <sp
 an id="cloak01bf4ec0c3614f4c3dcd1f6a805243cb">This email address is being p
 rotected from spambots. You need JavaScript enabled to view it.</span><scri
 pt type='text/javascript'>
				document.getElementById('cloak01bf4ec0c3614f
 4c3dcd1f6a805243cb').innerHTML = '';
				var prefix = '&#109;a' + 'i&#108;'
  + '&#116;o';
				var path = 'hr' + 'ef' + '=';
				var addy01bf4ec0c3614f4
 c3dcd1f6a805243cb = 'cn&#97;rc2017' + '&#64;';
				addy01bf4ec0c3614f4c3dcd
 1f6a805243cb = addy01bf4ec0c3614f4c3dcd1f6a805243cb + '163' + '&#46;' + 'c&
 #111;m';
				var addy_text01bf4ec0c3614f4c3dcd1f6a805243cb = 'cn&#97;rc2017
 ' + '&#64;' + '163' + '&#46;' + 'c&#111;m';document.getElementById('cloak01
 bf4ec0c3614f4c3dcd1f6a805243cb').innerHTML += '<a ' + path + '\'' + prefix 
 + ':' + addy01bf4ec0c3614f4c3dcd1f6a805243cb + '\' target="_blank">'+addy_t
 ext01bf4ec0c3614f4c3dcd1f6a805243cb+'<\/a>';
		</script></span></li><li><sp
 an style="font-size: 12px; font-family: arial;">Mr. Deng Beixi, CNARC: <spa
 n id="cloak71a532b8fd5c9787311777123fdde8da">This email address is being pr
 otected from spambots. You need JavaScript enabled to view it.</span><scrip
 t type='text/javascript'>
				document.getElementById('cloak71a532b8fd5c978
 7311777123fdde8da').innerHTML = '';
				var prefix = '&#109;a' + 'i&#108;' 
 + '&#116;o';
				var path = 'hr' + 'ef' + '=';
				var addy71a532b8fd5c9787
 311777123fdde8da = 'd&#101;ngb&#101;&#105;x&#105;' + '&#64;';
				addy71a53
 2b8fd5c9787311777123fdde8da = addy71a532b8fd5c9787311777123fdde8da + 'pr&#1
 05;c' + '&#46;' + '&#111;rg' + '&#46;' + 'cn';
				var addy_text71a532b8fd5
 c9787311777123fdde8da = 'd&#101;ngb&#101;&#105;x&#105;' + '&#64;' + 'pr&#10
 5;c' + '&#46;' + '&#111;rg' + '&#46;' + 'cn';document.getElementById('cloak
 71a532b8fd5c9787311777123fdde8da').innerHTML += '<a ' + path + '\'' + prefi
 x + ':' + addy71a532b8fd5c9787311777123fdde8da + '\' target="_blank">'+addy
 _text71a532b8fd5c9787311777123fdde8da+'<\/a>';
		</script></span></li></ul>
X-EXTRAINFO:Please kindly find following the Call for Abstract, which includes a more d
 etailed description of each session\n\nhttp://www.cnarc.info/images/Images/
 Symposia/CNARC2017-cfa.pdf
DTSTAMP:20260424T163506Z
DTSTART;TZID=UTC:20170524T080000
DTEND;TZID=UTC:20170526T080000
SEQUENCE:0
TRANSP:OPAQUE
END:VEVENT
END:VCALENDAR