BEGIN:VCALENDAR
VERSION:2.0
PRODID:-//jEvents 2.0 for Joomla//EN
CALSCALE:GREGORIAN
METHOD:PUBLISH
BEGIN:VEVENT
UID:15ecd35bda75c5bc76c27b9e0c712636
CATEGORIES:APECS Events
CREATED:20230317T115410
SUMMARY:March 2023 Polar Week at Nordnorsk Kunstmuseum
LOCATION:Tromsø\, Norway
DESCRIPTION:Join the Nordnorsk Kunstmuseum and APECS to celebrate the Spring Polar Week
 . Enjoy a guided tour of the exhibitions, focused on life in the north – ex
 ploring the polar region and living in the north. There will be an opportun
 ity to meet and “draw your science” in the Makerspace before the tour begin
 s. Light refreshments will be available. Tour is in English. Event is open 
 to anyone with an interest in life in the north. *Please meet by 18:55 insi
 de the museum to begin the tour at 19:00. APECS will have tables in the Mak
 erspace starting at 18:00 to meet and network over art.\n
X-ALT-DESC;FMTTYPE=text/html:<p>Join the Nordnorsk Kunstmuseum and APECS to celebrate the Spring Polar W
 eek. Enjoy a guided tour of the exhibitions, focused on life in the north –
  exploring the polar region and living in the north. There will be an oppor
 tunity to meet and “draw your science” in the Makerspace before the tour be
 gins. Light refreshments will be available. Tour is in English. Event is op
 en to anyone with an interest in life in the north. *Please meet by 18:55 i
 nside the museum to begin the tour at 19:00. APECS will have tables in the 
 Makerspace starting at 18:00 to meet and network over art.</p>
DTSTAMP:20260420T135019Z
DTSTART;TZID=UTC:20230323T170000
DTEND;TZID=UTC:20230323T190000
SEQUENCE:0
TRANSP:OPAQUE
END:VEVENT
END:VCALENDAR