BEGIN:VCALENDAR
VERSION:2.0
PRODID:-//jEvents 2.0 for Joomla//EN
CALSCALE:GREGORIAN
METHOD:PUBLISH
BEGIN:VEVENT
UID:3a3a86c807305c3232262cb89cbdde0d
CATEGORIES:Polar Conferences, Meetings and Events
CREATED:20230321T111427
SUMMARY:VII Convection Permitting Climate Modelling Workshop
LOCATION:Bergen\, Norway
DESCRIPTION: VII Convection PermittingClimate Modeling 2023  (https://cpm2023.w.uib.no/
 ) will take place on 29-31 August in Bergen, Norway. The focus of the event
  is Mountainous &amp; High-Latitude Regions.\nAbstract submission and appli
 cations for financial support shall be done through a <a href="https://auth
 .oxfordabstracts.com/?redirect=/stages/5403/submitter" data-saferedirecturl
 ="https://www.google.com/url?q=https://auth.oxfordabstracts.com/?redirect%3
 D/stages/5403/submitter&amp;source=gmail&amp;ust=1679483527543000&amp;usg=A
 OvVaw0gmJgsIzRPwKpP6aDAtRLs">single submission portal</a>.\nAbstract submis
 sion\n\n - You can submit an abstract for oral or poster presentation. Only
  one abstract per presenter will be accepted. Abstracts will be evaluated b
 y the science committe (https://cpm2023.w.uib.no/about-cpcm/science-committ
 ee/)\n - On-site poster presentations will be limited to 80 abstracts.\n - 
 How to submit: check the guidelines here <a href="https://cpm2023.w.uib.no/
 participation/abstract-submission/" data-saferedirecturl="https://www.googl
 e.com/url?q=https://cpm2023.w.uib.no/participation/abstract-submission/&amp
 ;source=gmail&amp;ust=1679483527543000&amp;usg=AOvVaw3Pck94NchSVOY2Uns_CnjK
 "></a>https://cpm2023.w.uib.no/participation/abstract-submission/Financial 
 support\n\n - A limited amount of funds will be available to cover part or 
 all of the costs associated with participating in the workshop. \n - Eligib
 le candidates are Master and PhD students, Early Career Researchers and res
 earchers from low-and middle-income countries (LMIC countries: check the <a
  href="https://datatopics.worldbank.org/world-development-indicators/the-wo
 rld-by-income-and-region.html" data-saferedirecturl="https://www.google.com
 /url?q=https://datatopics.worldbank.org/world-development-indicators/the-wo
 rld-by-income-and-region.html&amp;source=gmail&amp;ust=1679483527543000&amp
 ;usg=AOvVaw157UimAT4CeN1u-mS2uNfj">list here)</a>\n - Applications for fina
 ncial support will be considered only upon an abstract submission \n - How 
 to apply: Check the guidelines here  (https://cpm2023.w.uib.no/participatio
 n/financial-support/)<a href="https://cpm2023.w.uib.no/participation/financ
 ial-support/">https://cpm2023.w.uib.no/participation/financial-support/</a>
X-ALT-DESC;FMTTYPE=text/html:<p>&nbsp;<a href="https://cpm2023.w.uib.no/" data-saferedirecturl="https://
 www.google.com/url?q=https://cpm2023.w.uib.no/&amp;source=gmail&amp;ust=167
 9483527543000&amp;usg=AOvVaw0VISJFII3pQk_LJ1ABCK4e">VII Convection Permitti
 ngClimate Modeling 2023&nbsp;</a>&nbsp;will take place on 29-31 August in B
 ergen, Norway. The focus of the event is Mountainous &amp; High-Latitude Re
 gions.</p><p>Abstract submission and applications for financial support sha
 ll be done through a&nbsp;<a href="https://auth.oxfordabstracts.com/?redire
 ct=/stages/5403/submitter" data-saferedirecturl="https://www.google.com/url
 ?q=https://auth.oxfordabstracts.com/?redirect%3D/stages/5403/submitter&amp;
 source=gmail&amp;ust=1679483527543000&amp;usg=AOvVaw0gmJgsIzRPwKpP6aDAtRLs"
 >single submission portal</a><em>.</em></p><p><strong>Abstract submission</
 strong></p><ul><li>You can submit an abstract for oral or poster presentati
 on. Only one abstract per presenter will be accepted. Abstracts will be eva
 luated by the&nbsp;<a href="https://cpm2023.w.uib.no/about-cpcm/science-com
 mittee/" data-saferedirecturl="https://www.google.com/url?q=https://cpm2023
 .w.uib.no/about-cpcm/science-committee/&amp;source=gmail&amp;ust=1679483527
 543000&amp;usg=AOvVaw3CeeH6v8-aezugr5FXZFEl">science committe</a></li><li><
 strong>On-site poster presentations</strong>&nbsp;will be limited to&nbsp;8
 0 abstracts.</li><li><em>How to submit</em>: check the guidelines here&nbsp
 ;<a href="https://cpm2023.w.uib.no/participation/abstract-submission/" data
 -saferedirecturl="https://www.google.com/url?q=https://cpm2023.w.uib.no/par
 ticipation/abstract-submission/&amp;source=gmail&amp;ust=1679483527543000&a
 mp;usg=AOvVaw3Pck94NchSVOY2Uns_CnjK"></a><a href="https://cpm2023.w.uib.no/
 participation/abstract-submission/">https://cpm2023.w.uib.no/participation/
 abstract-submission/</a></li></ul><p><strong>Financial support</strong></p>
 <ul><li>A limited amount of funds will be available&nbsp;to cover&nbsp;part
  or all&nbsp;of the costs associated with participating in the workshop.&nb
 sp;</li><li>Eligible candidates are&nbsp;Master and PhD students,&nbsp;Earl
 y Career Researchers&nbsp;and researchers from low-and middle-income countr
 ies&nbsp;(LMIC countries:&nbsp;check the&nbsp;<a href="https://datatopics.w
 orldbank.org/world-development-indicators/the-world-by-income-and-region.ht
 ml" data-saferedirecturl="https://www.google.com/url?q=https://datatopics.w
 orldbank.org/world-development-indicators/the-world-by-income-and-region.ht
 ml&amp;source=gmail&amp;ust=1679483527543000&amp;usg=AOvVaw157UimAT4CeN1u-m
 S2uNfj">list here)</a></li><li>Applications&nbsp;for financial support&nbsp
 ;will be considered only upon an abstract submission&nbsp;</li><li><em>How 
 to apply</em>: Check the guidelines here&nbsp;<a href="https://cpm2023.w.ui
 b.no/participation/financial-support/" data-saferedirecturl="https://www.go
 ogle.com/url?q=https://cpm2023.w.uib.no/participation/financial-support/&am
 p;source=gmail&amp;ust=1679483527543000&amp;usg=AOvVaw1QnoLe-o-2ENEU_SI3wVD
 A"></a><a href="https://cpm2023.w.uib.no/participation/financial-support/">
 https://cpm2023.w.uib.no/participation/financial-support/</a></li></ul>
DTSTAMP:20260420T180909Z
DTSTART;TZID=UTC;VALUE=DATE:20230829
DTEND;TZID=UTC;VALUE=DATE:20230901
SEQUENCE:0
TRANSP:OPAQUE
END:VEVENT
END:VCALENDAR