BEGIN:VCALENDAR
VERSION:2.0
PRODID:-//jEvents 2.0 for Joomla//EN
CALSCALE:GREGORIAN
METHOD:PUBLISH
BEGIN:VEVENT
UID:526f6073490d45d285ac5c97a50c51be
CATEGORIES:Polar Conferences, Meetings and Events
CREATED:20230325T155538
SUMMARY:West Antarctic Ice Sheet (WAIS) Workshop
LOCATION:Minnesota\, USA
DESCRIPTION:<div class="gmail_default">The West Antarctic Ice Sheet (WAIS) Workshop Org
 anizing Committee is pleased to announce that the 2023 WAIS Workshop will t
 ake place September 25-28, 2023, at the University of Minnesota's&nbsp;<a h
 ref="https://cfc.cfans.umn.edu/" target="_blank" rel="noopener" data-safere
 directurl="https://www.google.com/url?q=https://cfc.cfans.umn.edu/&amp;sour
 ce=gmail&amp;ust=1679845721661000&amp;usg=AOvVaw1jzEScvbeh7OGHDx6JKv_-">Clo
 quet Forestry Center</a>&nbsp;just outside Duluth, MN, USA. Sponsored by th
 e National Science Foundation and NASA, the workshop focuses on marine ice-
 sheet and adjacent earth systems, with particular emphasis on the West Anta
 rctic Ice Sheet. As a reminder, recordings from the 2022 WAIS Workshop are&
 nbsp;available on YouTube. Previous years' talks are also online and past a
 gendas are available at&nbsp;<a href="http://waisworkshop.org/" target="_bl
 ank" rel="noopener" data-saferedirecturl="https://www.google.com/url?q=http
 ://waisworkshop.org&amp;source=gmail&amp;ust=1679845721661000&amp;usg=AOvVa
 w3Ig-Tx6MIaWKu6-kx9kPRc">waisworkshop.org</a>. The website will be updated 
 with additional information about WAIS 2023 as it becomes available.</div><
 div class="gmail_default"><br clear="all" /></div><div class="gmail_default
 ">We look forward to welcoming you to Minnesota! To stay up-to-date on all 
 things WAIS Workshop, sign up for our email distribution list&nbsp;<a href=
 "https://nam04.safelinks.protection.outlook.com/?url=http%3A%2F%2Feepurl.co
 m%2FhHDpVL&amp;data=04%7C01%7Csiegfried%40mines.edu%7C52a2d94a0acc496a7f830
 8d988f932a5%7C997209e009b346239a4d76afa44a675c%7C0%7C0%7C637691426141605224
 %7CUnknown%7CTWFpbGZsb3d8eyJWIjoiMC4wLjAwMDAiLCJQIjoiV2luMzIiLCJBTiI6Ik1haW
 wiLCJXVCI6Mn0%3D%7C1000&amp;sdata=hLYsYIrxXcWzpRuGU4IRwI6KBN5FIEtFWCl%2B8bU
 Lkww%3D&amp;reserved=0" target="_blank" rel="noopener" data-saferedirecturl
 ="https://www.google.com/url?q=https://nam04.safelinks.protection.outlook.c
 om/?url%3Dhttp%253A%252F%252Feepurl.com%252FhHDpVL%26data%3D04%257C01%257Cs
 iegfried%2540mines.edu%257C52a2d94a0acc496a7f8308d988f932a5%257C997209e009b
 346239a4d76afa44a675c%257C0%257C0%257C637691426141605224%257CUnknown%257CTW
 FpbGZsb3d8eyJWIjoiMC4wLjAwMDAiLCJQIjoiV2luMzIiLCJBTiI6Ik1haWwiLCJXVCI6Mn0%2
 53D%257C1000%26sdata%3DhLYsYIrxXcWzpRuGU4IRwI6KBN5FIEtFWCl%252B8bULkww%253D
 %26reserved%3D0&amp;source=gmail&amp;ust=1679845721661000&amp;usg=AOvVaw1AC
 pRaa2USmpbHKi9EGchK">here</a>.&nbsp;</div>
DTSTAMP:20260420T194028Z
DTSTART;TZID=UTC;VALUE=DATE:20230925
DTEND;TZID=UTC;VALUE=DATE:20230929
SEQUENCE:0
TRANSP:OPAQUE
END:VEVENT
END:VCALENDAR