BEGIN:VCALENDAR
VERSION:2.0
PRODID:-//jEvents 2.0 for Joomla//EN
CALSCALE:GREGORIAN
METHOD:PUBLISH
BEGIN:VEVENT
UID:89abe4c71b1af0a1dbcff8cec981f9d9
CATEGORIES:Polar Conferences, Meetings and Events
CREATED:20230629T090603
SUMMARY:EC-ESA joint earth system science workshop
LOCATION:Frascati\, Italy
DESCRIPTION:<p>The workshop will provide a great networking and collaboration opportuni
 ty for scientists and EU-funded projects. It aims to discuss and identifyin
 g major scientific challenges and research needs and define key scientific 
 priorities for collaborative research and future project funding through ES
 A and the EC.&nbsp;</p><p>Importantly, the results of the discussions will 
 be incorporated into future ESA funding programmes, which will also explici
 tly include funding for joint science consortia.</p>
X-EXTRAINFO:https://essi2023.esa.int
DTSTAMP:20260420T190028Z
DTSTART;TZID=UTC;VALUE=DATE:20231122
DTEND;TZID=UTC;VALUE=DATE:20231125
SEQUENCE:0
TRANSP:OPAQUE
END:VEVENT
END:VCALENDAR