BEGIN:VCALENDAR
VERSION:2.0
PRODID:-//jEvents 2.0 for Joomla//EN
CALSCALE:GREGORIAN
METHOD:PUBLISH
BEGIN:VEVENT
UID:55beb38b9cb17940ff7d55d3bc0be84f
CATEGORIES:Field and Summer Schools
CREATED:20170303T085343
SUMMARY:International Summer School “Monitoring and Early Warnings in Water Governance”
LOCATION:Krasnoyarsk\, Russia
DESCRIPTION:Siberian Federal University (http://www.uarctic.org/member-profiles/russia/
 11219/siberian-federal-university) invites to the International Summer Scho
 ol “Monitoring and Early Warnings in Water Governance” in Krasnoyarsk, Russ
 ia on July 10–23, 2017.\nThe School will be the second in the series of sum
 mer schools to be organized from 2016 to 2018 under the Jean-Monnet project
  “Systems for monitoring and responses to early warnings — EU experience fo
 r Russia”.\nThis year it aims to develop research capacity and enhance scie
 nce-policy interactions for addressing water recourses governance issues in
  Siberia and beyond. The School will be primarily focused on monitoring, re
 porting and verification systems for water and ecosystem management as well
  as recognition of early warnings and sustainable development of resources 
 essential for our planet.\nThe target audience is graduate and post-graduat
 e students, early-stage researchers, civil servants and NGO activists aroun
 d the globe involved in the management of freshwater ecosystems. The partic
 ipants will be engaged in group projects on specific water/aquatic ecosyste
 m-related topics and will be issued a Certificate (3 ECTS) upon completion 
 of the program.\nFirst two days of the School will be held in the SibFU Cam
 pus in the city of Krasnoyarsk. The field research period of the Summer Sch
 ool will be arranged at world-famous Baikal Lake and the Krasnoyarsk water 
 reservoir (Krasnoyarsk Sea) in Russia. The locations provide splendid oppor
 tunities for setting-up case studies encompassing the range of issues to be
  resolved.\nPlease visit the <a href="http://www.sfu-kras.ru/en/education/c
 ourses/ecological-school#tab1" target="_blank">web page of the Summer Schoo
 l</a> or contact us via e-mail This email address is being protected from s
 pambots. You need JavaScript enabled to view it.
				document.getElementByI
 d('cloakbb4ac8d6c184d5e206ed95e3f0b3bb45').innerHTML = '';
				var prefix =
  '&#109;a' + 'i&#108;' + '&#116;o';
				var path = 'hr' + 'ef' + '=';
				v
 ar addybb4ac8d6c184d5e206ed95e3f0b3bb45 = '&#97;g&#97;rm&#97;sh' + '&#64;';
 
				addybb4ac8d6c184d5e206ed95e3f0b3bb45 = addybb4ac8d6c184d5e206ed95e3f0b
 3bb45 + 'sf&#117;-kr&#97;s' + '&#46;' + 'r&#117;';
				var addy_textbb4ac8d
 6c184d5e206ed95e3f0b3bb45 = '&#97;g&#97;rm&#97;sh' + '&#64;' + 'sf&#117;-kr
 &#97;s' + '&#46;' + 'r&#117;';document.getElementById('cloakbb4ac8d6c184d5e
 206ed95e3f0b3bb45').innerHTML += '<a ' + path + '\'' + prefix + ':' + addyb
 b4ac8d6c184d5e206ed95e3f0b3bb45 + '\'>'+addy_textbb4ac8d6c184d5e206ed95e3f0
 b3bb45+'';
		 for more information about the Event and participation terms.
 \nDeadline for applications is April 28, 2017.\nWe look forward to welcomin
 g you to Siberian Federal University in July 2017!\n \nCourse details\nInte
 rnational Summer School “Monitoring and Early Warnings in Water Governance”
 \nAcademic level(s)Bachelor, Master, PhD\nCountry\nRussia\nLanguage of inst
 ruction\nEnglish\nInstitution\nSiberian Federal University\nBegin date\n10.
 07.2017\nEnd date\n23.07.2017\nRegistration deadline\n28.04.2017\nECTS cred
 its\n3.0\nField school\nYes\nFields of study\nWater ecosystems monitoring a
 nd management, environmental science, water resources protection technologi
 es\nTeaching place\nKrasnoyarsk, Irkutsk (Lake Baikal), Russia\nTeaching te
 rm\nSummer\nTags\nWater ecosystems, Baikal, freshwater stocks, environment 
 protection, water pollution, aquatics, ecology\n
X-ALT-DESC;FMTTYPE=text/html:<p><a href="http://www.uarctic.org/member-profiles/russia/11219/siberian-fe
 deral-university" target="_blank">Siberian Federal University</a> invites t
 o the International Summer School “Monitoring and Early Warnings in Water G
 overnance” in Krasnoyarsk, Russia on July 10–23, 2017.</p><p>The School wil
 l be the second in the series of summer schools to be organized from 2016 t
 o 2018 under the Jean-Monnet project “Systems for monitoring and responses 
 to early warnings — EU experience for Russia”.</p><p>This year it aims to d
 evelop research capacity and enhance science-policy interactions for addres
 sing water recourses governance issues in Siberia and beyond. The School wi
 ll be primarily focused on monitoring, reporting and verification systems f
 or water and ecosystem management as well as recognition of early warnings 
 and sustainable development of resources essential for our planet.</p><p><s
 trong>The target audience</strong> is graduate and post-graduate students, 
 early-stage researchers, civil servants and NGO activists around the globe 
 involved in the management of freshwater ecosystems. The participants will 
 be engaged in group projects on specific water/aquatic ecosystem-related to
 pics and will be issued a Certificate (<strong>3 ECTS</strong>) upon comple
 tion of the program.</p><p>First two days of the School will be held in the
  SibFU Campus in the city of Krasnoyarsk. The field research period of the 
 Summer School will be arranged at world-famous Baikal Lake and the Krasnoya
 rsk water reservoir (Krasnoyarsk Sea) in Russia. The locations provide sple
 ndid opportunities for setting-up case studies encompassing the range of is
 sues to be resolved.</p><p>Please visit the <a href="http://www.sfu-kras.ru
 /en/education/courses/ecological-school#tab1" target="_blank">web page of t
 he Summer School</a> or contact us via e-mail <span id="cloakbb4ac8d6c184d5
 e206ed95e3f0b3bb45">This email address is being protected from spambots. Yo
 u need JavaScript enabled to view it.</span><script type='text/javascript'>
 
				document.getElementById('cloakbb4ac8d6c184d5e206ed95e3f0b3bb45').inner
 HTML = '';
				var prefix = '&#109;a' + 'i&#108;' + '&#116;o';
				var path
  = 'hr' + 'ef' + '=';
				var addybb4ac8d6c184d5e206ed95e3f0b3bb45 = '&#97;
 g&#97;rm&#97;sh' + '&#64;';
				addybb4ac8d6c184d5e206ed95e3f0b3bb45 = addy
 bb4ac8d6c184d5e206ed95e3f0b3bb45 + 'sf&#117;-kr&#97;s' + '&#46;' + 'r&#117;
 ';
				var addy_textbb4ac8d6c184d5e206ed95e3f0b3bb45 = '&#97;g&#97;rm&#97;s
 h' + '&#64;' + 'sf&#117;-kr&#97;s' + '&#46;' + 'r&#117;';document.getElemen
 tById('cloakbb4ac8d6c184d5e206ed95e3f0b3bb45').innerHTML += '<a ' + path + 
 '\'' + prefix + ':' + addybb4ac8d6c184d5e206ed95e3f0b3bb45 + '\'>'+addy_tex
 tbb4ac8d6c184d5e206ed95e3f0b3bb45+'<\/a>';
		</script> for more information
  about the Event and participation terms.</p><p><strong>Deadline for applic
 ations is April 28, 2017</strong>.</p><p>We look forward to welcoming you t
 o Siberian Federal University in July 2017!</p><p> </p><p><strong>Course de
 tails</strong></p><p><span style="text-decoration: underline;"><strong>Inte
 rnational Summer School “Monitoring and Early Warnings in Water Governance”
 </strong></span></p><table border="0"><tbody><tr><td width="180"><strong>Ac
 ademic level(s)</strong></td><td width="444"><p>Bachelor, Master, PhD</p></
 td></tr><tr><td width="180"><p><strong>Country</strong></p></td><td width="
 444"><p>Russia</p></td></tr><tr><td width="180"><p><strong>Language of inst
 ruction</strong></p></td><td width="444"><p>English</p></td></tr><tr><td wi
 dth="180"><p><strong>Institution</strong></p></td><td width="444"><p>Siberi
 an Federal University</p></td></tr><tr><td width="180"><p><strong>Begin dat
 e</strong></p></td><td width="444"><p>10.07.2017</p></td></tr><tr><td width
 ="180"><p><strong>End date</strong></p></td><td width="444"><p>23.07.2017</
 p></td></tr><tr><td width="180"><p><strong>Registration deadline</strong></
 p></td><td width="444"><p>28.04.2017</p></td></tr><tr><td width="180"><p><s
 trong>ECTS credits</strong></p></td><td width="444"><p>3.0</p></td></tr><tr
 ><td width="180"><p><strong>Field school</strong></p></td><td width="444"><
 p>Yes</p></td></tr><tr><td width="180"><p><strong>Fields of study</strong><
 /p></td><td width="444"><p>Water ecosystems monitoring and management, envi
 ronmental science, water resources protection technologies</p></td></tr><tr
 ><td width="180"><p><strong>Teaching place</strong></p></td><td width="444"
 ><p>Krasnoyarsk, Irkutsk (Lake Baikal), Russia</p></td></tr><tr><td width="
 180"><p><strong>Teaching term</strong></p></td><td width="444"><p>Summer</p
 ></td></tr><tr><td width="180"><p><strong>Tags</strong></p></td><td width="
 444"><p>Water ecosystems, Baikal, freshwater stocks, environment protection
 , water pollution, aquatics, ecology</p></td></tr></tbody></table>
CONTACT:This email address is being protected from spambots. You need JavaScript enabled to view it.
				document.getElementById('cloaka7e0217a33def1f8e044b6b840adca2a').innerHTML = '';
				var prefix = '&#109;a' + 'i&#108;' + '&#116;o';
				var path = 'hr' + 'ef' + '=';
				var addya7e0217a33def1f8e044b6b840adca2a = '&#97;g&#97;rm&#97;sh' + '&#64;';
				addya7e0217a33def1f8e044b6b840adca2a = addya7e0217a33def1f8e044b6b840adca2a + 'sf&#117;-kr&#97;s' + '&#46;' + 'r&#117;';
				var addy_texta7e0217a33def1f8e044b6b840adca2a = '&#97;g&#97;rm&#97;sh' + '&#64;' + 'sf&#117;-kr&#97;s' + '&#46;' + 'r&#117;';document.getElementById('cloaka7e0217a33def1f8e044b6b840adca2a').innerHTML += '<a ' + path + '\'' + prefix + ':' + addya7e0217a33def1f8e044b6b840adca2a + '\'>'+addy_texta7e0217a33def1f8e044b6b840adca2a+'';
		
DTSTAMP:20260423T091645Z
DTSTART;TZID=UTC:20170710T070000
DTEND;TZID=UTC:20170723T070000
SEQUENCE:0
TRANSP:OPAQUE
END:VEVENT
END:VCALENDAR