BEGIN:VCALENDAR
VERSION:2.0
PRODID:-//jEvents 2.0 for Joomla//EN
CALSCALE:GREGORIAN
METHOD:PUBLISH
BEGIN:VEVENT
UID:98b245514d9023a7212d7fdb19f3ba1d
CATEGORIES:Polar Conferences, Meetings and Events
CREATED:20170303T090653
SUMMARY:International Conference “Ecological and economic problems of development of regions and countries"
LOCATION:Petrozavodsk\, Republic of Karelia\, Russia
DESCRIPTION:Karelian Research Center RAS (http://www.uarctic.org/member-profiles/russia
 /8528/karelian-research-centre-of-the-russian-academy-of-sciences) invites 
 to the 14th International Conference of the Russian Society for Ecological 
 Economics “Ecological and economic problems of development of regions and c
 ountries (sustainable development, management of natural resources)”, to be
  held on July 3-7, 2017 in Petrozavodsk (Republic of Karelia).\nProspective
  thematic areas of the conference:\n\n - environmental policy in Russia and
  around the world;\n - economic instruments for regulating the use of natur
 al resources and environmental protection;\n - ecological and economic prob
 lems of development of northern and border regions;\n - development of meth
 ods for estimation of economic damage from environmental pollution; elimina
 tion of accumulated environmental damage;\n - interactions between authorit
 ies, business and the civil society in dealing with ecological and economic
  problems;\n - environmental and economic problems of Karelia;\n - the prob
 lem of resource- and energy-saving;\n - the effectiveness of nature conserv
 ation activities;\n - ecological-economic modeling in the field of sustaina
 ble development;\n - economic environmental impact assessment and expert re
 view.Important dates:\n\n - Until March 15, 2017. Submission of application
 s and abstracts (200 words max)\n - Until April 1, 2017. Call for papers in
 cluding instructions for authors (4 pages max).\n - Until May 1, 2017. Paym
 ent of conference fee and submission of papers for publication.\n - June 1,
  2017. Publication and dispatch of the preliminary programmeConference lang
 uages - Russian and English.\nInterpretation will be provided during sessio
 ns.\nYou can find more information <a href="http://www.uarctic.org/media/15
 97162/infoletter-karrc-ras-2017.pdf" target="_blank">here</a>.\n
X-ALT-DESC;FMTTYPE=text/html:<p><a href="http://www.uarctic.org/member-profiles/russia/8528/karelian-res
 earch-centre-of-the-russian-academy-of-sciences" target="_blank">Karelian R
 esearch Center RAS</a> invites to the 14th International Conference of the 
 Russian Society for Ecological Economics “Ecological and economic problems 
 of development of regions and countries (sustainable development, managemen
 t of natural resources)”, to be held on July 3-7, 2017 in Petrozavodsk (Rep
 ublic of Karelia).</p><p><strong>Prospective thematic areas of the conferen
 ce:</strong></p><ul><li>environmental policy in Russia and around the world
 ;</li><li>economic instruments for regulating the use of natural resources 
 and environmental protection;</li><li>ecological and economic problems of d
 evelopment of northern and border regions;</li><li>development of methods f
 or estimation of economic damage from environmental pollution; elimination 
 of accumulated environmental damage;</li><li>interactions between authoriti
 es, business and the civil society in dealing with ecological and economic 
 problems;</li><li>environmental and economic problems of Karelia;</li><li>t
 he problem of resource- and energy-saving;</li><li>the effectiveness of nat
 ure conservation activities;</li><li>ecological-economic modeling in the fi
 eld of sustainable development;</li><li>economic environmental impact asses
 sment and expert review.</li></ul><p><strong>Important dates:</strong></p><
 ul><li>Until March 15, 2017. Submission of applications and abstracts (200 
 words max)</li><li>Until April 1, 2017. Call for papers including instructi
 ons for authors (4 pages max).</li><li>Until May 1, 2017. Payment of confer
 ence fee and submission of papers for publication.</li><li>June 1, 2017. Pu
 blication and dispatch of the preliminary programme</li></ul><p>Conference 
 languages - Russian and English.</p><p>Interpretation will be provided duri
 ng sessions.</p><p>You can find more information <a href="http://www.uarcti
 c.org/media/1597162/infoletter-karrc-ras-2017.pdf" target="_blank">here</a>
 .</p>
DTSTAMP:20260420T144934Z
DTSTART;TZID=UTC:20170703T030000
DTEND;TZID=UTC:20170707T030000
SEQUENCE:0
TRANSP:OPAQUE
END:VEVENT
END:VCALENDAR