BEGIN:VCALENDAR
VERSION:2.0
PRODID:-//jEvents 2.0 for Joomla//EN
CALSCALE:GREGORIAN
METHOD:PUBLISH
BEGIN:VEVENT
UID:74b0c3c38e08c78c5688ce8ea023e099
CATEGORIES:Polar Conferences, Meetings and Events
CREATED:20170315T110237
SUMMARY:Panel on ‘Projecting Geopolitics on the Arctic'
LOCATION:University of Bremen
DESCRIPTION:<p style="text-align: center;"><strong>Call for Abstracts</strong><br /><st
 rong>for a proposed panel on ‘Projecting Geopolitics on the Arctic’</strong
 ><br /><strong>at the 5th Open Conference of the ‘International Relations’ 
 Section of the Deutsche Vereinigung für Politikwissenschaft (DVPW), Univers
 ity of Bremen, 4 to 6 October 2017</strong></p><p><strong>Panel Organizer:<
 /strong> Christoph Humrich (University of Groningen), Sebastian Knecht (Fre
 ie Universität Berlin)</p><p><strong>Projecting Geopolitics on the Arctic</
 strong><br />In the past decade, media, political and academic interest in 
 the Arctic as a political region has steadily been on the rise. Climate-ind
 uced geophysical changes in the region, its presumed richness in resources,
  its strategic importance in the wake of increasing tensions between Russia
  and ‘the West’ and its possible future relevance as a maritime transport c
 orridor often make the lead story for research and debate about the politic
 al state of Arctic affairs. Many contributions to the debate make use of th
 e terms ‘geopolitics’ or ‘geopolitical’ to either characterize or highlight
  political interests and conflict constellations in the Arctic, or to use t
 hem as analytical and theoretical concepts. The often invoked ‘return of ge
 opolitics in the Arctic’ has a double-meaning in that regard: A renewed int
 erest in geopolitical ideas and strategies for political action in or with 
 respect to the Arctic region on the one hand, and as a case for academic sc
 rutiny and theoretical reflection that would suggest or even exemplify thes
 e terms, on the other. For both, geopolitical action and geopolitical theor
 y, the Arctic has become a scenery for projecting geopolitics.</p><p>Howeve
 r, the prominence of the term in public and academic discourse seems to hav
 e diluted its overall distinctiveness, analytical precision and theoretical
  substance. If the terms ‘geopolitics’ and ‘geopolitical’ cannot even be su
 bstituted with ‘politics’ and ‘political’ without any loss of meaning, they
  often insinuate little more than the security or economic relevance of Arc
 tic change or connote alarmistic scenarios of the Arctic as a scene for cli
 mate or resource wars, a regional theater of a new ‘Cold War’, or global po
 wer transformation processes. In turn, theoretical assumptions and causal m
 echanisms associated with these scenarios often remain unspecified.</p><p>T
 he proposed panel thus wants to use the example of the Arctic to clarify th
 e analytic potential, theoretical substance and empirical value added of th
 e terms ‘geopolitics’ and ‘geopolitical’. This shall be done, first, in a p
 ositive manner by distinguishing geopolitics as a theoretical research prog
 ram from other international relations (IR) theories so that characteristic
  and distinct assumptions and causal mechanisms or conditioning contexts be
 come visible. On the other hand, a more critical review of current politica
 l science research on the Arctic will have to show whether and where geopol
 itical terminology distorts or obfuscates the empirical analysis rather tha
 n enlightening it. To this end, we ask for innovative papers that:</p><p>de
 velop theoretical hypotheses for political analysis of Arctic affairs, dist
 ill those from the existing IR literature or deduce them from classic or mo
 dern works on geopolitics (and contribute to concept and theory development
 ). The notions of “spill-over” or “proxy conflicts/wars” within a new “Grea
 t Game” could be interesting conceptual venues for probing the value added 
 of geopolitical theory for the Arctic.<br />test or refute such hypotheses 
 in a comparative analysis with other cases inside the Arctic region (includ
 ing also historical comparison with Cold War times or even earlier epochs o
 f Arctic explorations and politics) or with other maritime regions.<br />or
  critically reflect on the usage of the terms ‘geopolitics’ and ‘geopolitic
 al’ in the discourse about Arctic change (either historically or along a co
 nceptual differentiation between popular, formal and practical geopolitics)
  or combine a positive and critical application of the terms in the sense o
 f a critical geopolitics of the Arctic.</p><p><strong>Abstracts</strong> of
  no more than 200 words should be sent to Christoph Humrich (<span id="cloa
 k21cadf545bed2fdbac60641f542ff0bb">This email address is being protected fr
 om spambots. You need JavaScript enabled to view it.</span><script type='te
 xt/javascript'>
				document.getElementById('cloak21cadf545bed2fdbac60641f5
 42ff0bb').innerHTML = '';
				var prefix = '&#109;a' + 'i&#108;' + '&#116;o
 ';
				var path = 'hr' + 'ef' + '=';
				var addy21cadf545bed2fdbac60641f54
 2ff0bb = 'c.h&#117;mr&#105;ch' + '&#64;';
				addy21cadf545bed2fdbac60641f5
 42ff0bb = addy21cadf545bed2fdbac60641f542ff0bb + 'r&#117;g' + '&#46;' + 'nl
 ';
				var addy_text21cadf545bed2fdbac60641f542ff0bb = 'c.h&#117;mr&#105;ch
 ' + '&#64;' + 'r&#117;g' + '&#46;' + 'nl';document.getElementById('cloak21c
 adf545bed2fdbac60641f542ff0bb').innerHTML += '<a ' + path + '\'' + prefix +
  ':' + addy21cadf545bed2fdbac60641f542ff0bb + '\'>'+addy_text21cadf545bed2f
 dbac60641f542ff0bb+'<\/a>';
		</script>) and Sebastian Knecht (<span id="cl
 oak961e2f0df89aac6ba6d1cb8d5b9ca1f9">This email address is being protected 
 from spambots. You need JavaScript enabled to view it.</span><script type='
 text/javascript'>
				document.getElementById('cloak961e2f0df89aac6ba6d1cb8
 d5b9ca1f9').innerHTML = '';
				var prefix = '&#109;a' + 'i&#108;' + '&#116
 ;o';
				var path = 'hr' + 'ef' + '=';
				var addy961e2f0df89aac6ba6d1cb8d
 5b9ca1f9 = 's.kn&#101;cht' + '&#64;';
				addy961e2f0df89aac6ba6d1cb8d5b9ca
 1f9 = addy961e2f0df89aac6ba6d1cb8d5b9ca1f9 + 'tr&#97;nsn&#97;t&#105;&#111;n
 &#97;lst&#117;d&#105;&#101;s' + '&#46;' + '&#101;&#117;';
				var addy_text
 961e2f0df89aac6ba6d1cb8d5b9ca1f9 = 's.kn&#101;cht' + '&#64;' + 'tr&#97;nsn&
 #97;t&#105;&#111;n&#97;lst&#117;d&#105;&#101;s' + '&#46;' + '&#101;&#117;';
 document.getElementById('cloak961e2f0df89aac6ba6d1cb8d5b9ca1f9').innerHTML 
 += '<a ' + path + '\'' + prefix + ':' + addy961e2f0df89aac6ba6d1cb8d5b9ca1f
 9 + '\'>'+addy_text961e2f0df89aac6ba6d1cb8d5b9ca1f9+'<\/a>';
		</script>) b
 y <strong>28 March 2017</strong>. Full-length paper manuscripts are due in 
 late September 2017. Please note that no funding to cover travel and accomm
 odation costs is available for this conference.</p>
CONTACT:Christoph Humrich (This email address is being protected from spambots. You need JavaScript enabled to view it.
				document.getElementById('cloakd66d3ec5e69ae22abe088ac5c33e379a').innerHTML = '';
				var prefix = '&#109;a' + 'i&#108;' + '&#116;o';
				var path = 'hr' + 'ef' + '=';
				var addyd66d3ec5e69ae22abe088ac5c33e379a = 'c.h&#117;mr&#105;ch' + '&#64;';
				addyd66d3ec5e69ae22abe088ac5c33e379a = addyd66d3ec5e69ae22abe088ac5c33e379a + 'r&#117;g' + '&#46;' + 'nl';
				var addy_textd66d3ec5e69ae22abe088ac5c33e379a = 'c.h&#117;mr&#105;ch' + '&#64;' + 'r&#117;g' + '&#46;' + 'nl';document.getElementById('cloakd66d3ec5e69ae22abe088ac5c33e379a').innerHTML += '<a ' + path + '\'' + prefix + ':' + addyd66d3ec5e69ae22abe088ac5c33e379a + '\'>'+addy_textd66d3ec5e69ae22abe088ac5c33e379a+'';
		) and Sebastian Knecht (This email address is being protected from spambots. You need JavaScript enabled to view it.
				document.getElementById('cloak91151e9ce0496ad7d467a5e8bd9a263a').innerHTML = '';
				var prefix = '&#109;a' + 'i&#108;' + '&#116;o';
				var path = 'hr' + 'ef' + '=';
				var addy91151e9ce0496ad7d467a5e8bd9a263a = 's.kn&#101;cht' + '&#64;';
				addy91151e9ce0496ad7d467a5e8bd9a263a = addy91151e9ce0496ad7d467a5e8bd9a263a + 'tr&#97;nsn&#97;t&#105;&#111;n&#97;lst&#117;d&#105;&#101;s' + '&#46;' + '&#101;&#117;';
				var addy_text91151e9ce0496ad7d467a5e8bd9a263a = 's.kn&#101;cht' + '&#64;' + 'tr&#97;nsn&#97;t&#105;&#111;n&#97;lst&#117;d&#105;&#101;s' + '&#46;' + '&#101;&#117;';document.getElementById('cloak91151e9ce0496ad7d467a5e8bd9a263a').innerHTML += '<a ' + path + '\'' + prefix + ':' + addy91151e9ce0496ad7d467a5e8bd9a263a + '\'>'+addy_text91151e9ce0496ad7d467a5e8bd9a263a+'';
		)
DTSTAMP:20260421T154956Z
DTSTART;TZID=UTC:20171004T020000
DTEND;TZID=UTC:20171007T015959
SEQUENCE:0
TRANSP:OPAQUE
END:VEVENT
END:VCALENDAR