BEGIN:VCALENDAR
VERSION:2.0
PRODID:-//jEvents 2.0 for Joomla//EN
CALSCALE:GREGORIAN
METHOD:PUBLISH
BEGIN:VEVENT
UID:42394ae2ef2a22821e026b12ab81fea8
CATEGORIES:Polar Conferences, Meetings and Events
CREATED:20170321T091006
SUMMARY:2017 Polar Geospatial Center Boot Camp
LOCATION:Twin Cities campus of the University of Minnesota\, USA
DESCRIPTION:We're excited to announce another installment of our popular summer worksho
 p. , our intensive, four-day geospatial workshop, will take place from Augu
 st 7th - 10th on the Twin Cities campus of the University of Minnesota.\nTh
 e workshop focuses on applications of commercial satellite imagery for pola
 r science. Instructor-led short courses include Discovering Geospatial Data
  at the Poles, DEM Extraction from Stereoscopic Imagery, Georeferencing Map
 s and Aerial Imagery, and more. The PGC Boot Camp also hosts visiting exper
 t speakers and offers dedicated project work time for one-on-one support fr
 om PGC staff.\nVisit the <a href="http://umn.us3.list-manage1.com/track/cli
 ck?u=9b55d57c1b3978d7f1133ad68&amp;id=4cd9ecacd8&amp;e=66e6d3bba5" target="
 _blank" rel="noopener noreferrer">Polar Boot Camp website</a> for details. 
 Application closes June 14th, 2017!\nThe Boot Camp is sponsored by the US N
 ational Science Foundation, the University of Minnesota's Polar Geospacial 
 Center and the SCAR GeoMap Action Group (http://www.scar.org/ssg/geoscience
 s/geomap).\n
X-ALT-DESC;FMTTYPE=text/html:<p>We're excited to announce another installment of our popular summer work
 shop. <a href="http://umn.us3.list-manage.com/track/click?u=9b55d57c1b3978d
 7f1133ad68&amp;id=511a30147f&amp;e=66e6d3bba5" target="_blank" rel="noopene
 r noreferrer">The 2017 Polar Geospatial Center Boot Camp</a>, our intensive
 , four-day geospatial workshop, will take place from <strong>August 7th - 1
 0th</strong> on the Twin Cities campus of the University of Minnesota.</p><
 p>The workshop focuses on <strong>applications of commercial satellite imag
 ery for polar science</strong>. Instructor-led short courses include Discov
 ering Geospatial Data at the Poles, DEM Extraction from Stereoscopic Imager
 y, Georeferencing Maps and Aerial Imagery, and more. The PGC Boot Camp also
  hosts visiting expert speakers and offers dedicated project work time for 
 one-on-one support from PGC staff.</p><p>Visit the <a href="http://umn.us3.
 list-manage1.com/track/click?u=9b55d57c1b3978d7f1133ad68&amp;id=4cd9ecacd8&
 amp;e=66e6d3bba5" target="_blank" rel="noopener noreferrer">Polar Boot Camp
  website</a> for details. <strong>Application</strong> <strong>closes June 
 14th, 2017</strong>!</p><p>The Boot Camp is sponsored by the US National Sc
 ience Foundation, the University of Minnesota's Polar Geospacial Center and
  the <a href="http://www.scar.org/ssg/geosciences/geomap" target="_blank" r
 el="noopener noreferrer">SCAR GeoMap Action Group</a>.</p>
DTSTAMP:20260419T224421Z
DTSTART;TZID=UTC;VALUE=DATE:20170807
DTEND;TZID=UTC;VALUE=DATE:20170811
SEQUENCE:0
TRANSP:OPAQUE
END:VEVENT
END:VCALENDAR