BEGIN:VCALENDAR
VERSION:2.0
PRODID:-//jEvents 2.0 for Joomla//EN
CALSCALE:GREGORIAN
METHOD:PUBLISH
BEGIN:VEVENT
UID:cacbe9e4fa767e1161c4d8e0dd122cf9
CATEGORIES:Polar Conferences, Meetings and Events
CREATED:20170321T125859
SUMMARY:IGS Boulder Symposium
LOCATION:Boulder Colorado\, USA
DESCRIPTION:<p><strong>International Symposium on Polar Ice, Polar Climate, Polar Chang
 e is, to be held 14–19 August 2017, in Boulder, Colorado, USA.</strong></p>
 <p><strong>Online registration is now open</strong>. Please register at <a 
 href="https://www.igsoc.org/symposia/2017/boulder/">https://www.igsoc.org/s
 ymposia/2017/boulder/</a></p><p>Remember to book your accommodation as soon
  as possible as things are filling up. <br /><br />The second circular is p
 osted on the IGS website. <a href="https://www.igsoc.org/symposia/2017/boul
 der/">https://www.igsoc.org/symposia/2017/boulder/</a> </p><p>Please use th
 e symposium hashtag <strong>#boulder17</strong> when you tweet about it.</p
 >
CONTACT:This email address is being protected from spambots. You need JavaScript enabled to view it.
				document.getElementById('cloakc0a0ab9b9164007a554abe8a7ffa60c3').innerHTML = '';
				var prefix = '&#109;a' + 'i&#108;' + '&#116;o';
				var path = 'hr' + 'ef' + '=';
				var addyc0a0ab9b9164007a554abe8a7ffa60c3 = 'm&#97;gn&#117;s' + '&#64;';
				addyc0a0ab9b9164007a554abe8a7ffa60c3 = addyc0a0ab9b9164007a554abe8a7ffa60c3 + '&#105;gs&#111;c' + '&#46;' + '&#111;rg';
				var addy_textc0a0ab9b9164007a554abe8a7ffa60c3 = 'm&#97;gn&#117;s' + '&#64;' + '&#105;gs&#111;c' + '&#46;' + '&#111;rg';document.getElementById('cloakc0a0ab9b9164007a554abe8a7ffa60c3').innerHTML += '<a ' + path + '\'' + prefix + ':' + addyc0a0ab9b9164007a554abe8a7ffa60c3 + '\'>'+addy_textc0a0ab9b9164007a554abe8a7ffa60c3+'';
		
DTSTAMP:20260424T095356Z
DTSTART;TZID=UTC;VALUE=DATE:20170814
DTEND;TZID=UTC;VALUE=DATE:20170820
SEQUENCE:0
TRANSP:OPAQUE
END:VEVENT
END:VCALENDAR