BEGIN:VCALENDAR
VERSION:2.0
PRODID:-//jEvents 2.0 for Joomla//EN
CALSCALE:GREGORIAN
METHOD:PUBLISH
BEGIN:VEVENT
UID:a27514b03f82660d509d674bc3285711
CATEGORIES:Polar Conferences, Meetings and Events
CREATED:20170322T080645
SUMMARY:MEASO (Marine Ecosystems Assessment in the Southern Ocean) 2018 Conference
LOCATION:Hobart\, Tasmania\, Australia
DESCRIPTION:<p style="text-align: center;"><strong>Marine Ecosystems Assessment in the 
 Southern Ocean</strong><br /><strong>Assessing Status and Trends of Habitat
 s, Key Species and Ecosystems in the Southern Ocean</strong><br /><strong>I
 nternational Conference</strong><br /><strong>9 - 13 April 2018 | Hobart, A
 ustralia</strong></p><p> </p><p>A core activity of ICED (Integrating Climat
 e and Ecosystem Dynamics in the Southern Ocean), a partner program of IMBER
  and SCAR.</p><p>For more details, please visit the MEASO 2018 conference w
 ebsite: <a href="http://www.measo2018.aq/">http://www.measo2018.aq/.</a></p
 ><p> </p>
DTSTAMP:20260419T201927Z
DTSTART;TZID=UTC:20180409T100000
DTEND;TZID=UTC:20180413T100000
SEQUENCE:0
TRANSP:OPAQUE
END:VEVENT
END:VCALENDAR