BEGIN:VCALENDAR
VERSION:2.0
PRODID:-//jEvents 2.0 for Joomla//EN
CALSCALE:GREGORIAN
METHOD:PUBLISH
BEGIN:VEVENT
UID:7f2d1bdd9c37702c71d643490174b163
CATEGORIES:Polar Conferences, Meetings and Events
CREATED:20160424T200057
SUMMARY:PAST Gateways Conference
LOCATION:Trondheim\, Norway
DESCRIPTION:We would like to draw your attention to the fourth PAST Gateways Internatio
 nal Conference, which will be held in Trondheim, Norway, on May 23-27, 2016
 . The conference themes are:\n1. Growth and decay of Arctic Ice Sheets\n 2.
  Arctic sea-ice and ocean changes\n 3. Non-glaciated Arctic environments in
 cluding permafrost change\n 4. Sea level change in the Arctic\nPlease visit
  the conference website  http://www.ngu.no/en/activities/past-gateways-4th-
 international-conference (http://www.ngu.no/en/activities/past-gateways-4th
 -international-conference) (please cut and paste the link into your browser
 ) for additional information.\n
X-ALT-DESC;FMTTYPE=text/html:<p><span style="font-size: 11pt; font-family: Calibri, sans-serif;">We woul
 d like to draw your attention to the fourth PAST Gateways International Con
 ference, which will be held in Trondheim, Norway, on May 23-27, 2016. The c
 onference themes are:</span></p><p><span style="font-size: 11pt; font-famil
 y: Calibri, sans-serif;">1. Growth and decay of Arctic Ice Sheets<br /> 2. 
 Arctic sea-ice and ocean changes<br /> 3. Non-glaciated Arctic environments
  including permafrost change<br /> 4. Sea level change in the Arctic</span>
 </p><p><span style="font-size: 11pt; font-family: Calibri, sans-serif;">Ple
 ase visit the conference website <a href="http://www.ngu.no/en/activities/p
 ast-gateways-4th-international-conference"> <span style="color: windowtext;
 ">http://www.ngu.no/en/activities/past-gateways-4th-international-conferenc
 e</span></a> (please cut and paste the link into your browser) for addition
 al information.</span></p>
CONTACT:Lilja Rún Bjarnadóttir
DTSTAMP:20260420T151320Z
DTSTART;TZID=UTC;VALUE=DATE:20160523
DTEND;TZID=UTC;VALUE=DATE:20160528
SEQUENCE:0
TRANSP:OPAQUE
END:VEVENT
END:VCALENDAR