BEGIN:VCALENDAR
VERSION:2.0
PRODID:-//jEvents 2.0 for Joomla//EN
CALSCALE:GREGORIAN
METHOD:PUBLISH
BEGIN:VEVENT
UID:99487c39492c7d81cfee1e9075747162
CATEGORIES:Polar Conferences, Meetings and Events
CREATED:20170413T105633
SUMMARY:YOUMARES 8
LOCATION:Kiel\, Germany
DESCRIPTION:<p><strong>YOUMARES 8</strong>, an international conference and network mee
 ting of marine early-career scientists, taking place in <strong>Kiel, Germa
 ny, 13-15 September 2017</strong>.</p><p>This conference is specifically de
 signed for students to present their research projects (e.g. from a thesis)
  and collect valuable conference experience.</p><p>There will be several se
 ssions dealing with polar topics - from physics to biology. You can find a 
 list of all sessions, including a detailed description, under the following
  link: <a href="http://www.youmares.net/index.php/prog-venue">http://www.yo
 umares.net/index.php/prog-venue</a>.</p>
DTSTAMP:20260424T131643Z
DTSTART;TZID=UTC;VALUE=DATE:20170913
DTEND;TZID=UTC;VALUE=DATE:20170916
SEQUENCE:0
TRANSP:OPAQUE
END:VEVENT
END:VCALENDAR