BEGIN:VCALENDAR
VERSION:2.0
PRODID:-//jEvents 2.0 for Joomla//EN
CALSCALE:GREGORIAN
METHOD:PUBLISH
BEGIN:VEVENT
UID:9e06daed728e56a91f4d21e6733686e3
CATEGORIES:Field and Summer Schools
CREATED:20170418T110814
SUMMARY:2017 Connaught Summer Institute in Arctic Science: Atmosphere, Cryosphere, and Climate
LOCATION:Nottawasaga Inn\, Alliston\, Ontario\, Canada
DESCRIPTION:Applications are invited for the 2017 Connaught Summer Institute in Arctic 
 Science: Atmosphere, Cryosphere, and Climate\nThe Connaught Summer Institut
 e in Arctic Science: Atmosphere, Cryosphere, and Climate brings together st
 udents and scholars who are engaged in Arctic research, to provide an under
 standing of the Arctic climate and the processes that control it, and to es
 tablish an interdisciplinary forum in which they can discuss current issues
  and research opportunities. The Summer Institute is supported by the Unive
 rsity of Toronto's Connaught Fund and builds on the Summer School program d
 eveloped by the NSERC CREATE Training Program in Arctic Atmospheric Science
  (CREATE-AAS). It is affiliated with three NSERC-funded networks: Probing t
 he Atmosphere of the High Arctic (PAHA), the Network on Climate and Aerosol
 s (NETCARE), and the Canadian Sea Ice and Snow Evolution (CanSISE) Network.
  The Summer Institute spans the disciplines of physics, chemistry, earth sc
 iences, geography, environmental science, and related areas, and encompasse
 s the use of experimental, field observation, and modelling methodologies t
 o study the Arctic region.\nWe are pleased to invite applications for our t
 hird Connaught Summer Institute, offered from July 17 to 21, 2017 in Allist
 on, Ontario. It is intended for graduate students and postdoctoral fellows 
 engaged in Arctic research. It is open to students from across the Universi
 ty of Toronto, as well as from other institutions, both national and intern
 ational. Attendees will have the opportunity to learn from experienced rese
 archers in a small and comfortable setting. Students will also participate 
 in professional development activities; engage in a diverse career panel di
 scussion; develop strategies for linking scientific knowledge to public eng
 agement, education and outreach; and present their own research during a po
 ster session.\nTopics: This year, the program will be linked to the North2W
 arm initiative, which is examining the impact of 1.5°C or greater global wa
 rming on Canada’s North. Topics will include the Arctic climate system, obs
 erved changes, projected changes under different warming scenarios, and imp
 acts and adaptations underway and anticipated, as well as high-latitude cli
 mate dynamics, sea ice observations, lake/land–atmosphere interactions, atm
 ospheric composition, Arctic aerosols, permafrost engineering, climate mode
 lling, and more.\nSpeakers include Jonathan Abbatt (U Toronto), Lukas Arens
 on (BGC Engineering Inc.), Claude Duguay (U Waterloo), Steve Howell (Enviro
 nment and Climate Change Canada), Alexandra Jahn (U Colorado Boulder), Paul
  Kushner (U Toronto), Kent Moore (U Toronto), Kerri Pratt (U Michigan), Mic
 hael Sigmond (Canadian Centre for Climate Modelling and Analysis, ECCC), an
 d Francis Zwiers (Pacific Climate Impacts Consortium).\nAdmission to the Su
 mmer Institute includes all on-site food and accommodation. A chartered bus
  will take attendees to and from downtown Toronto, however, attendees are r
 esponsible for travel between their home institution and Toronto or Allisto
 n.\nTo apply, please fill out the application form at http://www.candac.ca/
 create/CSI_Arctic_science_application_form_2017.pdf. A completed applicatio
 n must also include a CV and a short letter of support from the applicant’s
  supervisor. Please submit your application by email to This email address 
 is being protected from spambots. You need JavaScript enabled to view it.
	
 			document.getElementById('cloakbaad5feea53b5267e4b7a01e237766cf').innerHT
 ML = '';
				var prefix = '&#109;a' + 'i&#108;' + '&#116;o';
				var path =
  'hr' + 'ef' + '=';
				var addybaad5feea53b5267e4b7a01e237766cf = 'cs&#105
 ;-&#97;rct&#105;c-sc&#105;&#101;nc&#101;' + '&#64;';
				addybaad5feea53b52
 67e4b7a01e237766cf = addybaad5feea53b5267e4b7a01e237766cf + '&#97;tm&#111;s
 p' + '&#46;' + 'phys&#105;cs' + '&#46;' + '&#117;t&#111;r&#111;nt&#111;' + 
 '&#46;' + 'c&#97;';
				var addy_textbaad5feea53b5267e4b7a01e237766cf = 'cs
 &#105;-&#97;rct&#105;c-sc&#105;&#101;nc&#101;' + '&#64;' + '&#97;tm&#111;sp
 ' + '&#46;' + 'phys&#105;cs' + '&#46;' + '&#117;t&#111;r&#111;nt&#111;' + '
 &#46;' + 'c&#97;';document.getElementById('cloakbaad5feea53b5267e4b7a01e237
 766cf').innerHTML += '<a ' + path + '\'' + prefix + ':' + addybaad5feea53b5
 267e4b7a01e237766cf + '\'>'+addy_textbaad5feea53b5267e4b7a01e237766cf+'';
	
 	.\nLocation: Nottawasaga Inn, Alliston, Ontario, Canada.\nDates: July 17- 
 21, 2017.\nEligibility: Open to Canadian and international graduate student
 s and post-doctoral fellows.\nTuition: There are no tuition fees, but atten
 dees must cover the cost of return travel from their home institution.\nApp
 lication Deadline: Monday, May 29, 2017\n \nContact Information\nProfessor 
 Kimberly Strong and Ms Aubyn O’Grady\nDepartment of Physics, University of 
 Toronto\n60 St. George Street, Toronto, Ontario, M5S 1A7, Canada\nEmail: Th
 is email address is being protected from spambots. You need JavaScript enab
 led to view it.
				document.getElementById('cloakdd6c5addb3cc8cf4121654505
 99c5ccd').innerHTML = '';
				var prefix = '&#109;a' + 'i&#108;' + '&#116;o
 ';
				var path = 'hr' + 'ef' + '=';
				var addydd6c5addb3cc8cf41216545059
 9c5ccd = 'cs&#105;-&#97;rct&#105;c-sc&#105;&#101;nc&#101;' + '&#64;';
				a
 ddydd6c5addb3cc8cf412165450599c5ccd = addydd6c5addb3cc8cf412165450599c5ccd 
 + '&#97;tm&#111;sp' + '&#46;' + 'phys&#105;cs' + '&#46;' + '&#117;t&#111;r&
 #111;nt&#111;' + '&#46;' + 'c&#97;';
				var addy_textdd6c5addb3cc8cf412165
 450599c5ccd = 'cs&#105;-&#97;rct&#105;c-sc&#105;&#101;nc&#101;' + '&#64;' +
  '&#97;tm&#111;sp' + '&#46;' + 'phys&#105;cs' + '&#46;' + '&#117;t&#111;r&#
 111;nt&#111;' + '&#46;' + 'c&#97;';document.getElementById('cloakdd6c5addb3
 cc8cf412165450599c5ccd').innerHTML += '<a ' + path + '\'' + prefix + ':' + 
 addydd6c5addb3cc8cf412165450599c5ccd + '\'>'+addy_textdd6c5addb3cc8cf412165
 450599c5ccd+'';
		\n
X-ALT-DESC;FMTTYPE=text/html:<p><strong>Applications are invited</strong> <strong>for the 2017 Connaught
  Summer Institute in Arctic Science: Atmosphere, Cryosphere, and Climate</s
 trong></p><p>The Connaught Summer Institute in Arctic Science: Atmosphere, 
 Cryosphere, and Climate brings together students and scholars who are engag
 ed in Arctic research, to provide an understanding of the Arctic climate an
 d the processes that control it, and to establish an interdisciplinary foru
 m in which they can discuss current issues and research opportunities. The 
 Summer Institute is supported by the University of Toronto's Connaught Fund
  and builds on the Summer School program developed by the NSERC CREATE Trai
 ning Program in Arctic Atmospheric Science (CREATE-AAS). It is affiliated w
 ith three NSERC-funded networks: Probing the Atmosphere of the High Arctic 
 (PAHA), the Network on Climate and Aerosols (NETCARE), and the Canadian Sea
  Ice and Snow Evolution (CanSISE) Network. The Summer Institute spans the d
 isciplines of physics, chemistry, earth sciences, geography, environmental 
 science, and related areas, and encompasses the use of experimental, field 
 observation, and modelling methodologies to study the Arctic region.</p><p>
 We are pleased to invite applications for our third Connaught Summer Instit
 ute, offered from July 17 to 21, 2017 in Alliston, Ontario. It is intended 
 for graduate students and postdoctoral fellows engaged in Arctic research. 
 It is open to students from across the University of Toronto, as well as fr
 om other institutions, both national and international. Attendees will have
  the opportunity to learn from experienced researchers in a small and comfo
 rtable setting. Students will also participate in professional development 
 activities; engage in a diverse career panel discussion; develop strategies
  for linking scientific knowledge to public engagement, education and outre
 ach; and present their own research during a poster session.</p><p><strong>
 Topics:</strong> This year, the program will be linked to the North2Warm in
 itiative, which is examining the impact of 1.5°C or greater global warming 
 on Canada’s North. Topics will include the Arctic climate system, observed 
 changes, projected changes under different warming scenarios, and impacts a
 nd adaptations underway and anticipated, as well as high-latitude climate d
 ynamics, sea ice observations, lake/land–atmosphere interactions, atmospher
 ic composition, Arctic aerosols, permafrost engineering, climate modelling,
  and more.</p><p><strong>Speakers</strong> include Jonathan Abbatt (U Toron
 to), Lukas Arenson (BGC Engineering Inc.), Claude Duguay (U Waterloo), Stev
 e Howell (Environment and Climate Change Canada), Alexandra Jahn (U Colorad
 o Boulder), Paul Kushner (U Toronto), Kent Moore (U Toronto), Kerri Pratt (
 U Michigan), Michael Sigmond (Canadian Centre for Climate Modelling and Ana
 lysis, ECCC), and Francis Zwiers (Pacific Climate Impacts Consortium).</p><
 p>Admission to the Summer Institute includes all on-site food and accommoda
 tion. A chartered bus will take attendees to and from downtown Toronto, how
 ever, attendees are responsible for travel between their home institution a
 nd Toronto or Alliston.</p><p>To apply, please fill out the <strong>applica
 tion form</strong> <strong>at</strong> <a href="http://www.candac.ca/create
 /CSI_Arctic_science_application_form_2017.pdf">http://www.candac.ca/create/
 CSI_Arctic_science_application_form_2017.pdf</a>. A completed application m
 ust also <em>include a CV and a short letter of support from the applicant’
 s supervisor</em>. Please <strong>submit your application by email to</stro
 ng> <span id="cloakbaad5feea53b5267e4b7a01e237766cf">This email address is 
 being protected from spambots. You need JavaScript enabled to view it.</spa
 n><script type='text/javascript'>
				document.getElementById('cloakbaad5fe
 ea53b5267e4b7a01e237766cf').innerHTML = '';
				var prefix = '&#109;a' + 'i
 &#108;' + '&#116;o';
				var path = 'hr' + 'ef' + '=';
				var addybaad5fee
 a53b5267e4b7a01e237766cf = 'cs&#105;-&#97;rct&#105;c-sc&#105;&#101;nc&#101;
 ' + '&#64;';
				addybaad5feea53b5267e4b7a01e237766cf = addybaad5feea53b526
 7e4b7a01e237766cf + '&#97;tm&#111;sp' + '&#46;' + 'phys&#105;cs' + '&#46;' 
 + '&#117;t&#111;r&#111;nt&#111;' + '&#46;' + 'c&#97;';
				var addy_textbaa
 d5feea53b5267e4b7a01e237766cf = 'cs&#105;-&#97;rct&#105;c-sc&#105;&#101;nc&
 #101;' + '&#64;' + '&#97;tm&#111;sp' + '&#46;' + 'phys&#105;cs' + '&#46;' +
  '&#117;t&#111;r&#111;nt&#111;' + '&#46;' + 'c&#97;';document.getElementByI
 d('cloakbaad5feea53b5267e4b7a01e237766cf').innerHTML += '<a ' + path + '\''
  + prefix + ':' + addybaad5feea53b5267e4b7a01e237766cf + '\'>'+addy_textbaa
 d5feea53b5267e4b7a01e237766cf+'<\/a>';
		</script>.</p><p><strong>Location:
  </strong>Nottawasaga Inn, Alliston, Ontario, Canada.</p><p><strong>Dates: 
 </strong>July 17- 21, 2017.</p><p><strong>Eligibility:</strong> Open to Can
 adian and international graduate students and post-doctoral fellows.</p><p>
 <strong>Tuition:</strong> There are no tuition fees, but attendees must cov
 er the cost of return travel from their home institution.</p><p><strong>App
 lication Deadline: Monday, May 29, 2017</strong></p><p> </p><p><strong><em>
 Contact Information</em></strong></p><p>Professor Kimberly Strong and Ms Au
 byn O’Grady</p><p>Department of Physics, University of Toronto</p><p>60 St.
  George Street, Toronto, Ontario, M5S 1A7, Canada</p><p>Email: <span id="cl
 oakdd6c5addb3cc8cf412165450599c5ccd">This email address is being protected 
 from spambots. You need JavaScript enabled to view it.</span><script type='
 text/javascript'>
				document.getElementById('cloakdd6c5addb3cc8cf41216545
 0599c5ccd').innerHTML = '';
				var prefix = '&#109;a' + 'i&#108;' + '&#116
 ;o';
				var path = 'hr' + 'ef' + '=';
				var addydd6c5addb3cc8cf412165450
 599c5ccd = 'cs&#105;-&#97;rct&#105;c-sc&#105;&#101;nc&#101;' + '&#64;';
			
 	addydd6c5addb3cc8cf412165450599c5ccd = addydd6c5addb3cc8cf412165450599c5cc
 d + '&#97;tm&#111;sp' + '&#46;' + 'phys&#105;cs' + '&#46;' + '&#117;t&#111;
 r&#111;nt&#111;' + '&#46;' + 'c&#97;';
				var addy_textdd6c5addb3cc8cf4121
 65450599c5ccd = 'cs&#105;-&#97;rct&#105;c-sc&#105;&#101;nc&#101;' + '&#64;'
  + '&#97;tm&#111;sp' + '&#46;' + 'phys&#105;cs' + '&#46;' + '&#117;t&#111;r
 &#111;nt&#111;' + '&#46;' + 'c&#97;';document.getElementById('cloakdd6c5add
 b3cc8cf412165450599c5ccd').innerHTML += '<a ' + path + '\'' + prefix + ':' 
 + addydd6c5addb3cc8cf412165450599c5ccd + '\'>'+addy_textdd6c5addb3cc8cf4121
 65450599c5ccd+'<\/a>';
		</script></p>
CONTACT:This email address is being protected from spambots. You need JavaScript enabled to view it.
				document.getElementById('cloak6917ce24e3a71cc168aa70a28357a597').innerHTML = '';
				var prefix = '&#109;a' + 'i&#108;' + '&#116;o';
				var path = 'hr' + 'ef' + '=';
				var addy6917ce24e3a71cc168aa70a28357a597 = 'cs&#105;-&#97;rct&#105;c-sc&#105;&#101;nc&#101;' + '&#64;';
				addy6917ce24e3a71cc168aa70a28357a597 = addy6917ce24e3a71cc168aa70a28357a597 + '&#97;tm&#111;sp' + '&#46;' + 'phys&#105;cs' + '&#46;' + '&#117;t&#111;r&#111;nt&#111;' + '&#46;' + 'c&#97;';
				var addy_text6917ce24e3a71cc168aa70a28357a597 = 'cs&#105;-&#97;rct&#105;c-sc&#105;&#101;nc&#101;' + '&#64;' + '&#97;tm&#111;sp' + '&#46;' + 'phys&#105;cs' + '&#46;' + '&#117;t&#111;r&#111;nt&#111;' + '&#46;' + 'c&#97;';document.getElementById('cloak6917ce24e3a71cc168aa70a28357a597').innerHTML += '<a ' + path + '\'' + prefix + ':' + addy6917ce24e3a71cc168aa70a28357a597 + '\'>'+addy_text6917ce24e3a71cc168aa70a28357a597+'';
		
DTSTAMP:20260420T112549Z
DTSTART;TZID=UTC;VALUE=DATE:20170717
DTEND;TZID=UTC;VALUE=DATE:20170722
SEQUENCE:0
TRANSP:OPAQUE
END:VEVENT
END:VCALENDAR