BEGIN:VCALENDAR
VERSION:2.0
PRODID:-//jEvents 2.0 for Joomla//EN
CALSCALE:GREGORIAN
METHOD:PUBLISH
BEGIN:VEVENT
UID:a0c52f170e01b3545265a7baf48fe1f6
CATEGORIES:Polar Conferences, Meetings and Events
CREATED:20170511T105824
SUMMARY:UK Arctic Science Conference
LOCATION:Scottish Association for Marine Science
DESCRIPTION:19-21st September 2017 at the Scottish Association for Marine Science (SAMS
 ), Oban, UK\nThe UK Arctic Science Conference brings together natural and s
 ocial scientists with a common interest in the Arctic environment. We welco
 me the submission of abstracts from across the themes of the International 
 Arctic Science Committee Working Groups: Cryosphere, Marine, Terrestrial, A
 tmosphere and Social and Human.\nRegistration and abstract submission is no
 w open. Please click on the link to register:\nhttps://www.eventbrite.co.uk
 /e/uk-arctic-science-conference-2017-registration-31061812718\nThe deadline
  for submissions is 31st July 2017.\nFor further information, please visit 
 <a href="http://www.arctic.ac.uk/research/uk-arctic-science-conference-2017
 /">http://www.arctic.ac.uk/research/uk-arctic-science-conference-2017/</a>.
 \n
X-ALT-DESC;FMTTYPE=text/html:<p><strong>19-21st September 2017 at the Scottish Association for Marine Sc
 ience (SAMS), Oban, UK</strong></p><p>The UK Arctic Science Conference brin
 gs together natural and social scientists with a common interest in the Arc
 tic environment. We welcome the submission of abstracts from across the the
 mes of the International Arctic Science Committee Working Groups: Cryospher
 e, Marine, Terrestrial, Atmosphere and Social and Human.</p><p>Registration
  and abstract submission is now open. Please click on the link to register:
 </p><p><a href="https://www.eventbrite.co.uk/e/uk-arctic-science-conference
 -2017-registration-31061812718">https://www.eventbrite.co.uk/e/uk-arctic-sc
 ience-conference-2017-registration-31061812718</a></p><p><strong>The deadli
 ne for submissions is 31st July 2017.</strong></p><p>For further informatio
 n, please visit <a href="http://www.arctic.ac.uk/research/uk-arctic-science
 -conference-2017/">http://www.arctic.ac.uk/research/uk-arctic-science-confe
 rence-2017/</a>.</p>
DTSTAMP:20260420T130741Z
DTSTART;TZID=UTC;VALUE=DATE:20170919
DTEND;TZID=UTC;VALUE=DATE:20170922
SEQUENCE:0
TRANSP:OPAQUE
END:VEVENT
END:VCALENDAR