BEGIN:VCALENDAR
VERSION:2.0
PRODID:-//jEvents 2.0 for Joomla//EN
CALSCALE:GREGORIAN
METHOD:PUBLISH
BEGIN:VEVENT
UID:a2357ae7db5e649ae2704b396b07d17d
CATEGORIES:APECS Events
CREATED:20170523T075101
SUMMARY:Polar Science Communication Workshop
LOCATION:Boulder\, Colorado\, United States
DESCRIPTION:<p>We would like to announce an opportunity for polar scientists of all car
 eer stages to obtain formal training in science communication strategies du
 ring an NSF- and NASA-funded workshop held in Boulder, CO, USA from <strong
 >August 12-14, 2017</strong>. The workshop will take place immediately prio
 r to the International Glaciological Society (IGS) International Symposium 
 on Polar Ice, Polar Climate, Polar Change at the University of Colorado Bou
 lder. The workshop will include <strong>two days of oral communication trai
 ning</strong> by the Alan Alda Center for Communicating Science and one day
  of written communication training by Dr. Max Boykoff and his team from the
  University of Colorado Boulder.</p><p>The workshop is open to 32 polar sci
 entists from all career stages and spanning all disciplines in the physical
  and social sciences. Workshop participants do not need to attend the IGS s
 ymposium in order to participate in the science communication workshop. Fun
 ding for domestic travel and lodging are available for ~19 early-career sci
 entists.</p><p>Workshop applications and additional information can be foun
 d at <a href="http://usapecs.wixsite.com/usapecs/polar-scicom-workshop">htt
 p://usapecs.wixsite.com/usapecs/polar-scicom-workshop</a>. <br /><strong>Ap
 plications are due June 5th</strong>. Notification of acceptance, and early
 -career funding if applicable, will be made by July.</p><p>Please email <sp
 an id="cloak4e3b5fd0b87219913a4fc6e9a4cabd92">This email address is being p
 rotected from spambots. You need JavaScript enabled to view it.</span><scri
 pt type='text/javascript'>
				document.getElementById('cloak4e3b5fd0b87219
 913a4fc6e9a4cabd92').innerHTML = '';
				var prefix = '&#109;a' + 'i&#108;'
  + '&#116;o';
				var path = 'hr' + 'ef' + '=';
				var addy4e3b5fd0b872199
 13a4fc6e9a4cabd92 = 'Sc&#105;C&#111;mW&#111;rksh&#111;p17' + '&#64;';
				a
 ddy4e3b5fd0b87219913a4fc6e9a4cabd92 = addy4e3b5fd0b87219913a4fc6e9a4cabd92 
 + '&#97;p&#101;cs' + '&#46;' + '&#105;s';
				var addy_text4e3b5fd0b8721991
 3a4fc6e9a4cabd92 = 'Sc&#105;C&#111;mW&#111;rksh&#111;p17' + '&#64;' + '&#97
 ;p&#101;cs' + '&#46;' + '&#105;s';document.getElementById('cloak4e3b5fd0b87
 219913a4fc6e9a4cabd92').innerHTML += '<a ' + path + '\'' + prefix + ':' + a
 ddy4e3b5fd0b87219913a4fc6e9a4cabd92 + '\'>'+addy_text4e3b5fd0b87219913a4fc6
 e9a4cabd92+'<\/a>';
		</script> if you have any questions regarding worksho
 p details or the application process, and please let your colleagues know a
 bout this workshop!</p>
CONTACT:This email address is being protected from spambots. You need JavaScript enabled to view it.
				document.getElementById('cloak25172e5debbd8a8f9ee805dd8c32e78d').innerHTML = '';
				var prefix = '&#109;a' + 'i&#108;' + '&#116;o';
				var path = 'hr' + 'ef' + '=';
				var addy25172e5debbd8a8f9ee805dd8c32e78d = 'Sc&#105;C&#111;mW&#111;rksh&#111;p17' + '&#64;';
				addy25172e5debbd8a8f9ee805dd8c32e78d = addy25172e5debbd8a8f9ee805dd8c32e78d + '&#97;p&#101;cs' + '&#46;' + '&#105;s';
				var addy_text25172e5debbd8a8f9ee805dd8c32e78d = 'Sc&#105;C&#111;mW&#111;rksh&#111;p17' + '&#64;' + '&#97;p&#101;cs' + '&#46;' + '&#105;s';document.getElementById('cloak25172e5debbd8a8f9ee805dd8c32e78d').innerHTML += '<a ' + path + '\'' + prefix + ':' + addy25172e5debbd8a8f9ee805dd8c32e78d + '\'>'+addy_text25172e5debbd8a8f9ee805dd8c32e78d+'';
		
DTSTAMP:20260421T165234Z
DTSTART;TZID=UTC;VALUE=DATE:20170812
DTEND;TZID=UTC;VALUE=DATE:20170815
SEQUENCE:0
TRANSP:OPAQUE
END:VEVENT
END:VCALENDAR