BEGIN:VCALENDAR
VERSION:2.0
PRODID:-//jEvents 2.0 for Joomla//EN
CALSCALE:GREGORIAN
METHOD:PUBLISH
BEGIN:VEVENT
UID:467ce265900ef1a75520d8461039a997
CATEGORIES:APECS Events
CREATED:20170603T085408
SUMMARY:APECS Panel "Career Opportunities in Arctic Social Sciences" at ICASS IX
LOCATION:Umeå\, Sweden
DESCRIPTION:Studying social sciences gives us all plenty of opportunities to use scient
 ific knowledge and skills, not only for a career in academia, but also in g
 overnance, community development, planning and many other areas. Learn with
  us about opportunities and challenges in career choices for young Arctic s
 ocial science researchers, both inside and outside academia!\nThe Associati
 on of Polar Early Career Scientists (APECS) will be organising a panel disc
 ussion on "Careers opportunities in Arctic Social Sciences" during the 9th 
 International Congress on Arctic Social Sciences (ICASS) (8-12 June 2017, U
 meå, Sweden), where you will have an opportunity to hear career experiences
  of our excellent panelists that we hope would be inspiring for your future
  career choices.\nJoin us on 8 June 2017 at 14:30 at Umeå University in roo
 m MC313.\nMeet our panelists:\n\n - Mare Pit (German Arctic Office / AWI, G
 ermany)\n - Anne-Lill Drugge (Centre for Sami Research (Cesam) - Vaartoe, S
 weden)\n - Gail Fondahl (University of Northern British Columbia, Canada)\n
  - Rasmus Bertelsen (UiT The Arctic University of Norway, Norway)
X-ALT-DESC;FMTTYPE=text/html:<p>Studying social sciences gives us all plenty of opportunities to use sci
 entific knowledge and skills, not only for a career in academia, but also i
 n governance, community development, planning and many other areas. Learn w
 ith us about <strong>opportunities and challenges in career choices for you
 ng Arctic social science researchers, both inside and outside academia!</st
 rong></p><p>The <strong>Association of Polar Early Career Scientists (APECS
 )</strong> will be organising a panel discussion on <strong>"Careers opport
 unities in Arctic Social Sciences"</strong> during the 9th International Co
 ngress on Arctic Social Sciences (ICASS) (8-12 June 2017, <strong>Umeå, Swe
 den</strong>), where you will have an opportunity to hear career experience
 s of our excellent panelists that we hope would be inspiring for your futur
 e career choices.</p><p>Join us on <strong>8 June 2017 at 14:30 at Umeå Uni
 versity in room MC313</strong>.</p><p>Meet our panelists:</p><ul><li>Mare P
 it (German Arctic Office / AWI, Germany)</li><li>Anne-Lill Drugge (Centre f
 or Sami Research (Cesam) - Vaartoe, Sweden)</li><li>Gail Fondahl (Universit
 y of Northern British Columbia, Canada)</li><li>Rasmus Bertelsen (UiT The A
 rctic University of Norway, Norway)</li></ul>
DTSTAMP:20260420T130641Z
DTSTART;TZID=UTC:20170608T163000
DTEND;TZID=UTC:20170608T180000
SEQUENCE:0
TRANSP:OPAQUE
END:VEVENT
END:VCALENDAR