BEGIN:VCALENDAR
VERSION:2.0
PRODID:-//jEvents 2.0 for Joomla//EN
CALSCALE:GREGORIAN
METHOD:PUBLISH
BEGIN:VEVENT
UID:e55aeb117851b0c7b53dd866c9766a0e
CATEGORIES:Polar Conferences, Meetings and Events
CREATED:20170615T062718
SUMMARY:Graduate Climate Conference 2017
LOCATION:Woods Hole\, MA
DESCRIPTION:Calling all graduate students studying climate:\nGraduate students in MIT's
  Program in Atmospheres, Oceans and Climate and the Woods Hole Oceanographi
 c Institution are pleased to announce the 11th Graduate Climate Conference!
  GCC2017 will be held November 10-12, 2017 in Woods Hole, MA. This is a con
 ference for graduate students, organized and ran by graduate students.\nThe
  goal of the conference is bringing together graduate researchers who think
  about climate from all disciplines, including but not limited to atmospher
 ic science, oceanography, geoscience, biology, environmental science and en
 gineering, geography, public policy, law, economics, ethics, and anthropolo
 gy. The conference is unique because only students attend, providing a rare
  opportunity for the next generation of climate researchers to interact wit
 hout the inhibitions that accompany the presence of faculty and senior scie
 ntists.\nThe deadline for abstract submission is June 15th. Food, lodging, 
 and conference registration fees are provided by our sponsors; travel grant
 s will be provided on an as-needed basis to as many participants as possibl
 e. For more information, visit the website: http://gradclimateconf.mit.edu,
  or feel free to contact the organizing committee at This email address is 
 being protected from spambots. You need JavaScript enabled to view it.
				
 document.getElementById('cloak0881c11b3d9fce776fb2c82c20f306c3').innerHTML 
 = '';
				var prefix = '&#109;a' + 'i&#108;' + '&#116;o';
				var path = 'h
 r' + 'ef' + '=';
				var addy0881c11b3d9fce776fb2c82c20f306c3 = 'gcc-2017' 
 + '&#64;';
				addy0881c11b3d9fce776fb2c82c20f306c3 = addy0881c11b3d9fce776
 fb2c82c20f306c3 + 'm&#105;t' + '&#46;' + '&#101;d&#117;';
				var addy_text
 0881c11b3d9fce776fb2c82c20f306c3 = 'gcc-2017' + '&#64;' + 'm&#105;t' + '&#4
 6;' + '&#101;d&#117;';document.getElementById('cloak0881c11b3d9fce776fb2c82
 c20f306c3').innerHTML += '<a ' + path + '\'' + prefix + ':' + addy0881c11b3
 d9fce776fb2c82c20f306c3 + '\'>'+addy_text0881c11b3d9fce776fb2c82c20f306c3+'
 ';
		.\nCheers,\nThe GCC2017 Organizing Committee\n
X-ALT-DESC;FMTTYPE=text/html:<p>Calling all graduate students studying climate:</p><p>Graduate students 
 in MIT's Program in Atmospheres, Oceans and Climate and the Woods Hole Ocea
 nographic Institution are pleased to announce the <strong>11th Graduate Cli
 mate Conference!</strong> GCC2017 will be held <strong>November 10-12, 2017
  in Woods Hole, MA</strong>. This is a conference for graduate students, or
 ganized and ran by graduate students.</p><p>The goal of the conference is b
 ringing together graduate researchers who think about climate from all disc
 iplines, including but not limited to atmospheric science, oceanography, ge
 oscience, biology, environmental science and engineering, geography, public
  policy, law, economics, ethics, and anthropology. The conference is unique
  because only students attend, providing a rare opportunity for the next ge
 neration of climate researchers to interact without the inhibitions that ac
 company the presence of faculty and senior scientists.</p><p>The <strong>de
 adline for abstract submission is June 15th</strong>. Food, lodging, and co
 nference registration fees are provided by our sponsors; travel grants will
  be provided on an as-needed basis to as many participants as possible. For
  more information, visit the website: <a href="http://gradclimateconf.mit.e
 du">http://gradclimateconf.mit.edu</a>, or feel free to contact the organiz
 ing committee at <span id="cloak0881c11b3d9fce776fb2c82c20f306c3">This emai
 l address is being protected from spambots. You need JavaScript enabled to 
 view it.</span><script type='text/javascript'>
				document.getElementById(
 'cloak0881c11b3d9fce776fb2c82c20f306c3').innerHTML = '';
				var prefix = '
 &#109;a' + 'i&#108;' + '&#116;o';
				var path = 'hr' + 'ef' + '=';
				var
  addy0881c11b3d9fce776fb2c82c20f306c3 = 'gcc-2017' + '&#64;';
				addy0881c
 11b3d9fce776fb2c82c20f306c3 = addy0881c11b3d9fce776fb2c82c20f306c3 + 'm&#10
 5;t' + '&#46;' + '&#101;d&#117;';
				var addy_text0881c11b3d9fce776fb2c82c
 20f306c3 = 'gcc-2017' + '&#64;' + 'm&#105;t' + '&#46;' + '&#101;d&#117;';do
 cument.getElementById('cloak0881c11b3d9fce776fb2c82c20f306c3').innerHTML +=
  '<a ' + path + '\'' + prefix + ':' + addy0881c11b3d9fce776fb2c82c20f306c3 
 + '\'>'+addy_text0881c11b3d9fce776fb2c82c20f306c3+'<\/a>';
		</script>.</p>
 <p>Cheers,<br />The GCC2017 Organizing Committee</p>
CONTACT:This email address is being protected from spambots. You need JavaScript enabled to view it.
				document.getElementById('cloak59ad5b8d7e4ad67b6427352244f4f1d1').innerHTML = '';
				var prefix = '&#109;a' + 'i&#108;' + '&#116;o';
				var path = 'hr' + 'ef' + '=';
				var addy59ad5b8d7e4ad67b6427352244f4f1d1 = 'cc-2017' + '&#64;';
				addy59ad5b8d7e4ad67b6427352244f4f1d1 = addy59ad5b8d7e4ad67b6427352244f4f1d1 + 'm&#105;t' + '&#46;' + '&#101;d&#117;';
				var addy_text59ad5b8d7e4ad67b6427352244f4f1d1 = 'cc-2017' + '&#64;' + 'm&#105;t' + '&#46;' + '&#101;d&#117;';document.getElementById('cloak59ad5b8d7e4ad67b6427352244f4f1d1').innerHTML += '<a ' + path + '\'' + prefix + ':' + addy59ad5b8d7e4ad67b6427352244f4f1d1 + '\'>'+addy_text59ad5b8d7e4ad67b6427352244f4f1d1+'';
		
DTSTAMP:20260424T140024Z
DTSTART;TZID=UTC;VALUE=DATE:20171110
DTEND;TZID=UTC;VALUE=DATE:20171113
SEQUENCE:0
TRANSP:OPAQUE
END:VEVENT
END:VCALENDAR