BEGIN:VCALENDAR
VERSION:2.0
PRODID:-//jEvents 2.0 for Joomla//EN
CALSCALE:GREGORIAN
METHOD:PUBLISH
BEGIN:VEVENT
UID:84c73dcab0c1620cd399008874144d32
CATEGORIES:Polar Conferences, Meetings and Events
CREATED:20170615T063520
SUMMARY:14th International Conference on the Physics and Chemistry of Ice
LOCATION:Zürich\, Switzerland
DESCRIPTION:08-12 January 2018\nThe 14th International Conference on the Physics and Ch
 emistry of Ice (PCI- 2018) will take place in Zürich (Switzerland) during t
 he 2nd week in January 2018. This international symposium series dates back
  55 years and is devoted to research on all aspects of ice. The broad field
  of topics is linked by the focus on fundamentals.\nTopics\n\n - Ice and Li
 fe (near and far, far away)\n - Surfaces, Interfaces and Nucleation\n - Ice
  Phases, Amorphous Ice and Glass Transitions\n - Crystal Growth\n - Microst
 ructure and Mechanics\n - Cryospheric Processes (from glaciological frictio
 n, deformation and damage mechanics, snow dynamics and photochemistry to se
 a ice thermodynamics)Key-Speakers\n\n - Katrin Amann-Winkel (Stockholm Univ
 ersity, Sweden)\non amorphous ice and glass transitions\n - Ian Baker (Dart
 mouth College, U.S.A.)\non defects, micro-mechanics and fabric\n - Hendrik 
 Bluhm (Lawrence Berkeley National Laboratory, U.S.A.)\non water and ice sur
 faces\n - Livia Bove (EPFL, Switzerland)\non high pressure phenomena\n - Id
 o Braslavsky (Hebrew University, Israel)\non ice binding proteins and cryob
 iology\n - Yoshinori Furukawa (Hokkaido University, Japan)\non crystal grow
 th; fundamentals to experiments on the IS\n - Ian Hewitt (University of Oxf
 ord, UK)\non glaciological friction\n - Peter Kusalik (University of Calgar
 y, Canada)\non growths of ices from molecular simulations\n - Jan Pettersso
 n (Univ. Gothenburg, Sweden)\non heterogeneous ice nucleation\n - Steve War
 ren (Univ. of Washington)\non optical properties of ice and snow\n - Jerome
  Weiss (ISTERRE, France)\non sea ice rheology\n - Andrew Wells (University 
 of Oxford, UK)\non sea ice thermodynamicsScientific disciplines addressed\n
 \n - glaciology\n - snow physics\n - atmospheric science\n - biology\n - as
 trophysics\n - condensed matter physics\n - surface science\n - geophysics\
 n - space science\n - material science\n - food technology\n - multi-phase 
 chemistry\n - geo-materials\n - ice engineeringImportant Dates\n\n - Abstra
 ct submission:\n1.7.2017 - 20.9.2017\n - Registration:\n16.10.2017 - 06.12.
 2017\n - Conference:\nMonday Jan 8, 2018 (early morning) - Friday Jan 12, 2
 018 (early afternoon).Please visit http://indico.psi.ch/event/PCI2018 for m
 ore information. A further announcement with registration details such as r
 egistration fees will follow 1 July .2017. We kindly ask you to consider su
 bmitting an abstract and hope to meet you in Zürich.\n
X-ALT-DESC;FMTTYPE=text/html:<p><strong>08-12 January 2018</strong></p><p>The <strong>14th International
  Conference on the Physics and Chemistry of Ice (PCI- 2018)</strong> will t
 ake place in<strong> Zürich (Switzerland)</strong> during the 2nd week in J
 anuary 2018. This international symposium series dates back 55 years and is
  devoted to research on all aspects of ice. The broad field of topics is li
 nked by the focus on fundamentals.</p><p><strong>Topics</strong></p><ul><li
 >Ice and Life (near and far, far away)</li><li>Surfaces, Interfaces and Nuc
 leation</li><li>Ice Phases, Amorphous Ice and Glass Transitions</li><li>Cry
 stal Growth</li><li>Microstructure and Mechanics</li><li>Cryospheric Proces
 ses (from glaciological friction, deformation and damage mechanics, snow dy
 namics and photochemistry to sea ice thermodynamics)</li></ul><p><strong>Ke
 y-Speakers</strong></p><ul><li>Katrin Amann-Winkel (Stockholm University, S
 weden)<br />on amorphous ice and glass transitions</li><li>Ian Baker (Dartm
 outh College, U.S.A.)<br />on defects, micro-mechanics and fabric</li><li>H
 endrik Bluhm (Lawrence Berkeley National Laboratory, U.S.A.)<br />on water 
 and ice surfaces</li><li>Livia Bove (EPFL, Switzerland)<br />on high pressu
 re phenomena</li><li>Ido Braslavsky (Hebrew University, Israel)<br />on ice
  binding proteins and cryobiology</li><li>Yoshinori Furukawa (Hokkaido Univ
 ersity, Japan)<br />on crystal growth; fundamentals to experiments on the I
 S</li><li>Ian Hewitt (University of Oxford, UK)<br />on glaciological frict
 ion</li><li>Peter Kusalik (University of Calgary, Canada)<br />on growths o
 f ices from molecular simulations</li><li>Jan Pettersson (Univ. Gothenburg,
  Sweden)<br />on heterogeneous ice nucleation</li><li>Steve Warren (Univ. o
 f Washington)<br />on optical properties of ice and snow</li><li>Jerome Wei
 ss (ISTERRE, France)<br />on sea ice rheology</li><li>Andrew Wells (Univers
 ity of Oxford, UK)<br />on sea ice thermodynamics</li></ul><p><strong>Scien
 tific disciplines addressed</strong></p><ul><li>glaciology</li><li>snow phy
 sics</li><li>atmospheric science</li><li>biology</li><li>astrophysics</li><
 li>condensed matter physics</li><li>surface science</li><li>geophysics</li>
 <li>space science</li><li>material science</li><li>food technology</li><li>
 multi-phase chemistry</li><li>geo-materials</li><li>ice engineering</li></u
 l><p><strong>Important Dates</strong></p><ul><li>Abstract submission:<br />
 1.7.2017 - 20.9.2017</li><li>Registration:<br />16.10.2017 - 06.12.2017</li
 ><li>Conference:<br />Monday Jan 8, 2018 (early morning) - Friday Jan 12, 2
 018 (early afternoon).</li></ul><p>Please visit <a href="http://indico.psi.
 ch/event/PCI2018">http://indico.psi.ch/event/PCI2018</a> for more informati
 on. A further announcement with registration details such as registration f
 ees will follow 1 July .2017. We kindly ask you to consider submitting an a
 bstract and hope to meet you in Zürich.</p>
CONTACT:This email address is being protected from spambots. You need JavaScript enabled to view it.
				document.getElementById('cloak244109900773505d76c9966651660223').innerHTML = '';
				var prefix = '&#109;a' + 'i&#108;' + '&#116;o';
				var path = 'hr' + 'ef' + '=';
				var addy244109900773505d76c9966651660223 = 'th&#111;rst&#101;n.b&#97;rt&#101;ls-r&#97;&#117;sch' + '&#64;';
				addy244109900773505d76c9966651660223 = addy244109900773505d76c9966651660223 + 'ps&#105;' + '&#46;' + 'ch';
				var addy_text244109900773505d76c9966651660223 = 'th&#111;rst&#101;n.b&#97;rt&#101;ls-r&#97;&#117;sch' + '&#64;' + 'ps&#105;' + '&#46;' + 'ch';document.getElementById('cloak244109900773505d76c9966651660223').innerHTML += '<a ' + path + '\'' + prefix + ':' + addy244109900773505d76c9966651660223 + '\'>'+addy_text244109900773505d76c9966651660223+'';
		
DTSTAMP:20260419T133921Z
DTSTART;TZID=UTC;VALUE=DATE:20180108
DTEND;TZID=UTC;VALUE=DATE:20180113
SEQUENCE:0
TRANSP:OPAQUE
END:VEVENT
END:VCALENDAR