BEGIN:VCALENDAR
VERSION:2.0
PRODID:-//jEvents 2.0 for Joomla//EN
CALSCALE:GREGORIAN
METHOD:PUBLISH
BEGIN:VEVENT
UID:e4ad6988ab1f2d8f3081dc85df329c38
CATEGORIES:Polar Conferences, Meetings and Events
CREATED:20170615T134010
SUMMARY:PYRN Ice-Breaker at ACOP2017
LOCATION:Hokkaido University Museum Café
DESCRIPTION:Dear Permafrost Young Researchers,\nWe are happy to make a few announcement
 s regarding the activities organized by PYRN during the 2nd Asian Conferenc
 e on Permafrost (ACOP2017 (http://acop2017.arc.hokudai.ac.jp/)).\nPYRN Ice-
 Breaker\nA Permafrost Young Researchers Ice-Breaker will be held at the Hok
 kaido University Museum Café on July 3rd after the poster session. Food and
  drinks are going to be offered for free to the registered participants. It
  will be the ideal occasion to gather and unwind after the first day of the
  conference.\nPYRN-IPA Awards\nAwards will be granted during ACOP2017 for “
 Outstanding Oral Presentation” and “Outstanding Poster Presentation” by a Y
 oung Permafrost Researcher.\nPlease help the judges identify your presentat
 ion by putting the “<a href="http://pyrn.arcticportal.org/images/images/gra
 phics/logos/PYRN/pyrn_award_logo.jpg" target="_blank" rel="noopener norefer
 rer">Running for PYRN awards</a>” logo on the title page of our presentatio
 n or at the top of your poster. The logo can be downloaded here (http://pyr
 n.arcticportal.org/images/images/graphics/logos/PYRN/pyrn_award_logo.jpg).\
 nRegistration\nPlease register for the PYRN Ice-Breaker and sign up for the
  PYRN-IPA Awards by filling up the following form before June 28th: <a href
 ="https://docs.google.com/forms/d/e/1FAIpQLSdasYFuUzk6vWBGtvIFrl38vFKerzaCO
 Q2CUDYWk2ej3GXnWA/viewform">https://docs.google.com/forms/d/e/1FAIpQLSdasYF
 uUzk6vWBGtvIFrl38vFKerzaCOQ2CUDYWk2ej3GXnWA/viewform</a>\nAlso, make sure y
 ou are a registered PYRN members by looking up your name in the PYRN Member
  List (http://pyrn.arcticportal.org/join-us/member-list) or <a href="http:/
 /pyrn.arcticportal.org/join-us" target="_blank" rel="noopener noreferrer">r
 egister for free</a>.\nWe are also reminding you that you can follow PYRN o
 n Facebook @PYRNofficial (https://www.facebook.com/PYRNofficial/?ref=nf), T
 witter <a href="https://twitter.com/pyrn_official" target="_blank" rel="noo
 pener noreferrer">@PYRN_official</a> and Instagram @PYRN_official (https://
 www.instagram.com/PYRN_official/).\nFor any questions regarding the PYRN ac
 tivities at ACOP2017, please contact Simon Dumais at This email address is 
 being protected from spambots. You need JavaScript enabled to view it.
				
 document.getElementById('cloak5454fd2b6343ed8ab498dcc51c0bc2df').innerHTML 
 = '';
				var prefix = '&#109;a' + 'i&#108;' + '&#116;o';
				var path = 'h
 r' + 'ef' + '=';
				var addy5454fd2b6343ed8ab498dcc51c0bc2df = 'c&#111;nt&
 #97;ct' + '&#64;';
				addy5454fd2b6343ed8ab498dcc51c0bc2df = addy5454fd2b6
 343ed8ab498dcc51c0bc2df + 'pyrn' + '&#46;' + '&#111;rg';
				var addy_text5
 454fd2b6343ed8ab498dcc51c0bc2df = 'c&#111;nt&#97;ct' + '&#64;' + 'pyrn' + '
 &#46;' + '&#111;rg';document.getElementById('cloak5454fd2b6343ed8ab498dcc51
 c0bc2df').innerHTML += '<a ' + path + '\'' + prefix + ':' + addy5454fd2b634
 3ed8ab498dcc51c0bc2df + '\'>'+addy_text5454fd2b6343ed8ab498dcc51c0bc2df+'';
 
		.\nWe are looking forward to seeing you in Sapporo!\nSimon Dumais and Ta
 tsuya Watanabe on behalf of the PYRN Executive Committee and the ACOP2017 L
 ocal Organizing Committee.\n
X-ALT-DESC;FMTTYPE=text/html:<p>Dear Permafrost Young Researchers,</p><p>We are happy to make a few anno
 uncements regarding the activities organized by PYRN during the 2nd Asian C
 onference on Permafrost (<a href="http://acop2017.arc.hokudai.ac.jp/" targe
 t="_blank" rel="noopener noreferrer">ACOP2017</a>).</p><p><strong>PYRN Ice-
 Breaker</strong></p><p>A Permafrost Young Researchers Ice-Breaker will be h
 eld at the <strong>Hokkaido University Museum Café on July 3rd</strong> <st
 rong>after the poster session</strong>. Food and drinks are going to be off
 ered for free to the registered participants. It will be the ideal occasion
  to gather and unwind after the first day of the conference.</p><p><strong>
 PYRN-IPA Awards</strong></p><p>Awards will be granted during ACOP2017 for “
 Outstanding Oral Presentation” and “Outstanding Poster Presentation” by a Y
 oung Permafrost Researcher.</p><p>Please help the judges identify your pres
 entation by putting the “<a href="http://pyrn.arcticportal.org/images/image
 s/graphics/logos/PYRN/pyrn_award_logo.jpg" target="_blank" rel="noopener no
 referrer">Running for PYRN awards</a>” logo on the title page of our presen
 tation or at the top of your poster. The logo can be downloaded <a href="ht
 tp://pyrn.arcticportal.org/images/images/graphics/logos/PYRN/pyrn_award_log
 o.jpg" target="_blank" rel="noopener noreferrer">here</a>.</p><p>Registrati
 on</p><p>Please register for the PYRN Ice-Breaker and sign up for the PYRN-
 IPA Awards by filling up the following form before <strong>June 28th</stron
 g>: <a href="https://docs.google.com/forms/d/e/1FAIpQLSdasYFuUzk6vWBGtvIFrl
 38vFKerzaCOQ2CUDYWk2ej3GXnWA/viewform">https://docs.google.com/forms/d/e/1F
 AIpQLSdasYFuUzk6vWBGtvIFrl38vFKerzaCOQ2CUDYWk2ej3GXnWA/viewform</a></p><p>A
 lso, make sure you are a registered PYRN members by looking up your name in
  the <a href="http://pyrn.arcticportal.org/join-us/member-list" target="_bl
 ank" rel="noopener noreferrer">PYRN Member List</a> or <a href="http://pyrn
 .arcticportal.org/join-us" target="_blank" rel="noopener noreferrer">regist
 er for free</a>.</p><p>We are also reminding you that you can follow PYRN o
 n Facebook <a href="https://www.facebook.com/PYRNofficial/?ref=nf" target="
 _blank" rel="noopener noreferrer">@PYRNofficial</a>, Twitter <a href="https
 ://twitter.com/pyrn_official" target="_blank" rel="noopener noreferrer">@PY
 RN_official</a> and Instagram <a href="https://www.instagram.com/PYRN_offic
 ial/" target="_blank" rel="noopener noreferrer">@PYRN_official</a>.</p><p>F
 or any questions regarding the PYRN activities at ACOP2017, please contact 
 Simon Dumais at <span id="cloak5454fd2b6343ed8ab498dcc51c0bc2df">This email
  address is being protected from spambots. You need JavaScript enabled to v
 iew it.</span><script type='text/javascript'>
				document.getElementById('
 cloak5454fd2b6343ed8ab498dcc51c0bc2df').innerHTML = '';
				var prefix = '&
 #109;a' + 'i&#108;' + '&#116;o';
				var path = 'hr' + 'ef' + '=';
				var 
 addy5454fd2b6343ed8ab498dcc51c0bc2df = 'c&#111;nt&#97;ct' + '&#64;';
				ad
 dy5454fd2b6343ed8ab498dcc51c0bc2df = addy5454fd2b6343ed8ab498dcc51c0bc2df +
  'pyrn' + '&#46;' + '&#111;rg';
				var addy_text5454fd2b6343ed8ab498dcc51c
 0bc2df = 'c&#111;nt&#97;ct' + '&#64;' + 'pyrn' + '&#46;' + '&#111;rg';docum
 ent.getElementById('cloak5454fd2b6343ed8ab498dcc51c0bc2df').innerHTML += '<
 a ' + path + '\'' + prefix + ':' + addy5454fd2b6343ed8ab498dcc51c0bc2df + '
 \'>'+addy_text5454fd2b6343ed8ab498dcc51c0bc2df+'<\/a>';
		</script>.</p><p>
 We are looking forward to seeing you in Sapporo!</p><p>Simon Dumais and Tat
 suya Watanabe on behalf of the PYRN Executive Committee and the ACOP2017 Lo
 cal Organizing Committee.</p>
DTSTAMP:20260424T162345Z
DTSTART;TZID=UTC;VALUE=DATE:20170703
DTEND;TZID=UTC;VALUE=DATE:20170704
SEQUENCE:0
TRANSP:OPAQUE
END:VEVENT
END:VCALENDAR