BEGIN:VCALENDAR
VERSION:2.0
PRODID:-//jEvents 2.0 for Joomla//EN
CALSCALE:GREGORIAN
METHOD:PUBLISH
BEGIN:VEVENT
UID:769198bd82f6b26b8dec930b861fdf96
CATEGORIES:Field and Summer Schools
CREATED:20170809T125459
SUMMARY:2018-19 PolarTREC Field Seasons Researchers
LOCATION:webinar
DESCRIPTION:<p><strong>Researcher Webinar Registration deadline:</strong> Monday, 28 Au
 gust 2017</p><p><strong>Researcher Application deadline:</strong> Monday, 4
  September 2017</p><p><a href="https://www.arcus.org/sites/all/modules/civi
 crm/extern/url.php?u=3881&amp;qid=243227" target="_blank" rel="noopener nor
 eferrer">PolarTREC</a> (Teachers and Researchers Exploring and Collaboratin
 g) is currently accepting applications from researchers for teacher researc
 h experiences. Researchers are invited to submit an application to host a P
 olarTREC teacher in the 2018 Arctic field season and/or the 2018-2019 Antar
 ctic field seasons.</p><p><strong>IMPORTANT!</strong> Funding is pending fo
 r PolarTREC during the 2018-19 field seasons. ARCUS will keep researcher ap
 plicants informed of our funding status. If funding is secured, final match
 es should be made in December 2017 or January 2018.</p><p>A one-hour inform
 ational webinar for researchers interested in hosting a PolarTREC teacher o
 n their polar research project will be held on Wednesday, <strong>30 August
  2017</strong> at 11:00 a.m. AKDT (12:00 p.m. PDT, 1:00 p.m. MDT, 2:00 p.m.
  CDT, 3:00 p.m. EDT).</p><p>Webinar registration is available through the P
 olarTREC website at:</p><p><a href="https://www.arcus.org/sites/all/modules
 /civicrm/extern/url.php?u=3883&amp;qid=243227" target="_blank" rel="noopene
 r noreferrer">Webinar Registration</a></p><p>PolarTREC, a program of the Ar
 ctic Research Consortium of the U.S. (<a href="https://www.arcus.org/sites/
 all/modules/civicrm/extern/url.php?u=3884&amp;qid=243227" target="_blank" r
 el="noopener noreferrer">ARCUS</a>), is a project through which middle and 
 high school teachers, as well as informal science educators participate in 
 polar research, working closely with scientists as a pathway to improving s
 cience education.</p><p>The program integrates research and education to pr
 oduce a legacy of long-term teacher-researcher collaborations, improved tea
 cher content knowledge and instructional practices, and broad public intere
 st and engagement in polar science. PolarTREC projects focus on a wide vari
 ety of research activities occurring in both the Arctic and Antarctic, prov
 iding an outstanding opportunity for researchers to share their passion for
  polar science through topics that naturally engage students and the wider 
 public.</p><p>Through PolarTREC, teachers spend two to six weeks in the Arc
 tic or Antarctic, working closely with researchers in the field as an integ
 ral part of the science team. PolarTREC teachers and researchers are matche
 d based on similar science interests and selected researchers will have the
  opportunity to interview top applicants and make final selections.</p><p>T
 eachers participate in an orientation and are trained extensively to meet t
 he program requirements prior to the field season. While in the field, teac
 hers and researchers communicate extensively with their colleagues, communi
 ties, and students of all ages across the globe, using a variety of tools i
 ncluding online journals, forums, podcasts, and interactive webinars from t
 he field.</p><p>PolarTREC researchers must be at U.S. institutions. Applica
 tions from researchers on National Science Foundation (NSF) funded projects
  will receive priority in the selection process. Researchers should have se
 cured funding for their research project prior to applying. If funding is p
 ending and you would still like to host a teacher contact <a href="https://
 www.arcus.org/sites/all/modules/civicrm/extern/url.php?u=3882&amp;qid=24322
 7" target="_blank" rel="noopener noreferrer">PolarTREC</a> to discuss your 
 situation and future opportunities.</p><p>If you are interested in particip
 ating in PolarTREC, but are unable to apply during the application period, 
 please contact <a href="https://www.arcus.org/sites/all/modules/civicrm/ext
 ern/url.php?u=3882&amp;qid=243227" target="_blank" rel="noopener noreferrer
 ">PolarTREC staff</a> to discuss opportunities for future participation.</p
 ><p>For further information and application forms, visit the PolarTREC webs
 ite at: <a href="https://www.arcus.org/sites/all/modules/civicrm/extern/url
 .php?u=3881&amp;qid=243227" target="_blank" rel="noopener noreferrer">View 
 PolarTREC Website</a><br /> <br />For questions, contact:<br />PolarTREC<br
  />Email: <span id="cloak0fe102b263e5b5c5988cda2603af6f53">This email addre
 ss is being protected from spambots. You need JavaScript enabled to view it
 .</span><script type='text/javascript'>
				document.getElementById('cloak0
 fe102b263e5b5c5988cda2603af6f53').innerHTML = '';
				var prefix = '&#109;a
 ' + 'i&#108;' + '&#116;o';
				var path = 'hr' + 'ef' + '=';
				var addy0f
 e102b263e5b5c5988cda2603af6f53 = '&#105;nf&#111;' + '&#64;';
				addy0fe102
 b263e5b5c5988cda2603af6f53 = addy0fe102b263e5b5c5988cda2603af6f53 + 'p&#111
 ;l&#97;rtr&#101;c' + '&#46;' + 'c&#111;m';
				var addy_text0fe102b263e5b5c
 5988cda2603af6f53 = '&#105;nf&#111;' + '&#64;' + 'p&#111;l&#97;rtr&#101;c' 
 + '&#46;' + 'c&#111;m';document.getElementById('cloak0fe102b263e5b5c5988cda
 2603af6f53').innerHTML += '<a ' + path + '\'' + prefix + ':' + addy0fe102b2
 63e5b5c5988cda2603af6f53 + '\'>'+addy_text0fe102b263e5b5c5988cda2603af6f53+
 '<\/a>';
		</script><br />Phone: 907-474-1600</p>
DTSTAMP:20260424T095411Z
DTSTART;TZID=UTC;VALUE=DATE:20170830
DTEND;TZID=UTC;VALUE=DATE:20170831
SEQUENCE:0
TRANSP:OPAQUE
END:VEVENT
END:VCALENDAR