BEGIN:VCALENDAR
VERSION:2.0
PRODID:-//jEvents 2.0 for Joomla//EN
CALSCALE:GREGORIAN
METHOD:PUBLISH
BEGIN:VEVENT
UID:9a9736620d76bd70cabd3d20ab34eb90
CATEGORIES:Polar Conferences, Meetings and Events
CREATED:20170809T130957
SUMMARY:5th International Symposium on Arctic Research (ISAR-5)
LOCATION:Hitotsubashi Hall\, Tokyo\, Japan
DESCRIPTION:Extended abstract submission deadline: Friday, 15 September 2018\nOrganizer
 s announce an extended deadline for the abstract submissions for the 5th In
 ternational Symposium on Arctic Research (ISAR-5) entitled "The Changing Ar
 ctic and its Regional to Global Impact: From Information to Knowledge and A
 ction." The symposium will convene 15-18 January 2018 in Tokyo, Japan.\nThe
  ISAR-5 will focus on discussions on environmental changes in the Arctic an
 d their regional and global implications and seeking additional internation
 al scientific collaboration in this area by gathering, synthesizing, and sh
 aring information related to these changes occurring in the Arctic. Special
  emphasis will be placed on the fields of the social sciences and humanitie
 s.\nThe symposium will consist of plenary, general, and special sessions, a
 s well as poster sessions. Special sessions are inter-disciplinary and soli
 cited from participants.\nThey invite you to submit an abstract and make re
 gistration through the website: https://jcar.org/isar-5/\n Important! There
  are some news and changes for the registration and abstract submission.\n<
 a href="https://jcar.org/isar-5/index.html">https://jcar.org/isar-5/index.h
 tml</a>\n- [Removed]The requirement of Registration before Abstract submiss
 ion was removed. Input of Registration ID is not anymore “must” for Abstrac
 t submission.\n- In case of the payment by credit card, it will not be char
 ged to your credit card account before December 2017 far later than the acc
 ept/reject notice of the submitted abstract. \n- [Changed]One day registrat
 ion does not require specific date. Name card with attending date will be i
 ssued at the reception desk.\n- The page on Reception information page is o
 pen.\n-Your payment receipt will be issued at the registration desk on-site
  with your name card.\nThe deadline of the early-bird registration is Novem
 ber 15, 2017 and the late registration ends on December 15, 2017. On-site r
 egistration is also available during Symposium (Jan. 15-18, 2018).\nPlease 
 feel free to circulate this call into your labs, institutes and communities
 .\nInformation for side meetings can be found far down below.\nThe symposiu
 m will address “the changing Arctic and its regional to global impact: From
  information to knowledge and action.” The sessions you can submit your abs
 tract are listed below and also find at : https://jcar.org/isar-5/abstract/
 session_information.html.\n- The general sessions are single disciplinary s
 ession and the special sessions are inter/multi-disciplinary session.\n- Pl
 ease use the template downloading from the website (https://jcar.org/isar-5
 /abstract/index.html) to make your abstract.\n- Now Registration is not req
 uired for the submission of your abstract.\n- If it is difficult to find a 
 session, just pick a general session, which is closest to the subject you w
 ill present in Symposium.\n- Submission of abstract is limited to one for o
 ral presentation, and two for poster presentation.\nSessions\nGeneral Sessi
 ons\n(G 1) Atmosphere Main convener: Mio Matsueda / Co-convener: Keiichiro 
 Hara\n(G 2) Ocean and Sea Ice Main convener: Hajime Yamaguchi / Co-convener
 s: Genki Sagawa, Hiroyasu Hasumi\n(G 3) Rivers, Lakes, Permafrost and Snow 
 Cover Main convener: Mamoru Ishikawa / Co-convener: Masahiro Hori\n(G 4) Ic
 e Sheets, Glaciers and Ice Cores Main convener: Hiroyuki Enomoto / Co-conve
 ners: Teruo Aoki, Konrad Steffen, Yoshinori Iizuka\n(G 5) Terrestrial Ecosy
 stems Main convener: Yojiro Matsuura\n(G 6) Marine Ecosystems Main convener
 : Sei-Ichi Saito\n(G 7) Geospace Main convener: Yasunobu Ogawa / Co-convene
 rs: Ryuho Kataoka, Yoshizumi Miyoshi, Takuji Nakamura\n(G 8) Policies and E
 conomy Main convener: Shinichiro Tabata / Co-convener: Fujio Ohnishi\n(G 9)
  Social and Cultural Dimensions Main convener: Shiaki Kondo / Co-convener: 
 Shirow Tatsuzawa\n \nSpecial Sessions\n(S 1) Arctic Warming by Natural Vari
 ability and/or Human Impact Main convener: Hiroshi L. Tanaka / Co-convener:
  John E. Walsh\n(S 2) Synergies for "New Arctic" Climate Prediction, Observ
 ation and Modeling Main convener: Jun Inoue / Co-conveners: Yusuke Kawaguch
 i, Benjamin Rabe, Daiki Nomura (S 3) A Complex Adapting Arctic Ecohydrology
  in the Context of Changing Climate Main convener: Hotaek Park / Co-convene
 rs: Tetsuya Hiyama, Daqing Yang\n(S 4) Biogeochemical Cycles and Biodiversi
 ty of Terrestrial Ecosystems under Arctic Warming Main convener: Hideki Kob
 ayashi / Co-conveners: Josef Elster, Yongwon Kim, Elie Verleyen, Shin Nagai
 \n(S 5) Synoptic Arctic Survey – An Ocean Research Program for the Future M
 ain convener: Are Olsen / Co-conveners: Shigeto Nishino, Leif Anderson, Mic
 hiyo Yamamoto–Kawai, Sung-Ho Kang, Øyvind Paasche\n(S 6) The Pacific Arctic
  Region: Rapid Environmental Changes and their Impacts on Ecosystems, Clima
 te, and Society Main convener: Amane Fujiwara / Co-conveners: Kohei Mizobat
 a, Hajo Eicken, Sung-Ho Kang\n(S 7) Challenges for Sustainable Use of the A
 rctic Sea Route Main convener: Natsuhiko Otsuka\n(S 8) Developing Under-ice
  AUV Systems Main convener: Peter Wadhams / Co-convener: Bo Krogh\n(S 9) Un
 derstanding the Changing Arctic through Data: Stewardship, Publication, and
  Science Main convener: Peter L. Pulsifer / Co-conveners: Masaki Kanao, Øys
 tein Godøy, Shannon Christoffersen Vossepoel, Hironori Yabuki, Julie Fridde
 ll\n(S10) Sustainable Development in the Russian Arctic: Perspectives from 
 Economic,\nEnvironmental and Policy Studies Main convener: Violetta Gassiy 
 / Co-convener: Daria Gritsenko\n(S11) Environmental, Economic, Societal and
  Geopolitical Dynamics in the Arctic, their Global Drivers and Implications
  Main convener: Lassi Heininen / Co-conveners: Matthias Finger, Fujio Ohnis
 hi\n(S12) Greenlandic Reflections of Global Concerns: Ecological, Social an
 d Political Perspectives on the Future Main convener: Naotaka Hayashi / Co-
 convener: Minori Takahashi\n(S13) Non-Arctic Decision-making and the Dynami
 cs of Social Change in the North Main convener: Nikolas Sellheim / Co-conve
 ner: Osamu Inagaki\n(S14) Synthesizing Local Interactions between Permafros
 t and Human Societies Main convener: Hiroki Takakura / Co-conveners: Tamara
  Litvinenko, Yoshihiro Iijima\n(S15) Technology, Infrastructure and Human S
 pace in the Past and Present of Northern Regions Main convener: Naoko Iwasa
 ki / Co-conveners: Peter Schweitzer, Hiroki Takakura\n \nSide Meetings\nDo 
 you want to organize side event during ISAR-5? We will be able to provide s
 ome meeting rooms as below. The rooms in the venue are reserved the first c
 ome, first served bases, and free of charge in the following time period.\n
 January 15 (Mon) 13:00-21:00\nJanuary 17 (Wed) 19:00-21:00\nJanuary 18 (Thu
 ) 17:00-21:00\nIf the rooms in the venue are full and not available, the IS
 AR-5 office can find and introduce fee-based rental rooms. Please contact I
 SAR-5 Office (This email address is being protected from spambots. You need
  JavaScript enabled to view it.
				document.getElementById('cloakfdbb64db4
 f5657ca7cf90f87f6cd5c66').innerHTML = '';
				var prefix = '&#109;a' + 'i&#
 108;' + '&#116;o';
				var path = 'hr' + 'ef' + '=';
				var addyfdbb64db4f
 5657ca7cf90f87f6cd5c66 = '&#105;s&#97;r5-&#111;ff&#105;c&#101;' + '&#64;';

 				addyfdbb64db4f5657ca7cf90f87f6cd5c66 = addyfdbb64db4f5657ca7cf90f87f6cd
 5c66 + 'n&#105;pr' + '&#46;' + '&#97;c' + '&#46;' + 'jp';
				var addy_text
 fdbb64db4f5657ca7cf90f87f6cd5c66 = '&#105;s&#97;r5-&#111;ff&#105;c&#101;' +
  '&#64;' + 'n&#105;pr' + '&#46;' + '&#97;c' + '&#46;' + 'jp';document.getEl
 ementById('cloakfdbb64db4f5657ca7cf90f87f6cd5c66').innerHTML += '<a ' + pat
 h + '\'' + prefix + ':' + addyfdbb64db4f5657ca7cf90f87f6cd5c66 + '\'>'+addy
 _textfdbb64db4f5657ca7cf90f87f6cd5c66+'';
		) providing the following infor
 mation.\n- Contact person’s name, affiliation, e-mail address,\n- Name of t
 he meeting,\n- Name of the organizer and affiliation,\n- Planned date and t
 ime period,\n- Expect number of attendees, and\n- Other specific requiremen
 ts.\n\n\nIf you have any inquiries, please contact ISAR-5 Secretariat: This
  email address is being protected from spambots. You need JavaScript enable
 d to view it.
				document.getElementById('cloak5f41ae6d72d4b9c8d9d8e09e8fe
 17848').innerHTML = '';
				var prefix = '&#109;a' + 'i&#108;' + '&#116;o';
 
				var path = 'hr' + 'ef' + '=';
				var addy5f41ae6d72d4b9c8d9d8e09e8fe1
 7848 = '&#105;s&#97;r5-&#111;ff&#105;c&#101;' + '&#64;';
				addy5f41ae6d72
 d4b9c8d9d8e09e8fe17848 = addy5f41ae6d72d4b9c8d9d8e09e8fe17848 + 'n&#105;pr'
  + '&#46;' + '&#97;c' + '&#46;' + 'jp';
				var addy_text5f41ae6d72d4b9c8d9
 d8e09e8fe17848 = '&#105;s&#97;r5-&#111;ff&#105;c&#101;' + '&#64;' + 'n&#105
 ;pr' + '&#46;' + '&#97;c' + '&#46;' + 'jp';document.getElementById('cloak5f
 41ae6d72d4b9c8d9d8e09e8fe17848').innerHTML += '<a ' + path + '\'' + prefix 
 + ':' + addy5f41ae6d72d4b9c8d9d8e09e8fe17848 + '\'>'+addy_text5f41ae6d72d4b
 9c8d9d8e09e8fe17848+'';
		.\n \n
X-ALT-DESC;FMTTYPE=text/html:<p><strong>Extended abstract submission deadline: Friday, 15 September 2018
 </strong></p><p>Organizers announce an extended deadline for the abstract s
 ubmissions for the <strong>5th International Symposium on Arctic Research (
 ISAR-5)</strong> entitled "The Changing Arctic and its Regional to Global I
 mpact: <strong>From Information to Knowledge and Action." The symposium wil
 l convene 15-18 January 2018 in Tokyo, Japan.</strong></p><p>The ISAR-5 wil
 l focus on discussions on environmental changes in the Arctic and their reg
 ional and global implications and seeking additional international scientif
 ic collaboration in this area by gathering, synthesizing, and sharing infor
 mation related to these changes occurring in the Arctic. Special emphasis w
 ill be placed on the fields of the social sciences and humanities.</p><p st
 yle="text-align: justify;">The symposium will consist of plenary, general, 
 and special sessions, as well as poster sessions. Special sessions are inte
 r-disciplinary and solicited from participants.</p><p>They invite you to su
 bmit an <strong>abstract and make registration</strong> through the website
 : <strong><a href="https://jcar.org/isar-5/">https://jcar.org/isar-5/</a></
 strong></p><p><strong>&nbsp;Important!</strong> There are some news and cha
 nges for the registration and abstract submission.</p><p><a href="https://j
 car.org/isar-5/index.html">https://jcar.org/isar-5/index.html</a></p><p>- [
 Removed]The requirement of Registration before Abstract submission was remo
 ved. Input of Registration ID is not anymore “must” for Abstract submission
 .<br />- In case of the payment by credit card, it will not be charged to y
 our credit card account before December 2017 far later than the accept/reje
 ct notice of the submitted abstract. <br />- [Changed]One day registration 
 does not require specific date. Name card with attending date will be issue
 d at the reception desk.<br />- The page on Reception information page is o
 pen.<br />-Your payment receipt will be issued at the registration desk on-
 site with your name card.</p><p>The deadline of the <strong>early-bird regi
 stration is November 15, 2017</strong> and the late registration ends on De
 cember 15, 2017. On-site registration is also available during Symposium (J
 an. 15-18, 2018).</p><p>Please feel free to circulate this call into your l
 abs, institutes and communities.</p><p>Information for side meetings can be
  found far down below.</p><p>The symposium will address “the changing Arcti
 c and its regional to global impact: From information to knowledge and acti
 on.” The sessions you can submit your abstract are listed below and also fi
 nd at : <a href="https://jcar.org/isar-5/abstract/session_information.html"
 >https://jcar.org/isar-5/abstract/session_information.html</a>.</p><p>- The
  general sessions are single disciplinary session and the special sessions 
 are inter/multi-disciplinary session.</p><p>- Please use the template downl
 oading from the website (https://jcar.org/isar-5/abstract/index.html) to ma
 ke your abstract.</p><p>- Now Registration is not required for the submissi
 on of your abstract.</p><p>- If it is difficult to find a session, just pic
 k a general session, which is closest to the subject you will present in Sy
 mposium.</p><p>- Submission of abstract is limited to one for oral presenta
 tion, and two for poster presentation.</p><p><strong>Sessions</strong></p><
 p><em>General Sessions</em></p><p>(G 1) Atmosphere Main convener: Mio Matsu
 eda / Co-convener: Keiichiro Hara</p><p>(G 2) Ocean and Sea Ice Main conven
 er: Hajime Yamaguchi / Co-conveners: Genki Sagawa, Hiroyasu Hasumi</p><p>(G
  3) Rivers, Lakes, Permafrost and Snow Cover Main convener: Mamoru Ishikawa
  / Co-convener: Masahiro Hori</p><p>(G 4) Ice Sheets, Glaciers and Ice Core
 s Main convener: Hiroyuki Enomoto / Co-conveners: Teruo Aoki, Konrad Steffe
 n, Yoshinori Iizuka</p><p>(G 5) Terrestrial Ecosystems Main convener: Yojir
 o Matsuura</p><p>(G 6) Marine Ecosystems Main convener: Sei-Ichi Saito</p><
 p>(G 7) Geospace Main convener: Yasunobu Ogawa / Co-conveners: Ryuho Kataok
 a, Yoshizumi Miyoshi, Takuji Nakamura</p><p>(G 8) Policies and Economy Main
  convener: Shinichiro Tabata / Co-convener: Fujio Ohnishi</p><p>(G 9) Socia
 l and Cultural Dimensions Main convener: Shiaki Kondo / Co-convener: Shirow
  Tatsuzawa</p><p>&nbsp;</p><p><em>Special Sessions</em></p><p>(S 1) Arctic 
 Warming by Natural Variability and/or Human Impact Main convener: Hiroshi L
 . Tanaka / Co-convener: John E. Walsh</p><p>(S 2) Synergies for "New Arctic
 " Climate Prediction, Observation and Modeling Main convener: Jun Inoue / C
 o-conveners: Yusuke Kawaguchi, Benjamin Rabe, Daiki Nomura (S 3) A Complex 
 Adapting Arctic Ecohydrology in the Context of Changing Climate Main conven
 er: Hotaek Park / Co-conveners: Tetsuya Hiyama, Daqing Yang</p><p>(S 4) Bio
 geochemical Cycles and Biodiversity of Terrestrial Ecosystems under Arctic 
 Warming Main convener: Hideki Kobayashi / Co-conveners: Josef Elster, Yongw
 on Kim, Elie Verleyen, Shin Nagai</p><p>(S 5) Synoptic Arctic Survey – An O
 cean Research Program for the Future Main convener: Are Olsen / Co-convener
 s: Shigeto Nishino, Leif Anderson, Michiyo Yamamoto–Kawai, Sung-Ho Kang, Øy
 vind Paasche</p><p>(S 6) The Pacific Arctic Region: Rapid Environmental Cha
 nges and their Impacts on Ecosystems, Climate, and Society Main convener: A
 mane Fujiwara / Co-conveners: Kohei Mizobata, Hajo Eicken, Sung-Ho Kang</p>
 <p>(S 7) Challenges for Sustainable Use of the Arctic Sea Route Main conven
 er: Natsuhiko Otsuka</p><p>(S 8) Developing Under-ice AUV Systems Main conv
 ener: Peter Wadhams / Co-convener: Bo Krogh</p><p>(S 9) Understanding the C
 hanging Arctic through Data: Stewardship, Publication, and Science Main con
 vener: Peter L. Pulsifer / Co-conveners: Masaki Kanao, Øystein Godøy, Shann
 on Christoffersen Vossepoel, Hironori Yabuki, Julie Friddell</p><p>(S10) Su
 stainable Development in the Russian Arctic: Perspectives from Economic,</p
 ><p>Environmental and Policy Studies Main convener: Violetta Gassiy / Co-co
 nvener: Daria Gritsenko</p><p>(S11) Environmental, Economic, Societal and G
 eopolitical Dynamics in the Arctic, their Global Drivers and Implications M
 ain convener: Lassi Heininen / Co-conveners: Matthias Finger, Fujio Ohnishi
 </p><p>(S12) Greenlandic Reflections of Global Concerns: Ecological, Social
  and Political Perspectives on the Future Main convener: Naotaka Hayashi / 
 Co-convener: Minori Takahashi</p><p>(S13) Non-Arctic Decision-making and th
 e Dynamics of Social Change in the North Main convener: Nikolas Sellheim / 
 Co-convener: Osamu Inagaki</p><p>(S14) Synthesizing Local Interactions betw
 een Permafrost and Human Societies Main convener: Hiroki Takakura / Co-conv
 eners: Tamara Litvinenko, Yoshihiro Iijima</p><p>(S15) Technology, Infrastr
 ucture and Human Space in the Past and Present of Northern Regions Main con
 vener: Naoko Iwasaki / Co-conveners: Peter Schweitzer, Hiroki Takakura</p><
 p>&nbsp;</p><p><strong>Side Meetings</strong></p><p>Do you want to organize
  side event during ISAR-5? We will be able to provide some meeting rooms as
  below. The rooms in the venue are reserved the first come, first served ba
 ses, and free of charge in the following time period.</p><p>January 15 (Mon
 ) 13:00-21:00</p><p>January 17 (Wed) 19:00-21:00</p><p>January 18 (Thu) 17:
 00-21:00</p><p>If the rooms in the venue are full and not available, the IS
 AR-5 office can find and introduce fee-based rental rooms. Please contact I
 SAR-5 Office (<span id="cloakfdbb64db4f5657ca7cf90f87f6cd5c66">This email a
 ddress is being protected from spambots. You need JavaScript enabled to vie
 w it.</span><script type='text/javascript'>
				document.getElementById('cl
 oakfdbb64db4f5657ca7cf90f87f6cd5c66').innerHTML = '';
				var prefix = '&#1
 09;a' + 'i&#108;' + '&#116;o';
				var path = 'hr' + 'ef' + '=';
				var ad
 dyfdbb64db4f5657ca7cf90f87f6cd5c66 = '&#105;s&#97;r5-&#111;ff&#105;c&#101;'
  + '&#64;';
				addyfdbb64db4f5657ca7cf90f87f6cd5c66 = addyfdbb64db4f5657ca
 7cf90f87f6cd5c66 + 'n&#105;pr' + '&#46;' + '&#97;c' + '&#46;' + 'jp';
				v
 ar addy_textfdbb64db4f5657ca7cf90f87f6cd5c66 = '&#105;s&#97;r5-&#111;ff&#10
 5;c&#101;' + '&#64;' + 'n&#105;pr' + '&#46;' + '&#97;c' + '&#46;' + 'jp';do
 cument.getElementById('cloakfdbb64db4f5657ca7cf90f87f6cd5c66').innerHTML +=
  '<a ' + path + '\'' + prefix + ':' + addyfdbb64db4f5657ca7cf90f87f6cd5c66 
 + '\'>'+addy_textfdbb64db4f5657ca7cf90f87f6cd5c66+'<\/a>';
		</script>) pro
 viding the following information.</p><p>- Contact person’s name, affiliatio
 n, e-mail address,</p><p>- Name of the meeting,</p><p>- Name of the organiz
 er and affiliation,</p><p>- Planned date and time period,</p><p>- Expect nu
 mber of attendees, and</p><p>- Other specific requirements.<br /><br /></p>
 <p>If you have any inquiries, please contact ISAR-5 Secretariat: <span id="
 cloak5f41ae6d72d4b9c8d9d8e09e8fe17848">This email address is being protecte
 d from spambots. You need JavaScript enabled to view it.</span><script type
 ='text/javascript'>
				document.getElementById('cloak5f41ae6d72d4b9c8d9d8e
 09e8fe17848').innerHTML = '';
				var prefix = '&#109;a' + 'i&#108;' + '&#1
 16;o';
				var path = 'hr' + 'ef' + '=';
				var addy5f41ae6d72d4b9c8d9d8e0
 9e8fe17848 = '&#105;s&#97;r5-&#111;ff&#105;c&#101;' + '&#64;';
				addy5f41
 ae6d72d4b9c8d9d8e09e8fe17848 = addy5f41ae6d72d4b9c8d9d8e09e8fe17848 + 'n&#1
 05;pr' + '&#46;' + '&#97;c' + '&#46;' + 'jp';
				var addy_text5f41ae6d72d4
 b9c8d9d8e09e8fe17848 = '&#105;s&#97;r5-&#111;ff&#105;c&#101;' + '&#64;' + '
 n&#105;pr' + '&#46;' + '&#97;c' + '&#46;' + 'jp';document.getElementById('c
 loak5f41ae6d72d4b9c8d9d8e09e8fe17848').innerHTML += '<a ' + path + '\'' + p
 refix + ':' + addy5f41ae6d72d4b9c8d9d8e09e8fe17848 + '\'>'+addy_text5f41ae6
 d72d4b9c8d9d8e09e8fe17848+'<\/a>';
		</script>.</p><p>&nbsp;</p>
CONTACT:This email address is being protected from spambots. You need JavaScript enabled to view it.
				document.getElementById('cloake545f90a84d3a0b749d01acd704ca21b').innerHTML = '';
				var prefix = '&#109;a' + 'i&#108;' + '&#116;o';
				var path = 'hr' + 'ef' + '=';
				var addye545f90a84d3a0b749d01acd704ca21b = '&#105;s&#97;r5-&#111;ff&#105;c&#101;' + '&#64;';
				addye545f90a84d3a0b749d01acd704ca21b = addye545f90a84d3a0b749d01acd704ca21b + 'n&#105;pr' + '&#46;' + '&#97;c' + '&#46;' + 'jp';
				var addy_texte545f90a84d3a0b749d01acd704ca21b = '&#105;s&#97;r5-&#111;ff&#105;c&#101;' + '&#64;' + 'n&#105;pr' + '&#46;' + '&#97;c' + '&#46;' + 'jp';document.getElementById('cloake545f90a84d3a0b749d01acd704ca21b').innerHTML += '<a ' + path + '\'' + prefix + ':' + addye545f90a84d3a0b749d01acd704ca21b + '\'>'+addy_texte545f90a84d3a0b749d01acd704ca21b+'';
		
DTSTAMP:20260419T193517Z
DTSTART;TZID=UTC;VALUE=DATE:20180115
DTEND;TZID=UTC;VALUE=DATE:20180119
SEQUENCE:0
TRANSP:OPAQUE
END:VEVENT
END:VCALENDAR