BEGIN:VCALENDAR
VERSION:2.0
PRODID:-//jEvents 2.0 for Joomla//EN
CALSCALE:GREGORIAN
METHOD:PUBLISH
BEGIN:VEVENT
UID:73f6c051be37fc6feeef7f8d5bfe2f56
CATEGORIES:Polar Conferences, Meetings and Events
CREATED:20170830T064127
SUMMARY:2018 International Conference on Southern Hemisphere Meteorology and Oceanography - AMOS-ICSHMO 2018
LOCATION:UNSW Kensington Campus\, Sydney\, Australia
DESCRIPTION:<p><strong>AMOS-ICSHMO 2018, 05 – 09 February 2018 UNSW Kensington Campus, 
 Sydney, Australia</strong><br /><strong><br />Important Dates</strong><br /
 >Abstract submission opens: 12 June, 2017<br />Registration opens: 4 July, 
 2017<br />Abstract submission close: 31 August, 2017<br />Abstract acceptan
 ce notification: 2 October, 2017<br />End of early bird registration: 30 Oc
 tober, 2017</p><p><strong>Organizers</strong><br />The the joint AMOS annua
 l meeting and ICSHMO biennial meeting is organized by the <a href="http://w
 ww.amos.org.au/" target="_blank" rel="noopener noreferrer">Australian Meteo
 rological and Oceanographic Society (AMOS) </a>and the <a href="https://www
 .ametsoc.org/ams/" target="_blank" rel="noopener noreferrer">American Meteo
 rological Society (AMS)</a> and hosted by AMOS.<br /><br /><strong>Call for
  Abstracts</strong><br />Deadline 31 August 2017</p><p>On behalf of the Aus
 tralian Meteorological and Oceanographic Society and the American Meteorolo
 gical Society, the Organising Committee for AMOS-ICSHMO 2018 invites you to
  submit an abstract for presentation at the Conference, to be held at the U
 niversity New South Wales, Sydney, 5-9 February 2018.</p><p>Abstracts for o
 ral and poster presentations must be prepared using the abstract template.<
 /p><p>Abstracts will be reviewed for technical content and selection purpos
 es. All enquiries regarding abstracts should be emailed to the <span id="cl
 oakba50e18cac3f7b065fc9690f553398f7">This email address is being protected 
 from spambots. You need JavaScript enabled to view it.</span><script type='
 text/javascript'>
				document.getElementById('cloakba50e18cac3f7b065fc9690
 f553398f7').innerHTML = '';
				var prefix = '&#109;a' + 'i&#108;' + '&#116
 ;o';
				var path = 'hr' + 'ef' + '=';
				var addyba50e18cac3f7b065fc9690f
 553398f7 = 'cf2018' + '&#64;';
				addyba50e18cac3f7b065fc9690f553398f7 = a
 ddyba50e18cac3f7b065fc9690f553398f7 + '&#97;m&#111;s' + '&#46;' + '&#111;rg
 ' + '&#46;' + '&#97;&#117;';
				var addy_textba50e18cac3f7b065fc9690f55339
 8f7 = 'C&#111;nf&#101;r&#101;nc&#101; S&#101;cr&#101;t&#97;r&#105;&#97;t';d
 ocument.getElementById('cloakba50e18cac3f7b065fc9690f553398f7').innerHTML +
 = '<a ' + path + '\'' + prefix + ':' + addyba50e18cac3f7b065fc9690f553398f7
  + '\' target="_blank" rel="noopener noreferrer">'+addy_textba50e18cac3f7b0
 65fc9690f553398f7+'<\/a>';
		</script>.</p><p>Abstracts will be published i
 n the conference digital proceedings and given to all conference attendees.
 </p><p><strong>Sessions<br /></strong>Abstracts should be submitted to one 
 of the thematic sessions. Click for <a href="http://amos.us8.list-manage1.c
 om/track/click?u=0ca946de99338ed87d156e99e&amp;id=f27cebeffe&amp;e=e15991ae
 8a" target="_blank" rel="noopener noreferrer">simple session list</a> or <a
  href="http://amos.us8.list-manage.com/track/click?u=0ca946de99338ed87d156e
 99e&amp;id=b1c39355d9&amp;e=e15991ae8a" target="_blank" rel="noopener noref
 errer">detailed session list</a>.</p><p><strong>Presentation format</strong
 ><br />Abstracts may be submitted for the following presentation types:</p>
 <ul><li>Oral</li><li>Poster display</li><li>Lightning Lecture (2 min short 
 oral presentation plus poster)</li></ul><p>Final decisions on the type of p
 resentation offered will rest with the Programming Committee and their deci
 sion will be final.</p><p><strong>Submission deadline</strong><br />All abs
 tracts must be submitted via the website online by 5.00pm AEST 31 August 20
 17. Note the Deadline will NOT BE EXTENDED. Please plan your timetable for 
 preparation and submission carefully.</p><p>Submit an abstract<br /><a href
 ="http://amos.us8.list-manage.com/track/click?u=0ca946de99338ed87d156e99e&a
 mp;id=dce788c96d&amp;e=e15991ae8a" target="_blank" rel="noopener noreferrer
 ">Click here and follow the instructions</a><br /> <br /><strong>Registrati
 on<br /></strong>All attendees must register to attend the conference. Regi
 stration links will be available on the conference <a href="https://www.amo
 s.org.au/Main/ac2018.aspx" target="_blank" rel="noopener noreferrer">webpag
 e</a> on 4 July.</p><p><strong>Workshops and other activities</strong><br /
 ><a href="http://amos.us8.list-manage2.com/track/click?u=0ca946de99338ed87d
 156e99e&amp;id=cc07df6fbc&amp;e=e15991ae8a" target="_blank" rel="noopener n
 oreferrer">Click here to see the current list of workshops and activities</
 a> that will be held during AMOS-ICSHMO 2018. Activities are free unless ot
 herwise noted. Please indicate any activities or workshops you wish to atte
 nd when registering.<br /> <br /><strong>NEWS! Announcing our guest speaker
 s</strong><br />The Committee is delighted to announce the following plenar
 y speakers for AMOS-ICSHMO 2018:</p><ul><li>Dr. Gavin A. Schmidt, Director 
 of Goddard Institute for Space Studies, NASA,</li><li>Dr. Claudia Tebaldi, 
 project scientist in the Climate Change Research section of the Climate and
  Global Dynamics laboratory at the National Center for Atmospheric Research
 </li><li>Prof Terry Hughes Director of the Australian Research Council (ARC
 ) Centre of Excellence for Coral Reef Studies, James Cook University</li><l
 i>Prof. Matthew H England - Australian Research Council Laureate Fellow and
  Deputy Director of the UNSW Climate Change Research Centre (CCRC)</li><li>
 Dr Helen Cleugh - Director of the CSIRO Climate Science Centre</li></ul><p>
 <strong>Further Information<br /></strong>Further information about the con
 ference will be posted on the main conference webpage.<br />AMOS-ICSHMO 201
 8: <a href="http://www.amos-icshmo2018.com.au">www.amos-icshmo2018.com.au</
 a></p>
CONTACT:This email address is being protected from spambots. You need JavaScript enabled to view it.
				document.getElementById('cloak6b799ff7080e167a813539d49145639a').innerHTML = '';
				var prefix = '&#109;a' + 'i&#108;' + '&#116;o';
				var path = 'hr' + 'ef' + '=';
				var addy6b799ff7080e167a813539d49145639a = 'cf2018' + '&#64;';
				addy6b799ff7080e167a813539d49145639a = addy6b799ff7080e167a813539d49145639a + '&#97;m&#111;s' + '&#46;' + '&#111;rg' + '&#46;' + '&#97;&#117;';
				var addy_text6b799ff7080e167a813539d49145639a = 'cf2018' + '&#64;' + '&#97;m&#111;s' + '&#46;' + '&#111;rg' + '&#46;' + '&#97;&#117;';document.getElementById('cloak6b799ff7080e167a813539d49145639a').innerHTML += '<a ' + path + '\'' + prefix + ':' + addy6b799ff7080e167a813539d49145639a + '\'>'+addy_text6b799ff7080e167a813539d49145639a+'';
		
DTSTAMP:20260419T231550Z
DTSTART;TZID=UTC;VALUE=DATE:20180205
DTEND;TZID=UTC;VALUE=DATE:20180210
SEQUENCE:0
TRANSP:OPAQUE
END:VEVENT
END:VCALENDAR