BEGIN:VCALENDAR
VERSION:2.0
PRODID:-//jEvents 2.0 for Joomla//EN
CALSCALE:GREGORIAN
METHOD:PUBLISH
BEGIN:VEVENT
UID:80c0011c5e83f82700386e8b6a2bf65f
CATEGORIES:Polar Conferences, Meetings and Events
CREATED:20170830T084525
SUMMARY:International Conference on Snow Hydrology (SnowHydro18)
LOCATION:Heidelberg University\, Germany
DESCRIPTION:Invitation for registrations and abstract submissions to the International 
 Conference on Snow Hydrology\n(SnowHydro18) which takes place from 12 to 15
  February 2018 at Heidelberg University (Germany).\nContributions are welco
 me on all aspects of snow and hydrology, with emphasis on the following spe
 cific topics:\n\n - remote sensing of snow properties\n - experimental rese
 arch and new measurement techniques\n - spatial variability of snow\n - sno
 w-vegetation interaction\n - snow data assimilation for modelling purposes\
 n - the prediction of snow melt and runoff\n - simulation models of snow, m
 odel comparisons\n - snow in semi-arid environments\n - climate change, sno
 w conditions and water supply\n - teaching concepts in snow hydrologyMore i
 nformation can be found here:\nhttp://www.geog.uni-heidelberg.de/hydro/snow
 2018.html  (http://www.geog.uni-heidelberg.de/hydro/snow2018.htmlÂ) \n<a hr
 ef="https://express.converia.de/?sub=107">https://express.converia.de/?sub=
 107</a>\nSelected deadlines:\n- 31 August 2017: Early bird registration\n- 
 30 September 2017: scientific session proposals\n- 30 November 2017: abstra
 ct submission ends\n
X-ALT-DESC;FMTTYPE=text/html:<p>Invitation for registrations and abstract submissions to the <strong>Int
 ernational Conference on Snow Hydrology</strong><br /><strong>(SnowHydro18)
 </strong> which takes place from <strong>12 to 15 February 2018</strong> at
  <strong>Heidelberg University (Germany)</strong>.</p><p>Contributions are 
 welcome on all aspects of snow and hydrology, with emphasis on the followin
 g specific topics:</p><ul><li>remote sensing of snow properties</li><li>exp
 erimental research and new measurement techniques</li><li>spatial variabili
 ty of snow</li><li>snow-vegetation interaction</li><li>snow data assimilati
 on for modelling purposes</li><li>the prediction of snow melt and runoff</l
 i><li>simulation models of snow, model comparisons</li><li>snow in semi-ari
 d environments</li><li>climate change, snow conditions and water supply</li
 ><li>teaching concepts in snow hydrology</li></ul><p>More information can b
 e found here:<br /><a href="http://www.geog.uni-heidelberg.de/hydro/snow201
 8.htmlÂ">http://www.geog.uni-heidelberg.de/hydro/snow2018.html&nbsp;</a> <b
 r /><a href="https://express.converia.de/?sub=107">https://express.converia
 .de/?sub=107</a></p><p><strong>Selected deadlines:</strong><br />- 31 Augus
 t 2017: Early bird registration<br />- 30 September 2017: scientific sessio
 n proposals<br />- 30 November 2017: abstract submission ends</p>
DTSTAMP:20260419T193054Z
DTSTART;TZID=UTC;VALUE=DATE:20180212
DTEND;TZID=UTC;VALUE=DATE:20180216
SEQUENCE:0
TRANSP:OPAQUE
END:VEVENT
END:VCALENDAR