BEGIN:VCALENDAR
VERSION:2.0
PRODID:-//jEvents 2.0 for Joomla//EN
CALSCALE:GREGORIAN
METHOD:PUBLISH
BEGIN:VEVENT
UID:38d5af35f71f76e0d2763495dbb9a9ea
CATEGORIES:Polar Conferences, Meetings and Events
CREATED:20170908T124349
SUMMARY:IASC-NAG Workshop on Arctic Glaciology & Proglacial Marine Ecosystems
LOCATION:University Center Obergurgl\, Austria
DESCRIPTION:<p>2018 Workshop on the Dynamics and Mass Budget of Arctic Glaciers &amp; t
 he IASC Network on Arctic Glaciology Annual Meeting</p><p>The meeting will 
 take place at the popular <strong>University Center Obergurgl, in Obergurgl
 , Austria, 22 - 24 January, 2018</strong>.</p><p><strong>The purpose of the
  meeting is:</strong><br />• to present and discuss new results on observat
 ions and modeling of the dynamics and mass budget of Arctic glaciers, inclu
 ding the Greenland ice sheet,<br />• to provide a forum for glaciologists a
 nd marine biologists to present and discuss their work and to stimulate fut
 ure collaborations, <br />• to plan and coordinate field work with the aim 
 of using available infrastructure and logistics in the most efficient way.<
 /p><p><strong>Participation:</strong><br />The meeting is open to anyone in
 terest in Arctic Glaciology. In particular, we encourage submissions that c
 omply with one of two special themes:<br />(1) Understanding atmosphere-gla
 cier-ocean interactions and their implications for the pan-Arctic glacier m
 ass budget<br />(2) The importance of Arctic glaciers for the Arctic marine
  ecosystem</p><p>Contributions in the form of oral presentations and or pos
 ters are welcomed. Presentation will be 15-20 minutes, including discussion
 . For those who bring a poster, time will be reserved in the program to giv
 e a short 2-3 minute introduction to the poster. Three days of talks and po
 ster presentations, as well as open-forum discussions are planned.</p><p><s
 trong>Registration deadline is November 10, 2017.</strong></p><p><strong>Ab
 stracts and registration:</strong><br />Please submit your abstracts (maxim
 um length 300 words) by filling out the following google form, latest by <s
 trong>November 10, 2017</strong>: <a href="https://goo.gl/forms/inY9ygyM4ZO
 rKrjv1">https://goo.gl/forms/inY9ygyM4ZOrKrjv1</a> <br />If you have any qu
 estions, please email Thorben Dunse (thorben.dunse [at] geo.uio.no). Please
  indicate whether you prefer oral or poster presentation and if you like to
  contribute to one of the special sessions.</p><p>We have received workshop
  support through IASC and the IASC-Cryosphere Working Group. Depending on t
 he number of participants, we may request a small registration fee (not mor
 e than 30 EUR), in order to ensure sufficient supply of coffee and other re
 freshments.</p><p>Best regards,<br />Thorben Dunse (Chairman IASC Network o
 n Arctic Glaciology)<br />Michael Kuhn (Chairman local organizing committee
 )</p><p>---------------------------<br />For detailed information about the
  special sessions, financial support and travel information, read further o
 r visit the IASC-NAG website: <a href="https://nag.iasc.info/workshop">http
 s://nag.iasc.info/workshop</a></p>
CONTACT:thorben.dunse [at] geo.uio.no
DTSTAMP:20260419T194119Z
DTSTART;TZID=UTC;VALUE=DATE:20180122
DTEND;TZID=UTC;VALUE=DATE:20180125
SEQUENCE:0
TRANSP:OPAQUE
END:VEVENT
END:VCALENDAR