BEGIN:VCALENDAR
VERSION:2.0
PRODID:-//jEvents 2.0 for Joomla//EN
CALSCALE:GREGORIAN
METHOD:PUBLISH
BEGIN:VEVENT
UID:60f01dae76be8b1f973f9790c3da3e08
CATEGORIES:APECS Events
CREATED:20170920T073649
SUMMARY:APECS Sweden Stockholm Polar Pub 
LOCATION:Stockholm\, Sweden
DESCRIPTION:<p>The concept? Two short talks by volunteers, then social evening at the p
 ub.</p><p>If you want to volunteer, contact <span id="cloak1b2e8645ae31b56c
 c711e559c914fe82">This email address is being protected from spambots. You 
 need JavaScript enabled to view it.</span><script type='text/javascript'>
	
 			document.getElementById('cloak1b2e8645ae31b56cc711e559c914fe82').innerHT
 ML = '';
				var prefix = '&#109;a' + 'i&#108;' + '&#116;o';
				var path =
  'hr' + 'ef' + '=';
				var addy1b2e8645ae31b56cc711e559c914fe82 = 'c&#111;
 r&#105;nn&#97;.r&#111;v&#101;r' + '&#64;';
				addy1b2e8645ae31b56cc711e559
 c914fe82 = addy1b2e8645ae31b56cc711e559c914fe82 + '&#97;b&#101;' + '&#46;' 
 + 'kth' + '&#46;' + 's&#101;';
				var addy_text1b2e8645ae31b56cc711e559c91
 4fe82 = 'C&#111;r&#105;nn&#97;';document.getElementById('cloak1b2e8645ae31b
 56cc711e559c914fe82').innerHTML += '<a ' + path + '\'' + prefix + ':' + add
 y1b2e8645ae31b56cc711e559c914fe82 + '\'>'+addy_text1b2e8645ae31b56cc711e559
 c914fe82+'<\/a>';
		</script> or <span id="cloak097329052a78e0598d75d20c67a
 f4290">This email address is being protected from spambots. You need JavaSc
 ript enabled to view it.</span><script type='text/javascript'>
				document
 .getElementById('cloak097329052a78e0598d75d20c67af4290').innerHTML = '';
		
 		var prefix = '&#109;a' + 'i&#108;' + '&#116;o';
				var path = 'hr' + 'ef
 ' + '=';
				var addy097329052a78e0598d75d20c67af4290 = 'rh&#105;&#97;nn&#1
 11;n.m&#111;nd&#97;v' + '&#64;';
				addy097329052a78e0598d75d20c67af4290 =
  addy097329052a78e0598d75d20c67af4290 + '&#101;bc' + '&#46;' + '&#117;&#117
 ;' + '&#46;' + 's&#101;';
				var addy_text097329052a78e0598d75d20c67af4290
  = 'Rh&#105;&#97;nn&#111;n';document.getElementById('cloak097329052a78e0598
 d75d20c67af4290').innerHTML += '<a ' + path + '\'' + prefix + ':' + addy097
 329052a78e0598d75d20c67af4290 + '\'>'+addy_text097329052a78e0598d75d20c67af
 4290+'<\/a>';
		</script>.<br />Uppsala people, APECS Sweden pays for your 
 travel to Stockholm if you want to attend.</p><p>20th September, 16.30, KTH
  for talks, or directly at 18.00 at the “Man on the Moon” on Tegnérgatan</p
 >
DTSTAMP:20260421T195814Z
DTSTART;TZID=UTC;VALUE=DATE:20170920
DTEND;TZID=UTC;VALUE=DATE:20170921
SEQUENCE:0
TRANSP:OPAQUE
END:VEVENT
END:VCALENDAR