BEGIN:VCALENDAR
VERSION:2.0
PRODID:-//jEvents 2.0 for Joomla//EN
CALSCALE:GREGORIAN
METHOD:PUBLISH
BEGIN:VEVENT
UID:37cfe96448faf557529333a6fc332cb3
CATEGORIES:APECS Events
CREATED:20170920T073958
SUMMARY:APECS Sweden GBG Polar mini Conference
LOCATION:Gothenburg\, Sweden
DESCRIPTION:A whole afternoon with a poster session and four invited presentations:\n\n
  - Robert Björk, Towards a more comprehensive understanding of Arctic shrub
  expansion;\n - Aleksandra Mazur, Iceberg classification and tracking in th
 e Amundsen Sea, Antarctica;\n - Mauricio Fuentes, Tree-ring climate signal 
 from southern Patagonia and teleconnections with the Southern Ocean;\n - Wi
 ebke Aldenhoff, Radar remote sensing of Arctic sea ice.20th September, star
 ting at 15.00 in GVC Hörsalen.\nIf you want to bring a new poster, APECS Sw
 eden pays for the printing costs.\nRegister here (https://sunet.artologik.n
 et/gu/Survey/2177) to be included in the fika. Pub to be announced after th
 e registration is closed.\n
X-ALT-DESC;FMTTYPE=text/html:<p>A whole afternoon with a poster session and four invited presentations:<
 /p><ul><li>Robert Björk, Towards a more comprehensive understanding of Arct
 ic shrub expansion;</li><li>Aleksandra Mazur, Iceberg classification and tr
 acking in the Amundsen Sea, Antarctica;</li><li>Mauricio Fuentes, Tree-ring
  climate signal from southern Patagonia and teleconnections with the Southe
 rn Ocean;</li><li>Wiebke Aldenhoff, Radar remote sensing of Arctic sea ice.
 </li></ul><p><strong>20th September, starting at 15.00 in GVC Hörsalen.</st
 rong><br />If you want to bring a new poster, APECS Sweden pays for the pri
 nting costs.<br /><a href="https://sunet.artologik.net/gu/Survey/2177">Regi
 ster here</a> to be included in the fika. Pub to be announced after the reg
 istration is closed.</p>
DTSTAMP:20260421T195443Z
DTSTART;TZID=UTC;VALUE=DATE:20170920
DTEND;TZID=UTC;VALUE=DATE:20170921
SEQUENCE:0
TRANSP:OPAQUE
END:VEVENT
END:VCALENDAR