BEGIN:VCALENDAR
VERSION:2.0
PRODID:-//jEvents 2.0 for Joomla//EN
CALSCALE:GREGORIAN
METHOD:PUBLISH
BEGIN:VEVENT
UID:958855bc3b727d4b4be6acb226eaecc1
CATEGORIES:APECS Events
CREATED:20170922T133723
SUMMARY:APECS webinar: "Research Processes and Politics in the Peruvian Andes"
LOCATION:Online
DESCRIPTION:APECS Webinar: Research Processes and Politics in the Peruvian Andes\n25 Se
 ptember 2017 at 23:00 GMT\nPresenter: Mark Carey (Professor of History and 
 Environmental Studies, Robert D. Clark Honors College, University of Oregon
 )\nRegistration Link (https://attendee.gotowebinar.com/register/90172623704
 09484547)\nThis presentation will discuss nearly two-decades of research st
 rategies and practices for glacier-related research in the Peruvian Andes, 
 particularly the Cordillera Blanca. This mountain range is one of the world
 ’s hardest hit by glacier-caused disasters, with more than 10,000 people dy
 ing from glacial lake outburst floods (GLOFs) and rock-ice landslides since
  the 1940s. But it is also the place where Peruvian engineers and scientist
 s have done some of the most effective mitigation work to prevent GLOFs: th
 ey have studied, monitored, partially drained, and even dammed 35 dangerous
  glacial lakes over time. It thus served as an ideal site for my social sci
 ence research on the history of climate change adaptation and human interac
 tions with glaciers over 75 years. Yet doing the Cordillera Blanca research
  was never easy. Access to information, data, and research sites was often 
 blocked. Local authorities and experts needed to personally approve (or not
 ) many of my research practices. Institutions sometimes rejected my proposa
 ls or thwarted my progress. Collaborations emerged slowly. In short, my stu
 dies have required what I call “research diplomacy,” which involved extensi
 ve personal connections, collaborations, networking, and reciprocal interac
 tions with a host of individuals, institutions, and stakeholders in Peru. T
 his kind of research diplomacy is useful (and I would say essential) for re
 searchers in any field, from glaciology and hydrology to history and human 
 geography.\n
X-ALT-DESC;FMTTYPE=text/html:<p><strong>APECS Webinar: Research Processes and Politics in the Peruvian A
 ndes</strong></p><p><em><strong>25 September 2017 at 23:00 GMT</strong></em
 ></p><p><strong>Presenter:</strong> Mark Carey (Professor of History and En
 vironmental Studies, Robert D. Clark Honors College, University of Oregon)<
 /p><p><a href="https://attendee.gotowebinar.com/register/901726237040948454
 7" target="_blank" rel="noopener noreferrer">Registration Link</a></p><p>Th
 is presentation will discuss nearly two-decades of research strategies and 
 practices for glacier-related research in the Peruvian Andes, particularly 
 the Cordillera Blanca. This mountain range is one of the world’s hardest hi
 t by glacier-caused disasters, with more than 10,000 people dying from glac
 ial lake outburst floods (GLOFs) and rock-ice landslides since the 1940s. B
 ut it is also the place where Peruvian engineers and scientists have done s
 ome of the most effective mitigation work to prevent GLOFs: they have studi
 ed, monitored, partially drained, and even dammed 35 dangerous glacial lake
 s over time. It thus served as an ideal site for my social science research
  on the history of climate change adaptation and human interactions with gl
 aciers over 75 years. Yet doing the Cordillera Blanca research was never ea
 sy. Access to information, data, and research sites was often blocked. Loca
 l authorities and experts needed to personally approve (or not) many of my 
 research practices. Institutions sometimes rejected my proposals or thwarte
 d my progress. Collaborations emerged slowly. In short, my studies have req
 uired what I call “research diplomacy,” which involved extensive personal c
 onnections, collaborations, networking, and reciprocal interactions with a 
 host of individuals, institutions, and stakeholders in Peru. This kind of r
 esearch diplomacy is useful (and I would say essential) for researchers in 
 any field, from glaciology and hydrology to history and human geography.</p
 >
DTSTAMP:20260420T140637Z
DTSTART;TZID=UTC:20170925T230000
SEQUENCE:0
TRANSP:OPAQUE
END:VEVENT
END:VCALENDAR