BEGIN:VCALENDAR
VERSION:2.0
PRODID:-//jEvents 2.0 for Joomla//EN
CALSCALE:GREGORIAN
METHOD:PUBLISH
BEGIN:VEVENT
UID:6d5b678cd53264ec072fed8054df590d
CATEGORIES:APECS Events
CREATED:20170922T134443
SUMMARY:APECS - EPB Webinar: An introduction to the Arctic Council
LOCATION:Online
DESCRIPTION:APECS - EPB Webinar: An introduction to the Arctic Council\n2 November 2017
  at 15:00 GMT\nSpeaker: Timo Koivurova, Research Professor and Director, Ar
 ctic Centre, University of Lapland\nRegistration Link (https://attendee.got
 owebinar.com/register/8844636846109032450)\nThe Arctic Council is the leadi
 ng intergovernmental forum promoting cooperation, coordination and interact
 ion among the Arctic States, Arctic indigenous communities and other Arctic
  inhabitants. Giving an overview of its structure, including Members, Perma
 nent Participants and Working Groups, this webinar will act as an introduct
 ion to the Arctic Council, providing information on its workings, issues of
  focus, and recent achievements.\nThis webinar series is jointly organized 
 by APECS and the <a href="http://www.europeanpolarboard.org/" target="_blan
 k" rel="noopener noreferrer">European Polar Board (EPB)</a>.\n
X-ALT-DESC;FMTTYPE=text/html:<p><strong>APECS - EPB Webinar: An introduction to the Arctic Council</stro
 ng></p><p><em><strong>2 November 2017 at 15:00 GMT</strong></em></p><p><str
 ong>Speaker:</strong> Timo Koivurova, Research Professor and Director, Arct
 ic Centre, University of Lapland</p><p><a href="https://attendee.gotowebina
 r.com/register/8844636846109032450" target="_blank" rel="noopener noreferre
 r">Registration Link</a></p><p>The Arctic Council is the leading intergover
 nmental forum promoting cooperation, coordination and interaction among the
  Arctic States, Arctic indigenous communities and other Arctic inhabitants.
  Giving an overview of its structure, including Members, Permanent Particip
 ants and Working Groups, this webinar will act as an introduction to the Ar
 ctic Council, providing information on its workings, issues of focus, and r
 ecent achievements.</p><p>This webinar series is jointly organized by APECS
  and the <a href="http://www.europeanpolarboard.org/" target="_blank" rel="
 noopener noreferrer">European Polar Board (EPB)</a>.</p>
DTSTAMP:20260419T204706Z
DTSTART;TZID=UTC:20171102T150000
SEQUENCE:0
TRANSP:OPAQUE
END:VEVENT
END:VCALENDAR