BEGIN:VCALENDAR
VERSION:2.0
PRODID:-//jEvents 2.0 for Joomla//EN
CALSCALE:GREGORIAN
METHOD:PUBLISH
BEGIN:VEVENT
UID:9c46782dc5036d9a21458699220bf03c
CATEGORIES:Polar Conferences, Meetings and Events
CREATED:20170922T142235
SUMMARY:Arctic Frontiers Emerging Leaders 2018 
DESCRIPTION:You are welcome to apply for the upcoming Arctic Frontiers Emerging Leaders
  2018, - a pan-Arctic mentoring program in the High North - taking place 17
  - 23 January 2018.\n30 selected candidates from different countries partic
 ipate in a blend of technical, social and cultural events accompanied by me
 ntors from business, politics and academia. The program starts in the city 
 of Bodø, then continues onboard the Norwegian Coastal Express “Hurtigruten”
  to Svolvær/Lofoten and ends in Tromsø, “the gateway to the Arctic”. The gr
 oup may explore the marine resources and potential in the Lofoten Islands, 
 and all participants will be challenged to engage in discussions and presen
 tations during the program.\nEmerging Leaders is organized by Arctic Fronti
 ers (http://www.arcticfrontiers.com/).\nThe program is linked to the topic 
 of Arctic Frontiers 2018 “Connecting the Arctic” and includes the following
  sessions:\n\n - Session 1: Politics and Security in the High North\n - Ses
 sion 2: Annual topic: 2018: Connecting the Arctic\n - Session 3: Technology
  Development and Arctic Business\n - Session 4: Workshop, preparing a prese
 ntationThe 2018 topic will relate to marine litter, marine technology and k
 nowledge based management.\nThe Emerging Leaders programme makes up a uniqu
 e international network across academia, business and public sector. The pa
 rticipants takes part in a knowledge based Arctic journey that starts in Bo
 dø with a visit to the Norwegian Aviation Museum and the Search and Rescue 
 Headquarter via Lofotens fishing and aquaculture industries, and up to Arct
 ic Frontiers international conference in Tromsø.\nThe participation fee is 
 30.000 NOK (mva not included) and covers all expenses related accommodation
 , food and transport.\nPlease, note that all applications should be sent as
 ap and confirmed before 1 October 2017.\n
X-ALT-DESC;FMTTYPE=text/html:<p>You are welcome to apply for the upcoming <strong>Arctic Frontiers Emerg
 ing Leaders 2018, - a pan-Arctic mentoring program in the High North - taki
 ng place 17 - 23 January 2018.</strong></p><p>30 selected candidates from d
 ifferent countries participate in a blend of technical, social and cultural
  events accompanied by mentors from business, politics and academia. The pr
 ogram starts in the city of Bodø, then continues onboard the Norwegian Coas
 tal Express “Hurtigruten” to Svolvær/Lofoten and ends in Tromsø, “the gatew
 ay to the Arctic”. The group may explore the marine resources and potential
  in the Lofoten Islands, and all participants will be challenged to engage 
 in discussions and presentations during the program.</p><p>Emerging Leaders
  is organized by <a href="http://www.arcticfrontiers.com/" target="_blank" 
 rel="noopener noreferrer">Arctic Frontiers</a>.</p><p>The program is linked
  to the topic of Arctic Frontiers 2018 “Connecting the Arctic” and includes
  the following sessions:</p><ul><li>Session 1: Politics and Security in the
  High North</li><li>Session 2: Annual topic: 2018: Connecting the Arctic</l
 i><li>Session 3: Technology Development and Arctic Business</li><li>Session
  4: Workshop, preparing a presentation</li></ul><p>The 2018 topic will rela
 te to marine litter, marine technology and knowledge based management.</p><
 p>The Emerging Leaders programme makes up a unique international network ac
 ross academia, business and public sector. The participants takes part in a
  knowledge based Arctic journey that starts in Bodø with a visit to the Nor
 wegian Aviation Museum and the Search and Rescue Headquarter via Lofotens f
 ishing and aquaculture industries, and up to Arctic Frontiers international
  conference in Tromsø.<br />The participation fee is 30.000 NOK (mva not in
 cluded) and covers all expenses related accommodation, food and transport.<
 /p><p>Please, note that all applications should be sent asap and confirmed 
 <strong>before 1 October 2017</strong>.</p>
CONTACT:Laura Johanne Olsen (email: This email address is being protected from spambots. You need JavaScript enabled to view it.
				document.getElementById('cloak54b9bd10d09692fba48293f61a0fc886').innerHTML = '';
				var prefix = '&#109;a' + 'i&#108;' + '&#116;o';
				var path = 'hr' + 'ef' + '=';
				var addy54b9bd10d09692fba48293f61a0fc886 = 'l&#97;&#117;r&#97;' + '&#64;';
				addy54b9bd10d09692fba48293f61a0fc886 = addy54b9bd10d09692fba48293f61a0fc886 + 's&#97;lt' + '&#46;' + 'n&#117;';
				var addy_text54b9bd10d09692fba48293f61a0fc886 = 'l&#97;&#117;r&#97;' + '&#64;' + 's&#97;lt' + '&#46;' + 'n&#117;';document.getElementById('cloak54b9bd10d09692fba48293f61a0fc886').innerHTML += '<a ' + path + '\'' + prefix + ':' + addy54b9bd10d09692fba48293f61a0fc886 + '\'>'+addy_text54b9bd10d09692fba48293f61a0fc886+'';
		 or phone: +47 90 75 12 75)
DTSTAMP:20260419T193448Z
DTSTART;TZID=UTC;VALUE=DATE:20180117
DTEND;TZID=UTC;VALUE=DATE:20180124
SEQUENCE:0
TRANSP:OPAQUE
END:VEVENT
END:VCALENDAR