BEGIN:VCALENDAR
VERSION:2.0
PRODID:-//jEvents 2.0 for Joomla//EN
CALSCALE:GREGORIAN
METHOD:PUBLISH
BEGIN:VEVENT
UID:563f896e95a4743466121851020aed6f
CATEGORIES:Polar Conferences, Meetings and Events
CREATED:20171012T153231
SUMMARY:Yellowknife Geoscience Forum
LOCATION:Yellowknife\,Canada
DESCRIPTION:45th Annual Yellowknife Geoscience Forum, November 14-16, 2017\nThe Yellowk
 nife Geoscience Forum provides an intimate setting for delegates from indus
 try, academia, and government to exchange information on Mineral and Petrol
 eum Exploration, Mining Activities, and Geoscience Research in Canada’s Nor
 th. The Forum consists of a trade show and a technical program.\nRegistrati
 on for the 2017 Geoscience Forum (http://www.geoscienceforum.com/registrati
 on)\nEarly Bird Deadline: Friday 27 October 2017\n<a href="http://www.nwtge
 oscience.ca/abstract-or-summary-submission" target="_blank" rel="noopener n
 oreferrer">Submit an Abstract or Summary</a>\nSubmission Deadline: 11:59 pm
  MT Friday 20 October 2017\nProgram Sessions (http://www.nwtgeoscience.ca/f
 orum/technical-program)\nGeoscience and Geoscience-related presentations we
 lcome\n
X-ALT-DESC;FMTTYPE=text/html:<p><strong>45th Annual Yellowknife Geoscience Forum, November 14-16, 2017</
 strong></p><p>The Yellowknife Geoscience Forum provides an intimate setting
  for delegates from industry, academia, and government to exchange informat
 ion on Mineral and Petroleum Exploration, Mining Activities, and Geoscience
  Research in Canada’s North. The Forum consists of a trade show and a techn
 ical program.</p><p><strong><a href="http://www.geoscienceforum.com/registr
 ation" target="_blank" rel="noopener noreferrer">Registration for the 2017 
 Geoscience Forum</a></strong><br /><strong>Early Bird Deadline: Friday 27 O
 ctober 2017</strong></p><p><a href="http://www.nwtgeoscience.ca/abstract-or
 -summary-submission" target="_blank" rel="noopener noreferrer"><strong>Subm
 it an Abstract or Summary</strong></a><br /><strong>Submission Deadline: 11
 :59 pm MT Friday 20 October 2017</strong></p><p><a href="http://www.nwtgeos
 cience.ca/forum/technical-program" target="_blank" rel="noopener noreferrer
 "><strong>Program Sessions</strong></a><br /><strong>Geoscience and Geoscie
 nce-related presentations welcome</strong></p>
DTSTAMP:20260423T163436Z
DTSTART;TZID=UTC;VALUE=DATE:20171114
DTEND;TZID=UTC;VALUE=DATE:20171117
SEQUENCE:0
TRANSP:OPAQUE
END:VEVENT
END:VCALENDAR