BEGIN:VCALENDAR
VERSION:2.0
PRODID:-//jEvents 2.0 for Joomla//EN
CALSCALE:GREGORIAN
METHOD:PUBLISH
BEGIN:VEVENT
UID:26e95732e0efa7b3065f7cd51cbe57d0
CATEGORIES:Polar Conferences, Meetings and Events
CREATED:20171023T091631
SUMMARY:Arctic Futures Symposium 2017
LOCATION:Brussels\, Belgium
DESCRIPTION:<p>The International Polar Foundation and its partners invite you to take p
 art in the <strong>8th annual <a href="http://arcticfutures.us2.list-manage
 .com/track/click?u=e62a35a91a4fd008dc41a397c&amp;id=7bf93c9ca8&amp;e=e88079
 9aae" target="_blank" rel="noopener noreferrer">Arctic Futures Symposium</a
 ></strong> - Brussels' largest annual conference focusing on Arctic issues.
 </p><p>The 2017 symposium will focus on Arctic research cooperation, advanc
 es and accomplishments in sustainably developing Northern communities, meet
 ing challenges in the region and the importance of educating the next gener
 ation of Arctic residents.</p><p>The Arctic Futures Symposium will take pla
 ce on <strong>November 20th, 2017 at the Residence Palace in the EU Quarter
  of Brussels</strong>. <br />The event will start at 9:00 am and finish at 
 about 7:00 pm.</p><p>You can <strong><a href="http://arcticfutures.us2.list
 -manage.com/track/click?u=e62a35a91a4fd008dc41a397c&amp;id=2526f2a46b&amp;e
 =e880799aae" target="_blank" rel="noopener noreferrer">register for the sym
 posium</a></strong> via the <a href="http://arcticfutures.us2.list-manage.c
 om/track/click?u=e62a35a91a4fd008dc41a397c&amp;id=513201f12f&amp;e=e880799a
 ae" target="_blank" rel="noopener noreferrer">Arctic Futures Symposium webs
 ite</a>.&nbsp;</p>
CONTACT:This email address is being protected from spambots. You need JavaScript enabled to view it.
				document.getElementById('cloak2c74ce942a3a94caeced07efedb93f5e').innerHTML = '';
				var prefix = '&#109;a' + 'i&#108;' + '&#116;o';
				var path = 'hr' + 'ef' + '=';
				var addy2c74ce942a3a94caeced07efedb93f5e = '&#101;v&#101;nts' + '&#64;';
				addy2c74ce942a3a94caeced07efedb93f5e = addy2c74ce942a3a94caeced07efedb93f5e + 'p&#111;l&#97;rf&#111;&#117;nd&#97;t&#105;&#111;n' + '&#46;' + '&#111;rg';
				var addy_text2c74ce942a3a94caeced07efedb93f5e = '&#101;v&#101;nts' + '&#64;' + 'p&#111;l&#97;rf&#111;&#117;nd&#97;t&#105;&#111;n' + '&#46;' + '&#111;rg';document.getElementById('cloak2c74ce942a3a94caeced07efedb93f5e').innerHTML += '<a ' + path + '\'' + prefix + ':' + addy2c74ce942a3a94caeced07efedb93f5e + '\'>'+addy_text2c74ce942a3a94caeced07efedb93f5e+'';
		
X-EXTRAINFO:Event website: http://www.arcticfutures.org/
DTSTAMP:20260419T225044Z
DTSTART;TZID=UTC:20171120T090000
DTEND;TZID=UTC:20171120T190000
SEQUENCE:0
TRANSP:OPAQUE
END:VEVENT
END:VCALENDAR