BEGIN:VCALENDAR
VERSION:2.0
PRODID:-//jEvents 2.0 for Joomla//EN
CALSCALE:GREGORIAN
METHOD:PUBLISH
BEGIN:VEVENT
UID:0eadc99552ed7053f680c22e2fdab596
CATEGORIES:Polar Conferences, Meetings and Events
CREATED:20171116T203027
SUMMARY:SIPN Open Meeting at AGU 2017
LOCATION:Hampton Inn &amp; Suites New Orleans-Convention Center\, Louisiana 2nd floo
 r in Riverside Room
DESCRIPTION:The Sea Ice Prediction Network (SIPN) will hold an open meeting on Tuesday,
  12 December from 12:30-1:30 p.m. in New Orleans, Louisiana, during the 201
 7 American Geophysical Union (AGU) fall meetings.\nThis meeting is open to 
 the public.\nThe meeting agenda will include:\n\n - A discussion of the 201
 7 Arctic sea ice/Sea Ice Outlook season (a post-season report is forthcomin
 g),\n - An overview of the recently-funded "SIPN 2" project and collaborati
 ons, and\n - Opportunity for discussion and to share information on related
  efforts.A boxed lunch will be provided for meeting participants who RSVP b
 y Friday, 1 December 2017.\nFor questions and to RSVP, contact Betsy Turner
 -Bogren, ARCUS, (This email address is being protected from spambots. You n
 eed JavaScript enabled to view it.
				document.getElementById('cloak182821
 7ead67030d49e295754c8cba1a').innerHTML = '';
				var prefix = '&#109;a' + '
 i&#108;' + '&#116;o';
				var path = 'hr' + 'ef' + '=';
				var addy1828217
 ead67030d49e295754c8cba1a = 'b&#101;tsy' + '&#64;';
				addy1828217ead67030
 d49e295754c8cba1a = addy1828217ead67030d49e295754c8cba1a + '&#97;rc&#117;s'
  + '&#46;' + '&#111;rg';
				var addy_text1828217ead67030d49e295754c8cba1a 
 = 'b&#101;tsy' + '&#64;' + '&#97;rc&#117;s' + '&#46;' + '&#111;rg';document
 .getElementById('cloak1828217ead67030d49e295754c8cba1a').innerHTML += '<a '
  + path + '\'' + prefix + ':' + addy1828217ead67030d49e295754c8cba1a + '\'>
 '+addy_text1828217ead67030d49e295754c8cba1a+'';
		).\nMore information abou
 t the meeting will be posted on the 2017 SIPN Town Hall web page, at: https
 ://www.arcus.org/sipn/meetings/2017/agu.\n
X-ALT-DESC;FMTTYPE=text/html:<p>The <strong>Sea Ice Prediction Network (SIPN)</strong> will hold an <spa
 n style="text-decoration: underline;">open meeting</span> on <strong>Tuesda
 y, 12 December from 12:30-1:30 p.m.</strong> in New Orleans, Louisiana, dur
 ing the 2017 American Geophysical Union (AGU) fall meetings.</p><p>This mee
 ting is open to the public.</p><p>The meeting agenda will include:</p><ul><
 li>A discussion of the 2017 Arctic sea ice/Sea Ice Outlook season (a post-s
 eason report is forthcoming),</li><li>An overview of the recently-funded "S
 IPN 2" project and collaborations, and</li><li>Opportunity for discussion a
 nd to share information on related efforts.</li></ul><p>A boxed lunch will 
 be provided for meeting participants who RSVP by Friday, 1 December 2017.</
 p><p>For questions and to RSVP, contact Betsy Turner-Bogren, ARCUS, (<span 
 id="cloak1828217ead67030d49e295754c8cba1a">This email address is being prot
 ected from spambots. You need JavaScript enabled to view it.</span><script 
 type='text/javascript'>
				document.getElementById('cloak1828217ead67030d4
 9e295754c8cba1a').innerHTML = '';
				var prefix = '&#109;a' + 'i&#108;' + 
 '&#116;o';
				var path = 'hr' + 'ef' + '=';
				var addy1828217ead67030d49
 e295754c8cba1a = 'b&#101;tsy' + '&#64;';
				addy1828217ead67030d49e295754c
 8cba1a = addy1828217ead67030d49e295754c8cba1a + '&#97;rc&#117;s' + '&#46;' 
 + '&#111;rg';
				var addy_text1828217ead67030d49e295754c8cba1a = 'b&#101;t
 sy' + '&#64;' + '&#97;rc&#117;s' + '&#46;' + '&#111;rg';document.getElement
 ById('cloak1828217ead67030d49e295754c8cba1a').innerHTML += '<a ' + path + '
 \'' + prefix + ':' + addy1828217ead67030d49e295754c8cba1a + '\'>'+addy_text
 1828217ead67030d49e295754c8cba1a+'<\/a>';
		</script>).</p><p>More informat
 ion about the meeting will be posted on the 2017 SIPN Town Hall web page, a
 t: <a href="https://www.arcus.org/sipn/meetings/2017/agu">https://www.arcus
 .org/sipn/meetings/2017/agu</a>.</p>
DTSTAMP:20260423T164100Z
DTSTART;TZID=UTC:20171212T123000
DTEND;TZID=UTC:20171212T133000
SEQUENCE:0
TRANSP:OPAQUE
END:VEVENT
END:VCALENDAR