BEGIN:VCALENDAR
VERSION:2.0
PRODID:-//jEvents 2.0 for Joomla//EN
CALSCALE:GREGORIAN
METHOD:PUBLISH
BEGIN:VEVENT
UID:5af5779b2fbd18e9b8d823771f02f4ff
CATEGORIES:Polar Conferences, Meetings and Events
CREATED:20171123T150627
SUMMARY:Antarctic Surface Hydrology and Future Ice-shelf Stability
LOCATION:Lamont-Doherty Earth Observatory\, Palisades\, New York
DESCRIPTION:Workshop on Antarctic Surface Hydrology and Future Ice-shelf Stability\nat 
 Lamont-Doherty Earth Observatory, Palisades, New York, on February 21st to 
 23rd, 2018.\nA number of research groups are currently examining processes 
 related to coupling between surface meltwater production and future Antarct
 ic ice loss. Recent studies have suggested that surface hydrological system
 s in Antarctica may expand and proliferate this century. Meanwhile, numeric
 al models of the Antarctic Ice Sheet that incorporate meltwater's impact on
  ice shelves, predict Antarctic contributions of up to a meter of global se
 a-level rise this century in response to atmospheric warming.\nGiven the em
 erging interest in surface hydrology, ice-shelf stability and future sea-le
 vel rise, it is vital for the scientific community to come together to iden
 tify and address critical knowledge gaps in this field.\nThis workshop will
  bring together scientists with expertise in ice-sheet dynamics, glacial hy
 drology, climatology and other disciplines in order to move the community t
 owards answering several fundamental questions raised by observations of An
 tarctic surface hydrological processes. \n\nThese could include: \nWhat cli
 mate dynamics are responsible for surface meltwater generation in Antarctic
 a? \nWhat controls the spatiotemporal distribution of meltwater ponds on An
 tarctic ice shelves? \nWhere is meltwater generated, where does it pond tod
 ay and how will this change this century? \nWhat controls the movement of w
 ater across the ice surface and into the sub-surface of Antarctic ice shelv
 es?\nHow will meltwater impact the stability of ice shelves this century?\n
 Specifically we aim to: \n(1) Establish the state-of-the-science of Antarct
 ic surface hydrology,\n(2) Identify key research questions and future prior
 ities in this field, and\n(3) Facilitate collaborations\nThe workshop will 
 consist of short science talks, poster sessions and group discussions on va
 rious topics within this broad field. Oral and poster presentations could r
 eport modelling studies, remote sensing, fieldwork, laboratory experiments 
 related to any aspect of the dynamics of Antarctic surface meltwater and ic
 e shelves.\nIf you would like to attend please email abstracts (300 word li
 mit), including affiliation information to Frances Simpson (This email addr
 ess is being protected from spambots. You need JavaScript enabled to view i
 t.
				document.getElementById('cloak8192ec972b38105a5b1626c4ccf42f7e').inn
 erHTML = '';
				var prefix = '&#109;a' + 'i&#108;' + '&#116;o';
				var pa
 th = 'hr' + 'ef' + '=';
				var addy8192ec972b38105a5b1626c4ccf42f7e = 'fs&
 #105;mps&#111;n' + '&#64;';
				addy8192ec972b38105a5b1626c4ccf42f7e = addy
 8192ec972b38105a5b1626c4ccf42f7e + 'ld&#101;&#111;' + '&#46;' + 'c&#111;l&#
 117;mb&#105;&#97;' + '&#46;' + '&#101;d&#117;';
				var addy_text8192ec972b
 38105a5b1626c4ccf42f7e = 'fs&#105;mps&#111;n' + '&#64;' + 'ld&#101;&#111;' 
 + '&#46;' + 'c&#111;l&#117;mb&#105;&#97;' + '&#46;' + '&#101;d&#117;';docum
 ent.getElementById('cloak8192ec972b38105a5b1626c4ccf42f7e').innerHTML += '<
 a ' + path + '\'' + prefix + ':' + addy8192ec972b38105a5b1626c4ccf42f7e + '
 \'>'+addy_text8192ec972b38105a5b1626c4ccf42f7e+'';
		) by January 8th, 2018
 . Attendance is limited to around 30 people, so if necessary, abstracts wil
 l be chosen by the organizing committee based on scientific relevance and d
 iversity, and maximizing gender, geographic and career-stage diversity..\nW
 e are very keen to encourage the participation of early-career scientists a
 nd under-represented groups of scientists! We have NSF funding to support t
 ravel for a limited number of US-based attendees. This funding will be dist
 ributed on the basis of need, the potential benefit to early-career scienti
 sts and the scientific and diversity considerations listed above. Sorry, on
 ly US-based applicants are eligible for travel support.\nIf you would like 
 to apply for travel support, please include in your application (in additio
 n to your abstract) a separate statement including the length of time since
  obtaining your last degree, a description of your need for funding and the
  potential benefit to you that attending this workshop could bring (300 wor
 d limit).\nPlease feel free to contact any of the organizing committee for 
 more details before submitting.\n
X-ALT-DESC;FMTTYPE=text/html:<p><strong>Workshop on Antarctic Surface Hydrology and Future Ice-shelf Sta
 bility</strong></p><p>at <strong>Lamont-Doherty Earth Observatory, Palisade
 s, New York, on February 21st to 23rd, 2018</strong>.</p><p>A number of res
 earch groups are currently examining processes related to coupling between 
 surface meltwater production and future Antarctic ice loss. Recent studies 
 have suggested that surface hydrological systems in Antarctica may expand a
 nd proliferate this century. Meanwhile, numerical models of the Antarctic I
 ce Sheet that incorporate meltwater's impact on ice shelves, predict Antarc
 tic contributions of up to a meter of global sea-level rise this century in
  response to atmospheric warming.</p><p>Given the emerging interest in surf
 ace hydrology, ice-shelf stability and future sea-level rise, it is vital f
 or the scientific community to come together to identify and address critic
 al knowledge gaps in this field.</p><p>This workshop will bring together sc
 ientists with expertise in ice-sheet dynamics, glacial hydrology, climatolo
 gy and other disciplines in order to move the community towards answering s
 everal fundamental questions raised by observations of Antarctic surface hy
 drological processes. <br /><br /><strong>These could include:</strong> <br
  />What climate dynamics are responsible for surface meltwater generation i
 n Antarctica? <br />What controls the spatiotemporal distribution of meltwa
 ter ponds on Antarctic ice shelves? <br />Where is meltwater generated, whe
 re does it pond today and how will this change this century? <br />What con
 trols the movement of water across the ice surface and into the sub-surface
  of Antarctic ice shelves?<br />How will meltwater impact the stability of 
 ice shelves this century?</p><p><strong>Specifically we aim to:</strong> <b
 r />(1) Establish the state-of-the-science of Antarctic surface hydrology,<
 br />(2) Identify key research questions and future priorities in this fiel
 d, and<br />(3) Facilitate collaborations</p><p>The workshop will consist o
 f short science talks, poster sessions and group discussions on various top
 ics within this broad field. Oral and poster presentations could report mod
 elling studies, remote sensing, fieldwork, laboratory experiments related t
 o any aspect of the dynamics of Antarctic surface meltwater and ice shelves
 .</p><p>If you would like to attend please email abstracts (300 word limit)
 , including affiliation information to Frances Simpson (<span id="cloak8192
 ec972b38105a5b1626c4ccf42f7e">This email address is being protected from sp
 ambots. You need JavaScript enabled to view it.</span><script type='text/ja
 vascript'>
				document.getElementById('cloak8192ec972b38105a5b1626c4ccf42f
 7e').innerHTML = '';
				var prefix = '&#109;a' + 'i&#108;' + '&#116;o';
		
 		var path = 'hr' + 'ef' + '=';
				var addy8192ec972b38105a5b1626c4ccf42f7
 e = 'fs&#105;mps&#111;n' + '&#64;';
				addy8192ec972b38105a5b1626c4ccf42f7
 e = addy8192ec972b38105a5b1626c4ccf42f7e + 'ld&#101;&#111;' + '&#46;' + 'c&
 #111;l&#117;mb&#105;&#97;' + '&#46;' + '&#101;d&#117;';
				var addy_text81
 92ec972b38105a5b1626c4ccf42f7e = 'fs&#105;mps&#111;n' + '&#64;' + 'ld&#101;
 &#111;' + '&#46;' + 'c&#111;l&#117;mb&#105;&#97;' + '&#46;' + '&#101;d&#117
 ;';document.getElementById('cloak8192ec972b38105a5b1626c4ccf42f7e').innerHT
 ML += '<a ' + path + '\'' + prefix + ':' + addy8192ec972b38105a5b1626c4ccf4
 2f7e + '\'>'+addy_text8192ec972b38105a5b1626c4ccf42f7e+'<\/a>';
		</script>
 ) by <strong>January 8th, 2018</strong>. Attendance is limited to around 30
  people, so if necessary, abstracts will be chosen by the organizing commit
 tee based on scientific relevance and diversity, and maximizing gender, geo
 graphic and career-stage diversity..</p><p>We are very keen to encourage th
 e participation of early-career scientists and under-represented groups of 
 scientists! We have NSF funding to support travel for a limited number of U
 S-based attendees. This funding will be distributed on the basis of need, t
 he potential benefit to early-career scientists and the scientific and dive
 rsity considerations listed above. Sorry, only US-based applicants are elig
 ible for travel support.</p><p>If you would like to apply for travel suppor
 t, please include in your application (in addition to your abstract) a sepa
 rate statement including the length of time since obtaining your last degre
 e, a description of your need for funding and the potential benefit to you 
 that attending this workshop could bring (300 word limit).</p><p>Please fee
 l free to contact any of the organizing committee for more details before s
 ubmitting.</p>
CONTACT:This email address is being protected from spambots. You need JavaScript enabled to view it.
				document.getElementById('cloake84cec73906d0fd4709251d3297d69ce').innerHTML = '';
				var prefix = '&#109;a' + 'i&#108;' + '&#116;o';
				var path = 'hr' + 'ef' + '=';
				var addye84cec73906d0fd4709251d3297d69ce = 'j.k&#105;ngsl&#97;k&#101;' + '&#64;';
				addye84cec73906d0fd4709251d3297d69ce = addye84cec73906d0fd4709251d3297d69ce + 'c&#111;l&#117;mb&#105;&#97;' + '&#46;' + '&#101;d&#117;';
				var addy_texte84cec73906d0fd4709251d3297d69ce = 'j.k&#105;ngsl&#97;k&#101;' + '&#64;' + 'c&#111;l&#117;mb&#105;&#97;' + '&#46;' + '&#101;d&#117;';document.getElementById('cloake84cec73906d0fd4709251d3297d69ce').innerHTML += '<a ' + path + '\'' + prefix + ':' + addye84cec73906d0fd4709251d3297d69ce + '\'>'+addy_texte84cec73906d0fd4709251d3297d69ce+'';
		, This email address is being protected from spambots. You need JavaScript enabled to view it.
				document.getElementById('cloak772309a097f805d25147b7b421222a39').innerHTML = '';
				var prefix = '&#109;a' + 'i&#108;' + '&#116;o';
				var path = 'hr' + 'ef' + '=';
				var addy772309a097f805d25147b7b421222a39 = 'tr&#117;s&#101;l' + '&#64;';
				addy772309a097f805d25147b7b421222a39 = addy772309a097f805d25147b7b421222a39 + 'r&#111;w&#97;n' + '&#46;' + '&#101;d&#117;';
				var addy_text772309a097f805d25147b7b421222a39 = 'tr&#117;s&#101;l' + '&#64;' + 'r&#111;w&#97;n' + '&#46;' + '&#101;d&#117;';document.getElementById('cloak772309a097f805d25147b7b421222a39').innerHTML += '<a ' + path + '\'' + prefix + ':' + addy772309a097f805d25147b7b421222a39 + '\'>'+addy_text772309a097f805d25147b7b421222a39+'';
		, This email address is being protected from spambots. You need JavaScript enabled to view it.
				document.getElementById('cloak44534748ee35cc23b0dbd4d8d00250bc').innerHTML = '';
				var prefix = '&#109;a' + 'i&#108;' + '&#116;o';
				var path = 'hr' + 'ef' + '=';
				var addy44534748ee35cc23b0dbd4d8d00250bc = 'mt&#101;d&#101;sc&#111;' + '&#64;';
				addy44534748ee35cc23b0dbd4d8d00250bc = addy44534748ee35cc23b0dbd4d8d00250bc + 'ld&#101;&#111;' + '&#46;' + 'c&#111;l&#117;mb&#105;&#97;' + '&#46;' + '&#101;d&#117;';
				var addy_text44534748ee35cc23b0dbd4d8d00250bc = 'mt&#101;d&#101;sc&#111;' + '&#64;' + 'ld&#101;&#111;' + '&#46;' + 'c&#111;l&#117;mb&#105;&#97;' + '&#46;' + '&#101;d&#117;';document.getElementById('cloak44534748ee35cc23b0dbd4d8d00250bc').innerHTML += '<a ' + path + '\'' + prefix + ':' + addy44534748ee35cc23b0dbd4d8d00250bc + '\'>'+addy_text44534748ee35cc23b0dbd4d8d00250bc+'';
		 
DTSTAMP:20260420T131248Z
DTSTART;TZID=UTC;VALUE=DATE:20180221
DTEND;TZID=UTC;VALUE=DATE:20180224
SEQUENCE:0
TRANSP:OPAQUE
END:VEVENT
END:VCALENDAR