BEGIN:VCALENDAR
VERSION:2.0
PRODID:-//jEvents 2.0 for Joomla//EN
CALSCALE:GREGORIAN
METHOD:PUBLISH
BEGIN:VEVENT
UID:df64f14791d4af829283d6968e53249b
CATEGORIES:Polar Conferences, Meetings and Events
CREATED:20171129T075447
SUMMARY:Science Communication Workshop focused on the Polar Regions
LOCATION:Oregon Museum of Science and Industry
DESCRIPTION:<p>Please find <strong><a href="images/Heike/polarliteracy__Flyer_oceanscie
 nces2018docx.pdf" target="_blank" rel="noopener noreferrer">here</a></stron
 g> the announcement of this science communication opportunity for early car
 eer polar scientists. </p><p>Feel free to contact Janice McDonnell with que
 stions at <span id="cloakf345563ec16ff848403165fdf4d786e3">This email addre
 ss is being protected from spambots. You need JavaScript enabled to view it
 .</span><script type='text/javascript'>
				document.getElementById('cloakf
 345563ec16ff848403165fdf4d786e3').innerHTML = '';
				var prefix = '&#109;a
 ' + 'i&#108;' + '&#116;o';
				var path = 'hr' + 'ef' + '=';
				var addyf3
 45563ec16ff848403165fdf4d786e3 = 'mcd&#111;nn&#101;ll' + '&#64;';
				addyf
 345563ec16ff848403165fdf4d786e3 = addyf345563ec16ff848403165fdf4d786e3 + 'm
 &#97;r&#105;n&#101;' + '&#46;' + 'r&#117;tg&#101;rs' + '&#46;' + '&#101;d&#
 117;';
				var addy_textf345563ec16ff848403165fdf4d786e3 = 'mcd&#111;nn&#10
 1;ll' + '&#64;' + 'm&#97;r&#105;n&#101;' + '&#46;' + 'r&#117;tg&#101;rs' + 
 '&#46;' + '&#101;d&#117;';document.getElementById('cloakf345563ec16ff848403
 165fdf4d786e3').innerHTML += '<a ' + path + '\'' + prefix + ':' + addyf3455
 63ec16ff848403165fdf4d786e3 + '\'>'+addy_textf345563ec16ff848403165fdf4d786
 e3+'<\/a>';
		</script>.</p>
CONTACT:This email address is being protected from spambots. You need JavaScript enabled to view it.
				document.getElementById('cloakad81ebf5aa7aac1f974501e1e49e9543').innerHTML = '';
				var prefix = '&#109;a' + 'i&#108;' + '&#116;o';
				var path = 'hr' + 'ef' + '=';
				var addyad81ebf5aa7aac1f974501e1e49e9543 = 'mcd&#111;nn&#101;ll' + '&#64;';
				addyad81ebf5aa7aac1f974501e1e49e9543 = addyad81ebf5aa7aac1f974501e1e49e9543 + 'm&#97;r&#105;n&#101;' + '&#46;' + 'r&#117;tg&#101;rs' + '&#46;' + '&#101;d&#117;';
				var addy_textad81ebf5aa7aac1f974501e1e49e9543 = 'mcd&#111;nn&#101;ll' + '&#64;' + 'm&#97;r&#105;n&#101;' + '&#46;' + 'r&#117;tg&#101;rs' + '&#46;' + '&#101;d&#117;';document.getElementById('cloakad81ebf5aa7aac1f974501e1e49e9543').innerHTML += '<a ' + path + '\'' + prefix + ':' + addyad81ebf5aa7aac1f974501e1e49e9543 + '\'>'+addy_textad81ebf5aa7aac1f974501e1e49e9543+'';
		
DTSTAMP:20260419T213631Z
DTSTART;TZID=UTC;VALUE=DATE:20180211
DTEND;TZID=UTC;VALUE=DATE:20180212
SEQUENCE:0
TRANSP:OPAQUE
END:VEVENT
END:VCALENDAR