BEGIN:VCALENDAR
VERSION:2.0
PRODID:-//jEvents 2.0 for Joomla//EN
CALSCALE:GREGORIAN
METHOD:PUBLISH
BEGIN:VEVENT
UID:c94119f8ff0fe7ecf3fa98529a3ceb6a
CATEGORIES:Field and Summer Schools
CREATED:20171130T101535
SUMMARY:2nd SCAR Summer School on Polar Geodesy
LOCATION:Ladoga Base\, Ladozhskoe Ozero\, Russia
DESCRIPTION:The 2nd SCAR Summer School on Polar Geodesy will be held at the Ladoga Base
  of the Arctic and Antarctic Research Institute (AARI), in Ladozhskoe Ozero
 , about 70 km east of St. Petersburg, Russia, from 10 to 19 May 2018.\nThe 
 summer school provides a concise course on geodetic ground‐based and satell
 ite methods focussed on polar applications in combination with lectures on 
 geophysics and glaciology. The school addresses master and PhD students as 
 well as young scientists (age limit: 30 years) to draw their interest to po
 lar research and to the cooperation of different geoscientific disciplines 
 to carry out investigations both in the Arctic and Antarctic.\nDeadline for
  application is 30 January 2018. Details can be found in this Call for Part
 icipation (https://www.polarforschung.de/app/uploads/2017/11/SCAR_Summer-Sc
 hool-on-Polar-Geodesy-2018_CALL.pdf).\nFurther details can be found at: <a 
 href="https://www.polarforschung.de/2nd-scar-summer-school-on-polar-geodesy
 /">https://www.polarforschung.de/2nd-scar-summer-school-on-polar-geodesy/</
 a> \n
X-ALT-DESC;FMTTYPE=text/html:<p>The <strong>2nd SCAR Summer School on Polar Geodesy</strong> will be hel
 d at the Ladoga Base of the Arctic and Antarctic Research Institute (AARI),
  in <strong>Ladozhskoe Ozero</strong>, about 70 km east of St. Petersburg, 
 Russia, from <strong>10 to 19 May 2018</strong>.</p><p>The summer school pr
 ovides a concise course on geodetic ground‐based and satellite methods focu
 ssed on polar applications in combination with lectures on geophysics and g
 laciology. The school addresses master and PhD students as well as young sc
 ientists (age limit: 30 years) to draw their interest to polar research and
  to the cooperation of different geoscientific disciplines to carry out inv
 estigations both in the Arctic and Antarctic.</p><p>Deadline for applicatio
 n is <strong>30 January 2018</strong>. Details can be found in this <a href
 ="https://www.polarforschung.de/app/uploads/2017/11/SCAR_Summer-School-on-P
 olar-Geodesy-2018_CALL.pdf" target="_blank" rel="noopener noreferrer">Call 
 for Participation</a>.</p><p>Further details can be found at: <a href="http
 s://www.polarforschung.de/2nd-scar-summer-school-on-polar-geodesy/">https:/
 /www.polarforschung.de/2nd-scar-summer-school-on-polar-geodesy/</a> </p>
DTSTAMP:20260421T151745Z
DTSTART;TZID=UTC;VALUE=DATE:20180510
DTEND;TZID=UTC;VALUE=DATE:20180520
SEQUENCE:0
TRANSP:OPAQUE
END:VEVENT
END:VCALENDAR