BEGIN:VCALENDAR
VERSION:2.0
PRODID:-//jEvents 2.0 for Joomla//EN
CALSCALE:GREGORIAN
METHOD:PUBLISH
BEGIN:VEVENT
UID:a01d971584e11aab5004f59083d403e8
CATEGORIES:Polar Conferences, Meetings and Events
CREATED:20171222T100903
SUMMARY:Polar and Alpine Research Conference (SPARC) 
LOCATION:Brno\, Czech Republic
DESCRIPTION:SPARC 2018, APRIL 16-18, BRNO\nSTUDENTS IN POLAR AND ALPINE RESEARCH CONFER
 ENCE\n \nWe are happy to announce that Students in Polar and Alpine Researc
 h Conference (SPARC) (http://sparc-brno.webnode.cz/) will be held in Brno, 
 Czech Republic, between 16th and 18th April 2018.\nDepartment of Geography 
 at the Faculty of Science, Masaryk University will host the fourth year of 
 the conference. The last meeting showed the connection of Polar and Alpine 
 regions in the field of geo- and bio-sciences as beneficial for all partici
 pants. Therefore, we decided to follow this trend and connect both geograph
 ical areas again. We hope you will discover a lot of interesting topics, id
 eas and contacts during the SPARC 2018.\n- The organizing committee\n\n\n\n
 March 20th, 2018 Deadline for application for accommodation in a student do
 rmitory\nMarch 31th, 2018 Deadline for registration and abstract submission
 \n
X-ALT-DESC;FMTTYPE=text/html:<p style="text-align: center;"><strong>SPARC 2018, APRIL 16-18, BRNO</stron
 g><br /><strong>STUDENTS IN POLAR AND ALPINE RESEARCH CONFERENCE</strong></
 p><p>&nbsp;<br />We are happy to announce that <a href="http://sparc-brno.w
 ebnode.cz/" target="_blank" rel="noopener">Students in Polar and Alpine Res
 earch Conference (SPARC)</a> will be held in Brno, Czech Republic, between 
 16th and 18th April 2018.</p><p>Department of Geography at the Faculty of S
 cience, Masaryk University will host the fourth year of the conference. The
  last meeting showed the connection of Polar and Alpine regions in the fiel
 d of geo- and bio-sciences as beneficial for all participants. Therefore, w
 e decided to follow this trend and connect both geographical areas again. W
 e hope you will discover a lot of interesting topics, ideas and contacts du
 ring the SPARC 2018.</p><p>- The organizing committee<br /><br /><br /></p>
 <p><strong>March 20th, 2018</strong> Deadline for application for accommoda
 tion in a student dormitory</p><p><strong>March 31th, 2018</strong> Deadlin
 e for registration and abstract submission</p>
DTSTAMP:20260420T000527Z
DTSTART;TZID=UTC;VALUE=DATE:20180416
DTEND;TZID=UTC;VALUE=DATE:20180419
SEQUENCE:0
TRANSP:OPAQUE
END:VEVENT
END:VCALENDAR