BEGIN:VCALENDAR
VERSION:2.0
PRODID:-//jEvents 2.0 for Joomla//EN
CALSCALE:GREGORIAN
METHOD:PUBLISH
BEGIN:VEVENT
UID:0d6a2106efb3f6b5356afb29c337f3e8
CATEGORIES:Polar Conferences, Meetings and Events
CREATED:20180104T142813
SUMMARY:Environmental Seismology at the Seismology of the Americas 2018 Meeting
LOCATION:Miami\, Florida\, USA
DESCRIPTION:<p>We invite you to submit Abstracts for this Environmental Seismology sess
 ion at this year’s joint Seismological Society of America/Latin American an
 d Caribbean Seismological Commission Meeting in Miami (14-17 May). The abst
 ract deadline is 24 January 2018, and the abstract link is at <a href="http
 s://www.seismosoc.org/meetings/abstract-submissions">https://www.seismosoc.
 org/meetings/abstract-submissions</a>.</p><p><strong>Environmental Seismolo
 gy: Glaciers, Rivers, Landslides and Beyond</strong></p><p>Environmental se
 ismology is the study of seismic signals generated at and near the surface 
 created by environmental forces in the atmosphere, hydrosphere or solid Ear
 th. Contributions to this session are welcome on a wide variety of topics i
 ncluding (but not limited to) the seismic signals associated with landslide
 s, rock falls, debris flows, lahars, snow avalanches, cliff or pinnacle res
 onance, bedload transport, fluid flow in open and confined channels, open w
 ater waves, tides, glacial stick-slip, iceberg calving, crevassing, extreme
  wind and weather and wind turbines or other anthropogenic sources. Contrib
 utions that seek to conduct monitoring, create physical or statistical mode
 ls of source processes or systems, detect events, characterize a wave propa
 gation environment, or interact with other branches of the Earth or social 
 sciences are additionally encouraged.</p><p><strong>Session Conveners</stro
 ng><br />Bradley P. Lipovsky, Harvard University, Department of Earth and P
 lanetary Sciences, &lt;<span id="cloak0366e6f265aebf42618a402ca34add22">Thi
 s email address is being protected from spambots. You need JavaScript enabl
 ed to view it.</span><script type='text/javascript'>
				document.getElemen
 tById('cloak0366e6f265aebf42618a402ca34add22').innerHTML = '';
				var pref
 ix = '&#109;a' + 'i&#108;' + '&#116;o';
				var path = 'hr' + 'ef' + '=';
	
 			var addy0366e6f265aebf42618a402ca34add22 = 'br&#97;d_l&#105;p&#111;vsky'
  + '&#64;';
				addy0366e6f265aebf42618a402ca34add22 = addy0366e6f265aebf42
 618a402ca34add22 + 'f&#97;s' + '&#46;' + 'h&#97;rv&#97;rd' + '&#46;' + '&#1
 01;d&#117;';
				var addy_text0366e6f265aebf42618a402ca34add22 = 'br&#97;d_
 l&#105;p&#111;vsky' + '&#64;' + 'f&#97;s' + '&#46;' + 'h&#97;rv&#97;rd' + '
 &#46;' + '&#101;d&#117;';document.getElementById('cloak0366e6f265aebf42618a
 402ca34add22').innerHTML += '<a ' + path + '\'' + prefix + ':' + addy0366e6
 f265aebf42618a402ca34add22 + '\'>'+addy_text0366e6f265aebf42618a402ca34add2
 2+'<\/a>';
		</script>&gt;<br />Kate Allstadt, U. S. Geological Survey, Geo
 logic Hazards Science Center, &lt;<span id="cloak01fa12f093ff2533bfb27850e5
 b5df83">This email address is being protected from spambots. You need JavaS
 cript enabled to view it.</span><script type='text/javascript'>
				documen
 t.getElementById('cloak01fa12f093ff2533bfb27850e5b5df83').innerHTML = '';
	
 			var prefix = '&#109;a' + 'i&#108;' + '&#116;o';
				var path = 'hr' + 'e
 f' + '=';
				var addy01fa12f093ff2533bfb27850e5b5df83 = 'k&#97;llst&#97;dt
 ' + '&#64;';
				addy01fa12f093ff2533bfb27850e5b5df83 = addy01fa12f093ff253
 3bfb27850e5b5df83 + '&#117;sgs' + '&#46;' + 'g&#111;v';
				var addy_text01
 fa12f093ff2533bfb27850e5b5df83 = 'k&#97;llst&#97;dt' + '&#64;' + '&#117;sgs
 ' + '&#46;' + 'g&#111;v';document.getElementById('cloak01fa12f093ff2533bfb2
 7850e5b5df83').innerHTML += '<a ' + path + '\'' + prefix + ':' + addy01fa12
 f093ff2533bfb27850e5b5df83 + '\'>'+addy_text01fa12f093ff2533bfb27850e5b5df8
 3+'<\/a>';
		</script>&gt;<br />Rick Aster, Colorado State University, Geos
 ciences Department, &lt;<span id="cloakbeba705cd2e6b8a29b359190dcddad6b">Th
 is email address is being protected from spambots. You need JavaScript enab
 led to view it.</span><script type='text/javascript'>
				document.getEleme
 ntById('cloakbeba705cd2e6b8a29b359190dcddad6b').innerHTML = '';
				var pre
 fix = '&#109;a' + 'i&#108;' + '&#116;o';
				var path = 'hr' + 'ef' + '=';

 				var addybeba705cd2e6b8a29b359190dcddad6b = 'r&#105;ck.&#97;st&#101;r' +
  '&#64;';
				addybeba705cd2e6b8a29b359190dcddad6b = addybeba705cd2e6b8a29b
 359190dcddad6b + 'c&#111;l&#111;st&#97;t&#101;' + '&#46;' + '&#101;d&#117;'
 ;
				var addy_textbeba705cd2e6b8a29b359190dcddad6b = 'r&#105;ck.&#97;st&#1
 01;r' + '&#64;' + 'c&#111;l&#111;st&#97;t&#101;' + '&#46;' + '&#101;d&#117;
 ';document.getElementById('cloakbeba705cd2e6b8a29b359190dcddad6b').innerHTM
 L += '<a ' + path + '\'' + prefix + ':' + addybeba705cd2e6b8a29b359190dcdda
 d6b + '\'>'+addy_textbeba705cd2e6b8a29b359190dcddad6b+'<\/a>';
		</script>&
 gt;</p><p><strong>Additional Information on the meeting:</strong><br />Seis
 mology of the Americas, 14-17 May 2018</p><p>Join us this May in Miami, Flo
 rida for our first joint international conference with the Latin American a
 nd Caribbean Seismological Commission (LACSC). <br />This year, our confere
 nce will start with an official joint welcoming ceremony and reception on M
 onday, 14 May at 5 PM. The conference will feature more than 50 sessions an
 d many events, such as our Women in Seismology Reception, Pint &amp; Poster
  hours and Mentoring Breakfast.</p><p>In addition to the technical program 
 of poster and oral presentations, there will be an evening of Lightning Tal
 ks: quick, five-minute presentations that cover a range of interesting topi
 cs. The SSA Award Ceremony and LACSC Business Meetings will be held early e
 vening on Wednesday, 13 May.</p><p>The Seismology of the Americas 2018 Prog
 ram Committee is led by Co-Chairs Carol Prentice (United States Geological 
 Survey) and Elizabeth Vanacore (University of Puerto Rico at Mayaguez).</p>
 <p>We hope to see you there!</p>
DTSTAMP:20260423T123428Z
DTSTART;TZID=UTC;VALUE=DATE:20180514
DTEND;TZID=UTC;VALUE=DATE:20180518
SEQUENCE:0
TRANSP:OPAQUE
END:VEVENT
END:VCALENDAR