BEGIN:VCALENDAR
VERSION:2.0
PRODID:-//jEvents 2.0 for Joomla//EN
CALSCALE:GREGORIAN
METHOD:PUBLISH
BEGIN:VEVENT
UID:3720b93596cd2231117db0669e23eee7
CATEGORIES:Polar Conferences, Meetings and Events
CREATED:20180115T134201
SUMMARY:5th Polar Prediction Workshop
LOCATION:Agora Hydro-Quebec\, Montreal\, Canada
DESCRIPTION:Organizers announce that the 5th Polar Prediction Workshop will convene 7-9
  May 2018 at the Agora Hydro-Québec in Montreal, Québec, Canada.\nAs in pre
 vious years, the 2018 workshop will focus on:\n\n - polar predictability fr
 om subseasonnal to interannual timescales\n - sea ice prediction\n - operat
 ional and research efforts\n - end user needs and the capacity of the scien
 tific community to address themIn addition, reviews for the Sea Ice Outlook
  project and other initiatives related to polar predictions will be discuss
 ed.\nWe also propose a new activity for 2018: An important outcome of the W
 orkshop will be a consensus forecast statement synthesizing predictions of 
 (i) September mean Arctic sea ice extent, and (ii) sea ice conditions durin
 g the Arctic shipping season for key regions plus the Northwest Passage and
  Northern Sea Route shipping corridors. Participants are invited to contrib
 ute to any or all of these forecasts using a form that will be circulated t
 o registrants and posted online, and are encouraged to highlight these pred
 ictions in their presentations.\nOperational forecasters and forecast users
  are warmly invited to participate.\nTo register and/or submit an abstract,
  please use this form (https://ppw2018.com/registration/).\nExtended deadli
 ne for abstract submission: April 13, 2018.\nMore information on the logist
 ics of the event can be found here.\nFor questions: This email address is b
 eing protected from spambots. You need JavaScript enabled to view it.
				d
 ocument.getElementById('cloake12fc668a8aade57a134e536f89b3045').innerHTML =
  '';
				var prefix = '&#109;a' + 'i&#108;' + '&#116;o';
				var path = 'hr
 ' + 'ef' + '=';
				var addye12fc668a8aade57a134e536f89b3045 = 'ppw2018' + 
 '&#64;';
				addye12fc668a8aade57a134e536f89b3045 = addye12fc668a8aade57a13
 4e536f89b3045 + 'g&#111;&#111;gl&#101;gr&#111;&#117;ps' + '&#46;' + 'c&#111
 ;m';
				var addy_texte12fc668a8aade57a134e536f89b3045 = 'ppw2018' + '&#64;
 ' + 'g&#111;&#111;gl&#101;gr&#111;&#117;ps' + '&#46;' + 'c&#111;m';document
 .getElementById('cloake12fc668a8aade57a134e536f89b3045').innerHTML += '<a '
  + path + '\'' + prefix + ':' + addye12fc668a8aade57a134e536f89b3045 + '\'>
 '+addy_texte12fc668a8aade57a134e536f89b3045+'';
		\n \nMore information to 
 come.\nBest regards,\nThe organizing committee\nBruno Tremblay (McGill U.)\
 nAmélie Bouchat (McGill U.)\nCharles Brunette (McGill U.)\nJulianne Yip (Mc
 Gill U.)\nSea Ice Prediction Network 2 (SIPN2)\n
X-ALT-DESC;FMTTYPE=text/html:<p>Organizers announce that the <strong>5th Polar Prediction Workshop</stro
 ng> will convene <strong>7-9 May 2018 at the Agora Hydro-Québec in Montreal
 , Québec, Canada</strong>.</p><p>As in previous years, the 2018 workshop wi
 ll focus on:</p><ul><li>polar predictability from subseasonnal to interannu
 al timescales</li><li>sea ice prediction</li><li>operational and research e
 fforts</li><li>end user needs and the capacity of the scientific community 
 to address them</li></ul><p>In addition, reviews for the<strong> Sea Ice Ou
 tlook project</strong> and other initiatives related to polar predictions w
 ill be discussed.</p><p>We also propose a <strong>new activity for 2018</st
 rong>: An important outcome of the Workshop will be a <strong>consensus for
 ecast</strong> statement synthesizing predictions of (i) September mean Arc
 tic sea ice extent, and (ii) sea ice conditions during the Arctic shipping 
 season for key regions plus the Northwest Passage and Northern Sea Route sh
 ipping corridors. Participants are invited to contribute to any or all of t
 hese forecasts using a form that will be circulated to registrants and post
 ed online, and are encouraged to highlight these predictions in their prese
 ntations.</p><p>Operational forecasters and forecast users are warmly invit
 ed to participate.</p><p>To <strong>register and/or submit an abstract</str
 ong>, please use <a href="https://ppw2018.com/registration/" target="_blank
 " rel="noopener">this form</a>.<br /><strong>Extended deadline for abstract
  submission:</strong> April 13, 2018.</p><p>More information on the logisti
 cs of the event can be found here.</p><p>For questions: <span id="cloake12f
 c668a8aade57a134e536f89b3045">This email address is being protected from sp
 ambots. You need JavaScript enabled to view it.</span><script type='text/ja
 vascript'>
				document.getElementById('cloake12fc668a8aade57a134e536f89b30
 45').innerHTML = '';
				var prefix = '&#109;a' + 'i&#108;' + '&#116;o';
		
 		var path = 'hr' + 'ef' + '=';
				var addye12fc668a8aade57a134e536f89b304
 5 = 'ppw2018' + '&#64;';
				addye12fc668a8aade57a134e536f89b3045 = addye12
 fc668a8aade57a134e536f89b3045 + 'g&#111;&#111;gl&#101;gr&#111;&#117;ps' + '
 &#46;' + 'c&#111;m';
				var addy_texte12fc668a8aade57a134e536f89b3045 = 'p
 pw2018' + '&#64;' + 'g&#111;&#111;gl&#101;gr&#111;&#117;ps' + '&#46;' + 'c&
 #111;m';document.getElementById('cloake12fc668a8aade57a134e536f89b3045').in
 nerHTML += '<a ' + path + '\'' + prefix + ':' + addye12fc668a8aade57a134e53
 6f89b3045 + '\'>'+addy_texte12fc668a8aade57a134e536f89b3045+'<\/a>';
		</sc
 ript></p><p>&nbsp;</p><p>More information to come.</p><p>Best regards,</p><
 p>The organizing committee</p><p>Bruno Tremblay (McGill U.)<br />Amélie Bou
 chat (McGill U.)<br />Charles Brunette (McGill U.)<br />Julianne Yip (McGil
 l U.)<br />Sea Ice Prediction Network 2 (SIPN2)</p>
CONTACT:This email address is being protected from spambots. You need JavaScript enabled to view it.
				document.getElementById('cloakffb2b9dafebb53a40c915e9d78eef74d').innerHTML = '';
				var prefix = '&#109;a' + 'i&#108;' + '&#116;o';
				var path = 'hr' + 'ef' + '=';
				var addyffb2b9dafebb53a40c915e9d78eef74d = 'ppw2018' + '&#64;';
				addyffb2b9dafebb53a40c915e9d78eef74d = addyffb2b9dafebb53a40c915e9d78eef74d + 'g&#111;&#111;gl&#101;gr&#111;&#117;ps' + '&#46;' + 'c&#111;m';
				var addy_textffb2b9dafebb53a40c915e9d78eef74d = 'ppw2018' + '&#64;' + 'g&#111;&#111;gl&#101;gr&#111;&#117;ps' + '&#46;' + 'c&#111;m';document.getElementById('cloakffb2b9dafebb53a40c915e9d78eef74d').innerHTML += '<a ' + path + '\'' + prefix + ':' + addyffb2b9dafebb53a40c915e9d78eef74d + '\'>'+addy_textffb2b9dafebb53a40c915e9d78eef74d+'';
		
DTSTAMP:20260420T193916Z
DTSTART;TZID=UTC;VALUE=DATE:20180507
DTEND;TZID=UTC;VALUE=DATE:20180510
SEQUENCE:0
TRANSP:OPAQUE
END:VEVENT
END:VCALENDAR