BEGIN:VCALENDAR
VERSION:2.0
PRODID:-//jEvents 2.0 for Joomla//EN
CALSCALE:GREGORIAN
METHOD:PUBLISH
BEGIN:VEVENT
UID:165287edd52b45e2a9d7082113f31012
CATEGORIES:Polar Conferences, Meetings and Events
CREATED:20180125T111726
SUMMARY:ESA-NASA-SOLAS Workshop on 'Remote Sensing for Studying the Ocean-Atmosphere Interface'
LOCATION:Potomac\, Maryland\, USA
DESCRIPTION:Workshop on 'Remote Sensing for Studying the Ocean-Atmosphere Interface', c
 o-sponsored by the European Space Agency (ESA), the National Aeronautics an
 d Space Administration (NASA), and the Surface Ocean - Lower Atmosphere Stu
 dy (SOLAS).\nThe workshop will be held 13 - 15 March 2018, in Potomac, Mary
 land, USA.\n- Keynote speakers by today: Abderrahim Bentamy (Ifremer), Jack
  Kaye (NASA), Kirk Knobelspiesse (NASA), Phil Hwang (SAMS)\n- Organising co
 mmittee: Peter Minnett (US), Emmanuel Boss (US), Ilan Koren (Israel), Lisa 
 Miller (Canada), Anna Rutgersson (Sweden), Brian Ward (Ireland)\n- A draft 
 programme is available here and a detailed programme will be developed base
 d on the abstracts received.\nEarly registration is valid until 19 February
  2018.\n
X-ALT-DESC;FMTTYPE=text/html:<p>Workshop on 'Remote Sensing for Studying the Ocean-Atmosphere Interface'
 , co-sponsored by the European Space Agency (ESA), the National Aeronautics
  and Space Administration (NASA), and the Surface Ocean - Lower Atmosphere 
 Study (SOLAS).</p><p>The workshop will be held <strong>13 - 15 March 2018, 
 in Potomac, Maryland, USA</strong>.</p><p>- Keynote speakers by today: Abde
 rrahim Bentamy (Ifremer), Jack Kaye (NASA), Kirk Knobelspiesse (NASA), Phil
  Hwang (SAMS)<br />- Organising committee: Peter Minnett (US), Emmanuel Bos
 s (US), Ilan Koren (Israel), Lisa Miller (Canada), Anna Rutgersson (Sweden)
 , Brian Ward (Ireland)<br />- A draft programme is available here and a det
 ailed programme will be developed based on the abstracts received.</p><p>Ea
 rly registration is valid until <strong>19 February 2018</strong>.</p>
DTSTAMP:20260420T130848Z
DTSTART;TZID=UTC;VALUE=DATE:20180313
DTEND;TZID=UTC;VALUE=DATE:20180316
SEQUENCE:0
TRANSP:OPAQUE
END:VEVENT
END:VCALENDAR