BEGIN:VCALENDAR
VERSION:2.0
PRODID:-//jEvents 2.0 for Joomla//EN
CALSCALE:GREGORIAN
METHOD:PUBLISH
BEGIN:VEVENT
UID:39b4dae4e3420aed51d9c17064962b53
CATEGORIES:Field and Summer Schools
CREATED:20180125T112131
SUMMARY:COST ES1404 Action Training School on Snow Observations and Data Assimilation
LOCATION:Bormio\, Italy
DESCRIPTION:COST action ES1404 on snow (http://harmosnow.eu) (http://harmosnow.eu) will
  arrange a spring school on snow, focusing on snow data assimilation. The <
 a href="http://harmosnow.eu/index.php?page=Training%20School%20Bormio" targ
 et="_blank" rel="noopener">training school</a> will be held in Bormio, Ital
 y in March 12-16, 2018.\n \nDeadline is January 26, 2018!\n\nObjectives\nTo
  learn and discuss the state-of-the art and developing snow data assimilati
 on methods for NWP, hydrology and detailed snowpack models:\n\n - Importanc
 e of snow data assimilation for forecast and applications\n - Availability,
  uncertainties and usage of observations for the models\n - Methods of obje
 ctive analysis and data assimilation\n - Using of observations for model ev
 aluationTarget audience\n\n - PhD and graduate level students who want to l
 earn data assimilation methods for snow\n - Modellers who want to advance t
 heir skill in data assimilation and understand the snow observations better
 \n - Observation specialists who want to learn how the observations are use
 d in modelsThe participants should have a basic knowledge in snow physics a
 nd numerical methods. Applicants from COST inclusiveness countries (Bosnia-
 Herzegovina, Bulgaria, Cyprus, Czech Republic, Estonia, Croatia, Hungary, L
 ithuania, Latvia, Luxembourg, Malta, Montenegro, Poland, Portugal, Romania,
  Slovenia, Slovakia, the former Yugoslav Republic of Macedonia, Republic of
  Serbia and Turkey) are welcome\nFunding\nCOST will cover all local expense
 s including accommodation, food and the field trip. The flight tickets and 
 local transport (up to 300 euros) will be covered by application when neces
 sary. In special cases the travel budget can be extended.\nContents\n Lectu
 res, practical exercises and a field trip on:\n\n - Introduction to NWP/hyd
 rology/snowpack models and their snow data assimilation\n - Methods of data
  assimilation\n - Snow observations applicable for data assimilation in the
  models\n - Snow-related applicationsCredits\nCOST ES-1404 considers that t
 he school programme is equivalent to 3 ECTS.\nFor application procedure, se
 e the school flyer:\nSchool flyerSchool flyer (http://costsnow.fmi.fi/schoo
 ls/bormio/Flyer.pdf)\n<a href="http://costsnow.fmi.fi/schools/bormio/Progra
 m.pdf" target="_blank" rel="noopener">Preliminary program, topics and train
 ers</a>\nPlease send your motivation letter and CV to Cemal.Melih.Tanis at 
 fmi.fi and Ekaterina.Kurzeneva at fmi.fi.\n
X-ALT-DESC;FMTTYPE=text/html:<p><strong>COST action ES1404 on snow</strong> (<a href="http://harmosnow.e
 u">http://harmosnow.eu)</a> will arrange a spring school on snow, focusing 
 on snow data assimilation. The <a href="http://harmosnow.eu/index.php?page=
 Training%20School%20Bormio" target="_blank" rel="noopener">training school<
 /a> will be held in <strong>Bormio, Italy in March 12-16, 2018</strong>.<br
  /> <br /><strong>Deadline is January 26, 2018!<br /></strong><br /><strong
 >Objectives</strong><br />To learn and discuss the state-of-the art and dev
 eloping snow data assimilation methods for NWP, hydrology and detailed snow
 pack models:</p><ul><li>Importance of snow data assimilation for forecast a
 nd applications</li><li>Availability, uncertainties and usage of observatio
 ns for the models</li><li>Methods of objective analysis and data assimilati
 on</li><li>Using of observations for model evaluation</li></ul><p><strong>T
 arget audience</strong></p><ul><li>PhD and graduate level students who want
  to learn data assimilation methods for snow</li><li>Modellers who want to 
 advance their skill in data assimilation and understand the snow observatio
 ns better</li><li>Observation specialists who want to learn how the observa
 tions are used in models</li></ul><p>The participants should have a basic k
 nowledge in snow physics and numerical methods. Applicants from COST inclus
 iveness countries (Bosnia-Herzegovina, Bulgaria, Cyprus, Czech Republic, Es
 tonia, Croatia, Hungary, Lithuania, Latvia, Luxembourg, Malta, Montenegro, 
 Poland, Portugal, Romania, Slovenia, Slovakia, the former Yugoslav Republic
  of Macedonia, Republic of Serbia and Turkey) are welcome</p><p><strong>Fun
 ding</strong><br />COST will cover all local expenses including accommodati
 on, food and the field trip. The flight tickets and local transport (up to 
 300 euros) will be covered by application when necessary. In special cases 
 the travel budget can be extended.</p><p><strong>Contents<br /></strong> Le
 ctures, practical exercises and a field trip on:</p><ul><li>Introduction to
  NWP/hydrology/snowpack models and their snow data assimilation</li><li>Met
 hods of data assimilation</li><li>Snow observations applicable for data ass
 imilation in the models</li><li>Snow-related applications</li></ul><p><stro
 ng>Credits</strong><br />COST ES-1404 considers that the school programme i
 s equivalent to 3 ECTS.</p><p>For application procedure, see the school fly
 er:</p><p><a href="http://costsnow.fmi.fi/schools/bormio/Flyer.pdf" target=
 "_blank" rel="noopener">School flyerSchool flyer</a><br /><a href="http://c
 ostsnow.fmi.fi/schools/bormio/Program.pdf" target="_blank" rel="noopener">P
 reliminary program, topics and trainers</a></p><p>Please send your motivati
 on letter and CV to Cemal.Melih.Tanis at fmi.fi and Ekaterina.Kurzeneva at 
 fmi.fi.</p>
DTSTAMP:20260420T012816Z
DTSTART;TZID=UTC;VALUE=DATE:20180312
DTEND;TZID=UTC;VALUE=DATE:20180317
SEQUENCE:0
TRANSP:OPAQUE
END:VEVENT
END:VCALENDAR