BEGIN:VCALENDAR
VERSION:2.0
PRODID:-//jEvents 2.0 for Joomla//EN
CALSCALE:GREGORIAN
METHOD:PUBLISH
BEGIN:VEVENT
UID:7ddfc2c917d9b17c2be9c1778cc70af8
CATEGORIES:Polar Conferences, Meetings and Events
CREATED:20180220T094705
SUMMARY:Seminar on the Antarctic
LOCATION:The Fram Centre\, Tromsø\, Norway
DESCRIPTION:The Norwegian Polar Institute and the Research Council of Norway invite you
  to the second Seminar on Research in and about the Antarctic, a follow-up 
 of the seminar held in 2016.\nThe seminar is primarily targeted towards res
 earchers in Norway and Norwegian agencies, authorities and decision-makers 
 with interests or responsibilities relating to Antarctica.\nThe seminar is 
 intended to provide:\n\n - a meeting place for new and established Antarcti
 c researchers in Norway across all scientific fields (nature, history, poli
 tical science, etc.);\n - an arena for disseminating information about ongo
 ing and recently concluded research projects related to the Antarctic;\n - 
 an arena for providing information about the framework for Norwegian Antarc
 tic research;\n - a think-tank to develop new ideas and strategies in conne
 ction with interdisciplinary Antarctic research.The focus of the seminar wi
 ll be on disseminating recent findings from ongoing research projects, pres
 entations of new projects and targeted discussions on selected strategic re
 search topics in addition to providing information about available research
  tools.\nRegistration form (https://forskningsradet.pameldingssystem.no/ant
 arktisseminar) (in Norwegian)\nFor more information, please visit the <a hr
 ef="http://www.npolar.no/no/hendelser/2018/05-07-antarktisseminar.html" tar
 get="_blank" rel="noopener">seminar webpage</a>.\n
X-ALT-DESC;FMTTYPE=text/html:<p>The Norwegian Polar Institute and the Research Council of Norway invite 
 you to the second Seminar on Research in and about the Antarctic, a follow-
 up of the seminar held in 2016.</p><p>The seminar is primarily targeted tow
 ards researchers in Norway and Norwegian agencies, authorities and decision
 -makers with interests or responsibilities relating to Antarctica.</p><p>Th
 e seminar is intended to provide:</p><ul><li>a meeting place for new and es
 tablished Antarctic researchers in Norway across all scientific fields (nat
 ure, history, political science, etc.);</li><li>an arena for disseminating 
 information about ongoing and recently concluded research projects related 
 to the Antarctic;</li><li>an arena for providing information about the fram
 ework for Norwegian Antarctic research;</li><li>a think-tank to develop new
  ideas and strategies in connection with interdisciplinary Antarctic resear
 ch.</li></ul><p>The focus of the seminar will be on disseminating recent fi
 ndings from ongoing research projects, presentations of new projects and ta
 rgeted discussions on selected strategic research topics in addition to pro
 viding information about available research tools.</p><p><a href="https://f
 orskningsradet.pameldingssystem.no/antarktisseminar" target="_blank" rel="n
 oopener">Registration form</a> (in Norwegian)</p><p>For more information, p
 lease visit the <a href="http://www.npolar.no/no/hendelser/2018/05-07-antar
 ktisseminar.html" target="_blank" rel="noopener">seminar webpage</a>.</p>
DTSTAMP:20260419T224612Z
DTSTART;TZID=UTC;VALUE=DATE:20180507
DTEND;TZID=UTC;VALUE=DATE:20180509
SEQUENCE:0
TRANSP:OPAQUE
END:VEVENT
END:VCALENDAR