BEGIN:VCALENDAR
VERSION:2.0
PRODID:-//jEvents 2.0 for Joomla//EN
CALSCALE:GREGORIAN
METHOD:PUBLISH
BEGIN:VEVENT
UID:2a23139251ab9b0820aa35d75b7ac226
CATEGORIES:Field and Summer Schools
CREATED:20180222T152000
SUMMARY:Climate Change Program 2018
LOCATION:Hamburg\, Germany
DESCRIPTION:The international Summer School Climate Change, jointly organized by the Ce
 nter for Earth System Research and Sustainability (CEN) at Universität Hamb
 urg, the Max Planck Institute for Meteorology (MPI-M), and the German Clima
 te Computing Center (DKRZ) invites applications from students and prospecti
 ve scientists who have a strong interest in climate, Earth system, and sust
 ainability research. The curriculum consists of a broad range of lectures b
 y expert scientists, as well as excursions and lab work. During hands-on se
 ssions, participants will run complex Earth-system models using local compu
 tation facilities and focus on data analysis and interpretation. The Climat
 e Change program will be complemented by sessions on German culture and his
 tory—topics will be discussed and taught on field trips and during excursio
 ns. A language course and extracurricular activities, such as a day trip to
  Berlin, are also included into the Summer School. Join us for knowledge, c
 redits, and fun!\nDates &amp; Facts:\n\n - Start: 2 July 2018 | End: 27 Jul
 y 2018\n - Applications until: 30 April 2018\n - Ongoing enrollment\n - Est
 . program hours: 150 hrs total / 37.5 hrs a week\n - Credits: up to 5 credi
 ts (ECTS)\n - Language of instruction: EnglishDetailed course information: 
 https://www.uni-hamburg.de/en/internationales/studieren-an-der-uhh/summer-s
 chools/2018-climate-sustainability/climate-program.html \n
X-ALT-DESC;FMTTYPE=text/html:<p>The international Summer School Climate Change, jointly organized by the
  Center for Earth System Research and Sustainability (CEN) at Universität H
 amburg, the Max Planck Institute for Meteorology (MPI-M), and the German Cl
 imate Computing Center (DKRZ) invites applications from students and prospe
 ctive scientists who have a strong interest in climate, Earth system, and s
 ustainability research. The curriculum consists of a broad range of lecture
 s by expert scientists, as well as excursions and lab work. During hands-on
  sessions, participants will run complex Earth-system models using local co
 mputation facilities and focus on data analysis and interpretation. The Cli
 mate Change program will be complemented by sessions on German culture and 
 history—topics will be discussed and taught on field trips and during excur
 sions. A language course and extracurricular activities, such as a day trip
  to Berlin, are also included into the Summer School. Join us for knowledge
 , credits, and fun!</p><p><strong>Dates &amp; Facts:</strong></p><ul><li>St
 art: 2 July 2018 | End: 27 July 2018</li><li>Applications until: <strong>30
  April 2018</strong></li><li>Ongoing enrollment</li><li>Est. program hours:
  150 hrs total / 37.5 hrs a week</li><li>Credits: up to 5 credits (ECTS)</l
 i><li>Language of instruction: English</li></ul><p>Detailed course informat
 ion: <a href="https://www.uni-hamburg.de/en/internationales/studieren-an-de
 r-uhh/summer-schools/2018-climate-sustainability/climate-program.html">http
 s://www.uni-hamburg.de/en/internationales/studieren-an-der-uhh/summer-schoo
 ls/2018-climate-sustainability/climate-program.html</a> </p>
CONTACT:This email address is being protected from spambots. You need JavaScript enabled to view it.
				document.getElementById('cloak38ad23e5ee48dcbf5a48ae7c5c9c400d').innerHTML = '';
				var prefix = '&#109;a' + 'i&#108;' + '&#116;o';
				var path = 'hr' + 'ef' + '=';
				var addy38ad23e5ee48dcbf5a48ae7c5c9c400d = '&#105;nt&#101;rn&#97;t&#105;&#111;n&#97;l-s&#117;mm&#101;rsch&#111;&#111;l' + '&#64;';
				addy38ad23e5ee48dcbf5a48ae7c5c9c400d = addy38ad23e5ee48dcbf5a48ae7c5c9c400d + '&#117;n&#105;-h&#97;mb&#117;rg' + '&#46;' + 'd&#101;';
				var addy_text38ad23e5ee48dcbf5a48ae7c5c9c400d = '&#105;nt&#101;rn&#97;t&#105;&#111;n&#97;l-s&#117;mm&#101;rsch&#111;&#111;l' + '&#64;' + '&#117;n&#105;-h&#97;mb&#117;rg' + '&#46;' + 'd&#101;';document.getElementById('cloak38ad23e5ee48dcbf5a48ae7c5c9c400d').innerHTML += '<a ' + path + '\'' + prefix + ':' + addy38ad23e5ee48dcbf5a48ae7c5c9c400d + '\'>'+addy_text38ad23e5ee48dcbf5a48ae7c5c9c400d+'';
		
DTSTAMP:20260419T125552Z
DTSTART;TZID=UTC;VALUE=DATE:20180702
DTEND;TZID=UTC;VALUE=DATE:20180728
SEQUENCE:0
TRANSP:OPAQUE
END:VEVENT
END:VCALENDAR