BEGIN:VCALENDAR
VERSION:2.0
PRODID:-//jEvents 2.0 for Joomla//EN
CALSCALE:GREGORIAN
METHOD:PUBLISH
BEGIN:VEVENT
UID:c593fd0fff188aa1c303faf128030a19
CATEGORIES:Polar Conferences, Meetings and Events
CREATED:20180302T084652
SUMMARY:WAIS Workshop
LOCATION:Stony Point\, NY\, USA
DESCRIPTION:<p style="text-align: center;"><strong>WAIS Workshop (Sep 16-19) and Thwait
 es Glacier Program meeting (Sep 18-20)</strong><br /><strong>September 16-2
 0, 2018</strong><br /><strong>Stony Point, NY, USA</strong></p><p>The 25th 
 annual West Antarctic Ice Sheet Workshop will be held this September at Sto
 ny Point Center in Stony Point, NY, followed seamlessly by the Thwaites Gla
 cier Program meeting. The WAIS Workshop begins Sunday late afternoon, Septe
 mber 16 and ends with a 1-1/2 day section on Thwaites and Pine Island Glaci
 er and the planned Thwaites Glacier Program. On Wednesday afternoon, the di
 scussion will turn to the Thwaites Program preliminary research and coordin
 ation, concluding Thursday with discussion on logistics for the future prop
 osed field seasons. (The Thwaites awards have not yet been announced.) Plea
 se consider the relevance of these later sections to your own work when pla
 nning your stay.</p><p><strong>WAIS registration is now open!</strong><br /
 >We are pleased to announce that registration for the 2018 WAIS Workshop is
  now open. We appreciate your patience as we worked out details with the ve
 nue and others regarding this year's meeting. You'll find the link to regis
 ter at the the Workshop web site, <a href="https://www.waisworkshop.org/wor
 kshop-2018.">https://www.waisworkshop.org/workshop-2018.</a> Please read th
 e web site for details about this year's meeting, which overlaps and is fol
 lowed by the International Thwaites Glacier Collaboration meeting.</p><p>No
 te that abstract submission is also open. Deadline is July 30. Follow instr
 uctions on the web site to submit your abstract.</p><p><strong>Students: we
  offer travel support for students and early career researchers. Deadline t
 o apply for funding is August 8, but please apply early!</strong> See guide
 lines here. We define "early career" as within 5 years of receiving a PhD, 
 or less than 5 years in total if there was a break due to family obligation
 s.</p><p>Diversity, equity, and inclusion are embraced at the WAIS Workshop
 , and we are committed to creating and maintaining a workshop environment t
 hat is safe, inclusive, and welcoming to all genders, races, identities, se
 lf-expressions, ethnicities and cultures.</p><p>Contact us with any questio
 ns: <span id="cloakf80ec3b2a0e048152d31da050de61387">This email address is 
 being protected from spambots. You need JavaScript enabled to view it.</spa
 n><script type='text/javascript'>
				document.getElementById('cloakf80ec3b
 2a0e048152d31da050de61387').innerHTML = '';
				var prefix = '&#109;a' + 'i
 &#108;' + '&#116;o';
				var path = 'hr' + 'ef' + '=';
				var addyf80ec3b2
 a0e048152d31da050de61387 = 'w&#97;&#105;sw&#111;rksh&#111;p' + '&#64;';
			
 	addyf80ec3b2a0e048152d31da050de61387 = addyf80ec3b2a0e048152d31da050de6138
 7 + 'ns&#105;dc' + '&#46;' + '&#111;rg';
				var addy_textf80ec3b2a0e048152
 d31da050de61387 = 'w&#97;&#105;sw&#111;rksh&#111;p' + '&#64;' + 'ns&#105;dc
 ' + '&#46;' + '&#111;rg';document.getElementById('cloakf80ec3b2a0e048152d31
 da050de61387').innerHTML += '<a ' + path + '\'' + prefix + ':' + addyf80ec3
 b2a0e048152d31da050de61387 + '\'>'+addy_textf80ec3b2a0e048152d31da050de6138
 7+'<\/a>';
		</script></p>
DTSTAMP:20260422T190049Z
DTSTART;TZID=UTC;VALUE=DATE:20180916
DTEND;TZID=UTC;VALUE=DATE:20180921
SEQUENCE:0
TRANSP:OPAQUE
END:VEVENT
END:VCALENDAR