BEGIN:VCALENDAR
VERSION:2.0
PRODID:-//jEvents 2.0 for Joomla//EN
CALSCALE:GREGORIAN
METHOD:PUBLISH
BEGIN:VEVENT
UID:ca33d8695dc6ff62f99bd7e9c80ad4f5
CATEGORIES:Polar Conferences, Meetings and Events
CREATED:20180319T095419
SUMMARY:IARPC Webinar: Narwhal - Revealing an Arctic Legend
LOCATION:Online
DESCRIPTION:Webinar date/time: Friday, 6 April 2018, 1:00 p.m. Eastern Daylight Time\n 
 Collaborations invites attendance for a webinar titled Narwhal: Revealing a
 n Arctic Legend. This webinar will be held via Zoom Video Conferencing at 1
 :00 p.m. Eastern Daylight Time on Friday, 6 April 2018.\nWebinar Summary:\n
 In this webinar, a dentist and an archaeologist team up to reveal one of th
 e least-known animals in the world, including the purpose of its mighty too
 th. William Fitzhugh, Director of the Arctic Studies Center at Smithsonian'
 s National Museum of Natural History (SMNH) and Martin Nweeia, Dentist and 
 Clinical instructor at the Harvard School of Dental Medicine, will guide at
 tendees through Narwhal: Revealing an Arctic Legend, both an exhibit at the
  SMNH and a companion book by Fitzhugh and Nweeia. In addition to an exhibi
 t tour, the two will present collaborations between Inuit and scientific co
 mmunities that are deepening our knowledge of the narwhal and revealing a p
 icture of a changing Arctic.\nFor more information and instructions on how 
 to join the webinar, go to:\n<a href="https://www.arcus.org/sites/all/modul
 es/civicrm/extern/url.php?u=8055&amp;qid=1085256" target="_blank" rel="noop
 ener">IARPC Collaborations Webinar Series homepage</a>\nFor questions, cont
 act:\nJessica Rohde\nEmail: This email address is being protected from spam
 bots. You need JavaScript enabled to view it.
				document.getElementById('
 cloak0d0af6a0212e40322078a6b456c161d0').innerHTML = '';
				var prefix = '&
 #109;a' + 'i&#108;' + '&#116;o';
				var path = 'hr' + 'ef' + '=';
				var 
 addy0d0af6a0212e40322078a6b456c161d0 = 'jr&#111;hd&#101;' + '&#64;';
				ad
 dy0d0af6a0212e40322078a6b456c161d0 = addy0d0af6a0212e40322078a6b456c161d0 +
  '&#97;rc&#117;s' + '&#46;' + '&#111;rg';
				var addy_text0d0af6a0212e4032
 2078a6b456c161d0 = 'jr&#111;hd&#101;' + '&#64;' + '&#97;rc&#117;s' + '&#46;
 ' + '&#111;rg';document.getElementById('cloak0d0af6a0212e40322078a6b456c161
 d0').innerHTML += '<a ' + path + '\'' + prefix + ':' + addy0d0af6a0212e4032
 2078a6b456c161d0 + '\'>'+addy_text0d0af6a0212e40322078a6b456c161d0+'';
		 \
 nPhone: 206-931-0090\n
X-ALT-DESC;FMTTYPE=text/html:<p style="text-align: justify;"><strong>Webinar date/time:</strong> Friday,
  6 April 2018, 1:00 p.m. Eastern Daylight Time</p><p style="text-align: jus
 tify;"><a href="https://www.arcus.org/sites/all/modules/civicrm/extern/url.
 php?u=8057&amp;qid=1085256" target="_blank" rel="noopener">The Interagency 
 Arctic Research Policy Committee (IARPC)</a> Collaborations invites attenda
 nce for a webinar titled Narwhal: Revealing an Arctic Legend. This webinar 
 will be held via Zoom Video Conferencing at 1:00 p.m. Eastern Daylight Time
  on Friday, 6 April 2018.</p><p style="text-align: justify;"><strong>Webina
 r Summary:</strong></p><p style="text-align: justify;">In this webinar, a d
 entist and an archaeologist team up to reveal one of the least-known animal
 s in the world, including the purpose of its mighty tooth. William Fitzhugh
 , Director of the Arctic Studies Center at Smithsonian's National Museum of
  Natural History (SMNH) and Martin Nweeia, Dentist and Clinical instructor 
 at the Harvard School of Dental Medicine, will guide attendees through <em>
 Narwhal: Revealing an Arctic Legend</em>, both an exhibit at the SMNH and a
  companion book by Fitzhugh and Nweeia. In addition to an exhibit tour, the
  two will present collaborations between Inuit and scientific communities t
 hat are deepening our knowledge of the narwhal and revealing a picture of a
  changing Arctic.</p><p style="text-align: justify;">For more information a
 nd instructions on how to join the webinar, go to:<br /><a href="https://ww
 w.arcus.org/sites/all/modules/civicrm/extern/url.php?u=8055&amp;qid=1085256
 " target="_blank" rel="noopener">IARPC Collaborations Webinar Series homepa
 ge</a></p><p style="text-align: justify;">For questions, contact:<br />Jess
 ica Rohde<br />Email: <span id="cloak5d5d5617adfde1ef396c075c68268fcd"><spa
 n id="cloak0d0af6a0212e40322078a6b456c161d0">This email address is being pr
 otected from spambots. You need JavaScript enabled to view it.</span><scrip
 t type='text/javascript'>
				document.getElementById('cloak0d0af6a0212e403
 22078a6b456c161d0').innerHTML = '';
				var prefix = '&#109;a' + 'i&#108;' 
 + '&#116;o';
				var path = 'hr' + 'ef' + '=';
				var addy0d0af6a0212e4032
 2078a6b456c161d0 = 'jr&#111;hd&#101;' + '&#64;';
				addy0d0af6a0212e403220
 78a6b456c161d0 = addy0d0af6a0212e40322078a6b456c161d0 + '&#97;rc&#117;s' + 
 '&#46;' + '&#111;rg';
				var addy_text0d0af6a0212e40322078a6b456c161d0 = '
 jr&#111;hd&#101;' + '&#64;' + '&#97;rc&#117;s' + '&#46;' + '&#111;rg';docum
 ent.getElementById('cloak0d0af6a0212e40322078a6b456c161d0').innerHTML += '<
 a ' + path + '\'' + prefix + ':' + addy0d0af6a0212e40322078a6b456c161d0 + '
 \'>'+addy_text0d0af6a0212e40322078a6b456c161d0+'<\/a>';
		</script></span> 
 <br />Phone: 206-931-0090</p>
CONTACT:Jessica Rohde: This email address is being protected from spambots. You need JavaScript enabled to view it.
				document.getElementById('cloak717d2ad148c88cf759c4d18207e13ce2').innerHTML = '';
				var prefix = '&#109;a' + 'i&#108;' + '&#116;o';
				var path = 'hr' + 'ef' + '=';
				var addy717d2ad148c88cf759c4d18207e13ce2 = 'jr&#111;hd&#101;' + '&#64;';
				addy717d2ad148c88cf759c4d18207e13ce2 = addy717d2ad148c88cf759c4d18207e13ce2 + '&#97;rc&#117;s' + '&#46;' + '&#111;rg';
				var addy_text717d2ad148c88cf759c4d18207e13ce2 = 'jr&#111;hd&#101;' + '&#64;' + '&#97;rc&#117;s' + '&#46;' + '&#111;rg';document.getElementById('cloak717d2ad148c88cf759c4d18207e13ce2').innerHTML += '<a ' + path + '\'' + prefix + ':' + addy717d2ad148c88cf759c4d18207e13ce2 + '\'>'+addy_text717d2ad148c88cf759c4d18207e13ce2+'';
		
DTSTAMP:20260419T221553Z
DTSTART;TZID=UTC:20180406T130000
SEQUENCE:0
TRANSP:OPAQUE
END:VEVENT
END:VCALENDAR